Workbook

Sheet Приложение1
C1: Приложение 1 к решению Совета депутатов Кочуновского сельского поселения Ромодановского муниципального района Республики Мордовия «О бюджете Кочуновского сельского поселения Ромодановского муниципального района Республики Мордовия на 2022 год и на плановый период 2023 и 2024 годов»от 29.12.2021г №14
A6: ОБЪЕМ БЕЗВОЗМЕЗДНЫХ ПОСТУПЛЕНИЙ В БЮДЖЕТ КОЧУНОВСКОГО СЕЛЬСКОГО ПОСЕЛЕНИЯ РОМОДАНОВСКОГО МУНИЦИПАЛЬНОГО РАЙОНА РЕСПУБЛИКИ МОРДОВИЯ НА 2022 ГОД И НА ПЛАНОВЫЙ ПЕРИОД 2023 И 2024 ГОДОВ
E7: (тыс. рублей)
A8: Код | B8: Наименование | C8: Сумма
C9: 2022 год | D9: 2023 год | E9: 2024 год
A10: 1 | B10: 2 | C10: 3 | D10: 4 | E10: 5
A11: 2 00 00000 00 0000 000 | B11: БЕЗВОЗМЕЗДНЫЕ ПОСТУПЛЕНИЯ | C11: =C12+C35 -> 1649.3 | D11: =D12+D35 -> 589.2 | E11: =E12+E35 -> 598.5
A12: 2 02 00000 00 0000 000 | B12: Безвозмездные поступления от других бюджетов бюджетной системы Российской Федерации | C12: =C13+C18+C25+C30 -> 1649.3 | D12: =D13+D18+D25+D30 -> 589.2 | E12: =E13+E18+E25+E30 -> 598.5
A13: 2 02 10000 00 0000 150 | B13: Дотации бюджетам бюджетной системы Российской Федерации | C13: =C14+C16 -> 718.8 | D13: =D14+D16 -> 288.7 | E13: =E14+E16 -> 294.8
A14: 2 02 15001 00 0000 150 | B14: Дотации на выравнивание бюджетной обеспеченности | C14: =C15 -> 372.2 | D14: =D15 -> 288.7 | E14: =E15 -> 294.8
A15: 2 02 15001 10 0000 150 | B15: Дотации бюджетам сельских поселений на выравнивание бюджетной обеспеченности из бюджета субъекта Российской Федерации | C15: 372.2 | D15: 288.7 | E15: 294.8
A16: 2 02 15002 00 0000 150 | B16: Дотации бюджетам на поддержку мер по обеспечению сбалансированности бюджетов | C16: =C17 -> 346.6 | D16: =D17 -> 0 | E16: =E17 -> 0
A17: 2 02 15002 10 0000 150 | B17: Дотации бюджетам сельских поселений на поддержку мер по обеспечению сбалансированности бюджетов | C17: 346.6
A18: 2 02 20000 00 0000 150 | B18: Субсидии бюджетам бюджетной системы Российской Федерации (межбюджетные субсидии) | C18: =C19+C21+C23 -> 298 | D18: =D19+D21+D23 -> 0 | E18: =E19+E21+E23 -> 0
A19: 2 02 25555 00 0000 150 | B19: Субсидии бюджетам на реализацию программ формирования современной городской среды | C19: =C20 -> 0 | D19: =D20 -> 0 | E19: =E20 -> 0
A20: 2 02 25555 10 0000 150 | B20: Субсидии бюджетам на реализацию программ формирования современной городской среды
A21: 2 02 25576 00 0000 150 | B21: Субсидии бюджетам на обеспечение комплексного развития сельских территорий | C21: =C22 -> 0 | D21: =D22 -> 0 | E21: =E22 -> 0
A22: 2 02 25576 10 0000 150 | B22: Субсидии бюджетам на обеспечение комплексного развития сельских территорий
A23: 2 02 29999 00 0000 150 | B23: Прочие субсидии | C23: =C24 -> 298 | D23: =D24 -> 0 | E23: =E24 -> 0
A24: 2 02 29999 10 0000 150 | B24: Прочие субсидии бюджетам сельских поселений | C24: 298
A25: 2 02 30000 00 0000 150 | B25: Субвенции бюджетам бюджетной системы Российской Федерации | C25: =C26+C28 -> 90 | D25: =D26+D28 -> 93 | E25: =E26+E28 -> 96.2
A26: 2 02 30024 00 0000 150 | B26: Субвенции местным бюджетам на выполнение передаваемых полномочий субъектов Российской Федерации | C26: =C27 -> 0.2 | D26: =D27 -> 0.2 | E26: =E27 -> 0.2
A27: 2 02 30024 10 0000 150 | B27: Субвенции бюджетам сельских поселений на выполнение передаваемых полномочий субъектов Российской Федерации | C27: 0.2 | D27: 0.2 | E27: 0.2
A28: 2 02 35118 00 0000 150 | B28: Субвенции бюджетам на осуществление первичного воинского учета на территориях, где отсутствуют военные комиссариаты | C28: =C29 -> 89.8 | D28: =D29 -> 92.8 | E28: =E29 -> 96
A29: 2 02 35118 10 0000 150 | B29: Субвенции бюджетам сельских поселений на осуществление первичного воинского учета на территориях, где отсутствуют военные комиссариаты | C29: 89.8 | D29: 92.8 | E29: 96
A30: 2 02 40000 00 0000 150 | B30: Иные межбюджетные трансферты | C30: =C31 -> 542.5 | D30: =D31 -> 207.5 | E30: =E31 -> 207.5
A31: 2 02 40014 00 0000 150 | B31: Межбюджетные трансферты, передаваемые бюджетам муниципальных образований на осуществление части полномочий по решению вопросов местного значения в соответствии с заключенными соглашениями | C31: =C32 -> 542.5 | D31: =D32 -> 207.5 | E31: =E32 -> 207.5
A32: 2 02 40014 10 0000 150 | B32: Межбюджетные трансферты, передаваемые бюджетам сельских поселений из бюджетов муниципальных районов на осуществление части полномочий по решению вопросов местного значения в соответствии с заключенными соглашениями | C32: 542.5 | D32: 207.5 | E32: 207.5
A33: 2 02 49999 00 0000 150 | B33: Прочие межбюджетные трансферты, передаваемые бюджетам | C33: =C34 -> 0 | D33: =D34 -> 0 | E33: =E34 -> 0
A34: 2 02 49999 10 0000 150 | B34: Прочие межбюджетные трансферты , передаваемые бюджетам сельских поселений
A35: 2 07 00000 00 0000 000 | B35: Прочие безвозмездные поступления | C35: =C36 -> 0 | D35: =D36 -> 0 | E35: =E36 -> 0
A36: 2 07 05000 10 0000 150 | B36: Прочие безвозмезные поступления в бюджеты сельских поселений

Sheet Приложение 2
I1: Приложение 2 к решению Совета депутатов Кочуновского сельского поселения Ромодановского муниципального района Республики Мордовия «О бюджете Кочуновского сельского поселения Ромодановского муниципального района Республики Мордовия на 2022 год и на плановый период 2023 и 2024 годов»от 29.12.2021г.№14
A2: ВЕДОМСТВЕННАЯ СТРУКТУРА РАСХОДОВ БЮДЖЕТА КОЧУНОВСКОГО СЕЛЬСКОГО ПОСЕЛЕНИЯ РОМОДАНОВСКОГО МУНИЦИПАЛЬНОГО РАЙОНА РЕСПУБЛИКИ МОРДОВИЯ НА 2022 ГОД И НА ПЛАНОВЫЙ ПЕРИОД 2023 И 2024 ГОДОВ
I3: (тыс. рублей)
A4: Наименование | B4: Адм | C4: Рз | D4: Прз | E4: Цср | I4: Вр | J4: Сумма
J5: 2022 год | K5: 2023 год | L5: 2024 год
A6: 1 | B6: 2 | C6: 3 | D6: 4 | E6: 5 | F6: 6 | G6: 7 | H6: 8 | I6: 9 | J6: 10 | K6: 11 | L6: 12
A7: ВСЕГО | J7: =J8 -> 2465.3 | K7: =K8 -> 1208.7 | L7: =L8 -> 1230.6
A8: Администрация Кочуновского сельского поселения Ромодановского муниципального района Республики Мордовия | B8: 913 | J8: =J9+J45+J55+J72+J92 -> 2465.3 | K8: =K9+K45+K55+K72+K92+K99 -> 1208.7 | L8: =L9+L45+L55+L72+L92+L99 -> 1230.6
A9: Общегосударственные вопросы | B9: 913 | C9: 01 | J9: =J10+J19+J39 -> 1436.7 | K9: =K10+K19+K39 -> 642.5 | L9: =L10+L19+L39 -> 632.4
A10: Функционирование высшего должностного лица субъекта Российской Федерации и муниципального образования | B10: 913 | C10: 01 | D10: 02 | J10: =J11+J16 -> 537.8 | K10: =K11 -> 260.2 | L10: =L11 -> 242.4
A11: Обеспечение деятельности аппарата Администрации | B11: 913 | C11: 01 | D11: 02 | E11: 65 | F11: 0 | J11: =J12 -> 370 | K11: =K12 -> 260.2 | L11: =L12 -> 242.4
A12: Высшее должностное лицо | B12: 913 | C12: 01 | D12: 02 | E12: 65 | F12: 1 | J12: =J13 -> 370 | K12: =K13 -> 260.2 | L12: =L13 -> 242.4
A13: Расходы на выплаты по оплате труда высшего должностного лица | B13: 913 | C13: 01 | D13: 02 | E13: 65 | F13: 1 | G13: 00 | H13: 41150 | J13: =J14 -> 370 | K13: =K14 -> 260.2 | L13: =L14 -> 242.4
A14: Расходы на выплаты персоналу в целях обеспечения выполнения функций государственными (муниципальными) органами, казенными учреждениями, органами управления государственными внебюджетными фондами | B14: 913 | C14: 01 | D14: 02 | E14: 65 | F14: 1 | G14: 00 | H14: 41150 | I14: 100 | J14: =J15 -> 370 | K14: =K15 -> 260.2 | L14: =L15 -> 242.4
A15: Расходы на выплаты персоналу государственных (муниципальных) органов | B15: 913 | C15: 01 | D15: 02 | E15: 65 | F15: 1 | G15: 00 | H15: 41150 | I15: 120 | J15: 370 | K15: 260.2 | L15: 242.4
A16: Субсидии на софинансирование расходных обязательств по финансовому обеспечению деятельности органов местного самоуправления и муниципальных учреждений | B16: 913 | C16: 01 | D16: 02 | E16: 65 | F16: 1 | G16: 00 | H16: 44205 | J16: =J17 -> 167.8
A17: =A14 -> Расходы на выплаты персоналу в целях обеспечения выполнения функций государственными (муниципальными) органами, казенными учреждениями, органами управления государственными внебюджетными фондами | B17: 913 | C17: 01 | D17: 02 | E17: 65 | F17: 1 | G17: 00 | H17: 44205 | I17: 100 | J17: =J18 -> 167.8
A18: =A15 -> Расходы на выплаты персоналу государственных (муниципальных) органов | B18: 913 | C18: 01 | D18: 02 | E18: 65 | F18: 1 | G18: 00 | H18: 44205 | I18: 120 | J18: 167.8
A19: Функционирование Правительства Российской Федерации, высших исполнительных органов государственной власти субъектов Российской Федерации, местных администраций | B19: 913 | C19: 01 | D19: 04 | J19: =J20+J34+J25 -> 893.9 | K19: =K20+K34 -> 377.3 | L19: =L20+L34 -> 385
A20: Обеспечение деятельности аппарата администрации Кочуновского сельского поселения | B20: 913 | C20: 01 | D20: 04 | E20: 65 | F20: 0 | J20: =J21 -> 763.5 | K20: =K21 -> 377.1 | L20: =L21 -> 384.8
A21: Обеспечение деятельности администрации сельских поселений | B21: 913 | C21: 01 | D21: 04 | E21: 65 | F21: 2 | J21: =J22+J28 -> 763.5 | K21: =K22+K28 -> 377.1 | L21: =L22+L28 -> 384.8
A22: Расходы на выплаты по оплате труда работников органов местного самоуправления | B22: 913 | C22: 01 | D22: 04 | E22: 65 | F22: 2 | G22: 00 | H22: 41110 | J22: =J23 -> 386.5 | K22: =K23 -> 272.1 | L22: =L23 -> 274.8
A23: Расходы на выплаты персоналу в целях обеспечения выполнения функций государственными (муниципальными) органами, казенными учреждениями, органами управления государственными внебюджетными фондами | B23: 913 | C23: 01 | D23: 04 | E23: 65 | F23: 2 | G23: 00 | H23: 41110 | I23: 100 | J23: =J24 -> 386.5 | K23: =K24 -> 272.1 | L23: =L24 -> 274.8
A24: Расходы на выплаты персоналу государственных (муниципальных) органов | B24: 913 | C24: 01 | D24: 04 | E24: 65 | F24: 2 | G24: 00 | H24: 41110 | I24: 120 | J24: 386.5 | K24: 272.1 | L24: 274.8
A25: =A16 -> Субсидии на софинансирование расходных обязательств по финансовому обеспечению деятельности органов местного самоуправления и муниципальных учреждений | B25: 913 | C25: 01 | D25: 04 | E25: 65 | F25: 2 | G25: 00 | H25: 44205 | J25: =J26 -> 130.2
A26: =A17 -> Расходы на выплаты персоналу в целях обеспечения выполнения функций государственными (муниципальными) органами, казенными учреждениями, органами управления государственными внебюджетными фондами | B26: 913 | C26: 01 | D26: 04 | E26: 65 | F26: 2 | G26: 00 | H26: 44205 | I26: 100 | J26: =J27 -> 130.2
A27: =A18 -> Расходы на выплаты персоналу государственных (муниципальных) органов | B27: 913 | C27: 01 | D27: 04 | E27: 65 | F27: 2 | G27: 00 | H27: 44205 | I27: 120 | J27: 130.2
A28: Расходы на обеспечение функций органов местного самоуправления | B28: 913 | C28: 01 | D28: 04 | E28: 65 | F28: 2 | G28: 00 | H28: 41120 | J28: =+J29+J31 -> 377 | K28: =+K29+K31 -> 105 | L28: =+L29+L31 -> 110
A29: Закупка товаров, работ и услуг для государственных (муниципальных) нужд | B29: 913 | C29: 01 | D29: 04 | E29: 65 | F29: 2 | G29: 00 | H29: 41120 | I29: 200 | J29: =J30 -> 370 | K29: =K30 -> 100 | L29: =L30 -> 105
A30: Иные закупки товаров, работ и услуг для обеспечения государственных (муниципальных) нужд | B30: 913 | C30: 01 | D30: 04 | E30: 65 | F30: 2 | G30: 00 | H30: 41120 | I30: 240 | J30: 370 | K30: 100 | L30: 105
A31: Иные бюджетные ассигнования | B31: 913 | C31: 01 | D31: 04 | E31: 65 | F31: 2 | G31: 00 | H31: 41120 | I31: 800 | J31: =J32+J33 -> 7 | K31: =K33 -> 5 | L31: =L33 -> 5
A32: исполнение судебных актов | B32: 913 | C32: 01 | D32: 04 | E32: 65 | F32: 2 | G32: 00 | H32: 41120 | I32: 830 | J32: 4
A33: Уплата налогов, сборов и иных платежей | B33: 913 | C33: 01 | D33: 04 | E33: 65 | F33: 2 | G33: 00 | H33: 41120 | I33: 850 | J33: 3 | K33: 5 | L33: 5
A34: Непрограммные расходы главных распорядителей бюджетных средств Кочуновского сельского поселения Ромодановского муниципального района Республики Мордовия | B34: 913 | C34: 01 | D34: 04 | E34: 89 | F34: 0 | J34: =J35 -> 0.2 | K34: =K35 -> 0.2 | L34: =L35 -> 0.2
A35: Непрограммные расходы в рамках обеспечения деятельности главных распорядителей бюджетных средств Кочуновского сельского поселения Ромодановского муниципального района Республики Мордовия | B35: 913 | C35: 01 | D35: 04 | E35: 89 | F35: 1 | J35: =J36 -> 0.2 | K35: =K36 -> 0.2 | L35: =L36 -> 0.2
A36: Осуществление государственных полномочий Республики Мордовия по определению перечня должностных лиц, уполномоченных составлять протоколы об административных правонарушениях, предусмотренных Законом Республики Мордовия от 15 июня 2015 года № 38-З "Об административной ответственности на территории Республики Мордовия" | B36: 913 | C36: 01 | D36: 04 | E36: 89 | F36: 1 | G36: 00 | H36: 77150 | J36: =J37 -> 0.2 | K36: =K37 -> 0.2 | L36: =L37 -> 0.2
A37: =A29 -> Закупка товаров, работ и услуг для государственных (муниципальных) нужд | B37: 913 | C37: 01 | D37: 04 | E37: 89 | F37: 1 | G37: 00 | H37: 77150 | I37: 200 | J37: =J38 -> 0.2 | K37: =K38 -> 0.2 | L37: =L38 -> 0.2
A38: Иные закупки товаров, работ и услуг для обеспечения государственных (муниципальных) нужд | B38: 913 | C38: 01 | D38: 04 | E38: 89 | F38: 1 | G38: 00 | H38: 77150 | I38: 240 | J38: 0.2 | K38: 0.2 | L38: 0.2
A39: Резервные фонды | B39: 913 | C39: 01 | D39: 11 | J39: =J40 -> 5 | K39: =K40 -> 5 | L39: =L40 -> 5
A40: Непрограммные расходы главных распорядителей бюджетных средств Кочуновского сельского поселения Ромодановского муниципального района Республики Мордовия | B40: 913 | C40: 01 | D40: 11 | E40: 89 | F40: 0 | J40: =J41 -> 5 | K40: =K41 -> 5 | L40: =L41 -> 5
...

Sheet Приложение 3
H1: Приложение 3 к решению Совета депутатов Кочуновского сельского поселения Ромодановского муниципального района Республики Мордовия «О бюджете Кочуновского сельского поселения Ромодановского муниципального района Республики Мордовия на 2022 год и на плановый период 2023 и 2024 годов»от 29.12.2021г.№14
A2: РАСПРЕДЕЛЕНИЕ БЮДЖЕТНЫХ АССИГНОВАНИЙ БЮДЖЕТА КОЧУНОВСКОГО СЕЛЬСКОГО ПОСЕЛЕНИЯ РОМОДАНОВСКОГО МУНИЦИПАЛЬНОГО РАЙОНА РЕСПУБЛИКИ МОРДОВИЯ ПО РАЗДЕЛАМ, ПОДРАЗДЕЛАМ, ЦЕЛЕВЫМ СТАТЬЯМ (МУНИЦИПАЛЬНЫМ ПРОГРАММАМ И НЕПРОГРАММНЫМ НАПРАВЛЕНИЯМ ДЕЯТЕЛЬНОСТИ), ГРУППАМ И ПОДГРУППАМ ВИДОВ РАСХОДОВ КЛАССИФИКАЦИИ РАСХОДОВ БЮДЖЕТОВ НА 2022 ГОД И НА ПЛАНОВЫЙ ПЕРИОД 2023 И 2024 ГОДОВ
H3: (тыс. рублей)
A4: Наименование | B4: Рз | C4: Прз | D4: Цср | H4: Вр | I4: Сумма
I5: 2022 год | J5: 2023 год | K5: 2024 год
A6: ВСЕГО | B6: 2 | C6: 3 | D6: 4 | E6: 5 | F6: 6 | G6: 7 | H6: 8 | I6: 9 | J6: 10 | K6: 11
A7: Администрация Кочуновского сельского поселения Ромодановского муниципального района Республики Мордовия | I7: =I8+I44+I54+I71+I91 -> 2465.3 | J7: =J8+J44+J54+J71+J91+J98 -> 1208.7 | K7: =K8+K44+K54+K71+K91+K98 -> 1230.6
A8: Общегосударственные вопросы | B8: 01 | I8: =I9+I18+I38 -> 1436.7 | J8: =J9+J18+J38 -> 642.5 | K8: =K9+K18+K38 -> 632.4
A9: Функционирование высшего должностного лица субъекта Российской Федерации и муниципального образования | B9: 01 | C9: 02 | I9: =I10+I15 -> 537.8 | J9: =J10 -> 260.2 | K9: =K10 -> 242.4
A10: Обеспечение деятельности аппарата Администрации | B10: 01 | C10: 02 | D10: 65 | E10: 0 | I10: =I11 -> 370 | J10: =J11 -> 260.2 | K10: =K11 -> 242.4
A11: Высшее должностное лицо | B11: 01 | C11: 02 | D11: 65 | E11: 1 | I11: =I12 -> 370 | J11: =J12 -> 260.2 | K11: =K12 -> 242.4
A12: Расходы на выплаты по оплате труда высшего должностного лица | B12: 01 | C12: 02 | D12: 65 | E12: 1 | F12: 00 | G12: 41150 | I12: =I13 -> 370 | J12: =J13 -> 260.2 | K12: =K13 -> 242.4
A13: Расходы на выплаты персоналу в целях обеспечения выполнения функций государственными (муниципальными) органами, казенными учреждениями, органами управления государственными внебюджетными фондами | B13: 01 | C13: 02 | D13: 65 | E13: 1 | F13: 00 | G13: 41150 | H13: 100 | I13: =I14 -> 370 | J13: =J14 -> 260.2 | K13: =K14 -> 242.4
A14: Расходы на выплаты персоналу государственных (муниципальных) органов | B14: 01 | C14: 02 | D14: 65 | E14: 1 | F14: 00 | G14: 41150 | H14: 120 | I14: ='Приложение 2'!J15 -> 370 | J14: ='Приложение 2'!K15 -> 260.2 | K14: ='Приложение 2'!L15 -> 242.4
A15: ='Приложение 2'!A16 -> Субсидии на софинансирование расходных обязательств по финансовому обеспечению деятельности органов местного самоуправления и муниципальных учреждений | B15: 01 | C15: 02 | D15: 65 | E15: 1 | F15: 00 | G15: 44205 | I15: =I16 -> 167.8
A16: ='Приложение 2'!A17 -> Расходы на выплаты персоналу в целях обеспечения выполнения функций государственными (муниципальными) органами, казенными учреждениями, органами управления государственными внебюджетными фондами | B16: 01 | C16: 02 | D16: 65 | E16: 1 | F16: 00 | G16: 44205 | H16: 100 | I16: =I17 -> 167.8
A17: ='Приложение 2'!A18 -> Расходы на выплаты персоналу государственных (муниципальных) органов | B17: 01 | C17: 02 | D17: 65 | E17: 1 | F17: 00 | G17: 44205 | H17: 120 | I17: ='Приложение 2'!J18 -> 167.8
A18: Функционирование Правительства Российской Федерации, высших исполнительных органов государственной власти субъектов Российской Федерации, местных администраций | B18: 01 | C18: 04 | I18: =I19+I33+I24 -> 893.9 | J18: =J19+J33 -> 377.3 | K18: =K19+K33 -> 385
A19: ='Приложение 2'!A20 -> Обеспечение деятельности аппарата администрации Кочуновского сельского поселения | B19: 01 | C19: 04 | D19: 65 | E19: 0 | I19: =I20 -> 763.5 | J19: =J20 -> 377.1 | K19: =K20 -> 384.8
A20: ='Приложение 2'!A21 -> Обеспечение деятельности администрации сельских поселений | B20: 01 | C20: 04 | D20: 65 | E20: 2 | I20: =I21+I27 -> 763.5 | J20: =J21+J27 -> 377.1 | K20: =K21+K27 -> 384.8
A21: Расходы на выплаты по оплате труда работников органов местного самоуправления | B21: 01 | C21: 04 | D21: 65 | E21: 2 | F21: 00 | G21: 41110 | I21: =I22 -> 386.5 | J21: =J22 -> 272.1 | K21: =K22 -> 274.8
A22: Расходы на выплаты персоналу в целях обеспечения выполнения функций государственными (муниципальными) органами, казенными учреждениями, органами управления государственными внебюджетными фондами | B22: 01 | C22: 04 | D22: 65 | E22: 2 | F22: 00 | G22: 41110 | H22: 100 | I22: =I23 -> 386.5 | J22: =J23 -> 272.1 | K22: =K23 -> 274.8
A23: Расходы на выплаты персоналу государственных (муниципальных) органов | B23: 01 | C23: 04 | D23: 65 | E23: 2 | F23: 00 | G23: 41110 | H23: 120 | I23: ='Приложение 2'!J24 -> 386.5 | J23: ='Приложение 2'!K24 -> 272.1 | K23: ='Приложение 2'!L24 -> 274.8
A24: ='Приложение 2'!A25 -> Субсидии на софинансирование расходных обязательств по финансовому обеспечению деятельности органов местного самоуправления и муниципальных учреждений | B24: 01 | C24: 04 | D24: 65 | E24: 2 | F24: 00 | G24: 44205 | I24: =I25 -> 130.2
A25: ='Приложение 2'!A26 -> Расходы на выплаты персоналу в целях обеспечения выполнения функций государственными (муниципальными) органами, казенными учреждениями, органами управления государственными внебюджетными фондами | B25: 01 | C25: 04 | D25: 65 | E25: 2 | F25: 00 | G25: 44205 | H25: 100 | I25: =I26 -> 130.2
A26: ='Приложение 2'!A27 -> Расходы на выплаты персоналу государственных (муниципальных) органов | B26: 01 | C26: 04 | D26: 65 | E26: 2 | F26: 00 | G26: 44205 | H26: 120 | I26: ='Приложение 2'!J27 -> 130.2
A27: Расходы на обеспечение функций органов местного самоуправления | B27: 01 | C27: 04 | D27: 65 | E27: 2 | F27: 00 | G27: 41120 | I27: =+I28+I30 -> 377 | J27: =+J28+J30 -> 105 | K27: =+K28+K30 -> 110
A28: ='Приложение 2'!A29 -> Закупка товаров, работ и услуг для государственных (муниципальных) нужд | B28: 01 | C28: 04 | D28: 65 | E28: 2 | F28: 00 | G28: 41120 | H28: 200 | I28: =I29 -> 370 | J28: =J29 -> 100 | K28: =K29 -> 105
A29: Иные закупки товаров, работ и услуг для обеспечения государственных (муниципальных) нужд | B29: 01 | C29: 04 | D29: 65 | E29: 2 | F29: 00 | G29: 41120 | H29: 240 | I29: ='Приложение 2'!J30 -> 370 | J29: ='Приложение 2'!K30 -> 100 | K29: ='Приложение 2'!L30 -> 105
A30: Иные бюджетные ассигнования | B30: 01 | C30: 04 | D30: 65 | E30: 2 | F30: 00 | G30: 41120 | H30: 800 | I30: =I32+I31 -> 7 | J30: =J32 -> 5 | K30: =K32 -> 5
A31: ='Приложение 2'!A32 -> исполнение судебных актов | B31: 01 | C31: 04 | D31: 65 | E31: 2 | F31: 00 | G31: 41120 | H31: 830 | I31: ='Приложение 2'!J32 -> 4
A32: Уплата налогов, сборов и иных платежей | B32: 01 | C32: 04 | D32: 65 | E32: 2 | F32: 00 | G32: 41120 | H32: 850 | I32: ='Приложение 2'!J33 -> 3 | J32: ='Приложение 2'!K33 -> 5 | K32: ='Приложение 2'!L33 -> 5
A33: Непрограммные расходы главных распорядителей бюджетных средств Кочуновского сельского поселения Ромодановского муниципального района Республики Мордовия | B33: 01 | C33: 04 | D33: 89 | E33: 0 | I33: =I34 -> 0.2 | J33: =J34 -> 0.2 | K33: =K34 -> 0.2
A34: Непрограммные расходы в рамках обеспечения деятельности главных распорядителей бюджетных средств Кочуновского сельского поселения Ромодановского муниципального района Республики Мордовия | B34: 01 | C34: 04 | D34: 89 | E34: 1 | I34: =I35 -> 0.2 | J34: =J35 -> 0.2 | K34: =K35 -> 0.2
A35: Осуществление государственных полномочий Республики Мордовия по определению перечня должностных лиц, уполномоченных составлять протоколы об административных правонарушениях, предусмотренных Законом Республики Мордовия от 15 июня 2015 года № 38-З "Об административной ответственности на территории Республики Мордовия" | B35: 01 | C35: 04 | D35: 89 | E35: 1 | F35: 00 | G35: 77150 | I35: =I36 -> 0.2 | J35: =J36 -> 0.2 | K35: =K36 -> 0.2
A36: =A28 -> Закупка товаров, работ и услуг для государственных (муниципальных) нужд | B36: 01 | C36: 04 | D36: 89 | E36: 1 | F36: 00 | G36: 77150 | H36: 200 | I36: =I37 -> 0.2 | J36: =J37 -> 0.2 | K36: =K37 -> 0.2
A37: Иные закупки товаров, работ и услуг для обеспечения государственных (муниципальных) нужд | B37: 01 | C37: 04 | D37: 89 | E37: 1 | F37: 00 | G37: 77150 | H37: 240 | I37: ='Приложение 2'!J38 -> 0.2 | J37: ='Приложение 2'!K38 -> 0.2 | K37: ='Приложение 2'!L38 -> 0.2
A38: Резервные фонды | B38: 01 | C38: 11 | I38: =I39 -> 5 | J38: =J39 -> 5 | K38: =K39 -> 5
A39: Непрограммные расходы главных распорядителей бюджетных средств Кочуновского сельского поселения Ромодановского муниципального района Республики Мордовия | B39: 01 | C39: 11 | D39: 89 | E39: 0 | I39: =I40 -> 5 | J39: =J40 -> 5 | K39: =K40 -> 5
A40: Непрограммные расходы в рамках обеспечения деятельности главных распорядителей бюджетных средств Кочуновского сельского поселения Ромодановского муниципального района Республики Мордовия | B40: 01 | C40: 11 | D40: 89 | E40: 1 | I40: =I41 -> 5 | J40: =J41 -> 5 | K40: =K41 -> 5
...

Sheet Приложение 4
I1: Приложение 4 к решению Совета депутатов Кочуновского сельского поселения Ромодановского муниципального района Республики Мордовия «О бюджете Кочуновского сельского поселения Ромодановского муниципального района Республики Мордовия на 2022 год и на плановый период 2023 и 2024 годов»от 29.12.2021г.№14
A2: РАСПРЕДЕЛЕНИЕ БЮДЖЕТНЫХ АССИГНОВАНИЙ БЮДЖЕТА КОЧУНОВСКОГО СЕЛЬСКОГО ПОСЕЛЕНИЯ РОМОДАНОВСКОГО МУНИЦИПАЛЬНОГО РАЙОНА РЕСПУБЛИКИ МОРДОВИЯ ПО ЦЕЛЕВЫМ СТАТЬЯМ (МУНИЦИПАЛЬНЫМ ПРОГРАММАМ И НЕПРОГРАММНЫМ НАПРАВЛЕНИЯМ ДЕЯТЕЛЬНОСТИ), ГРУППАМ И ПОДГРУППАМ ВИДОВ РАСХОДОВ, РАЗДЕЛАМ И ПОДРАЗДЕЛАМ КЛАССИФИКАЦИИ РАСХОДОВ БЮДЖЕТОВ НА 2022 ГОД И НА ПЛАНОВЫЙ ПЕРИОД 2023 И 2024 ГОДОВ
I3: (тыс. рублей)
A4: Наименование | B4: Цср | F4: ВР | G4: Рз | H4: Прз | I4: Адм | J4: Сумма
J5: 2022 год | K5: 2023 год | L5: 2024 год
A6: 1 | B6: 2 | C6: 3 | D6: 4 | E6: 5 | F6: 6 | G6: 7 | H6: 8 | I6: 9 | J6: 10 | K6: 11 | L6: 12
A7: ВСЕГО | J7: =J8+J38+J52+J85+J17+J99 -> 2465.3 | K7: =K8+K19+K38+K52+K85+K130+K101+K107+K60 -> 1208.7 | L7: =L8+L19+L38+L52+L85+L130+L60+L101+L107 -> 1230.6
A8: ='Приложение 2'!A57 -> Муниципальная программа "Комплексного развития транспортной инфраструктуры Кочуновского сельского поселения Ромодановского муниципального района Республики Мордовия на 2018- 2028 года"(с перспективой развития до 2030 года) | B8: 10 | C8: 0 | J8: =J10 -> 249 | K8: =K10 -> 207.5 | L8: =L10 -> 207.5
A9: Подпрограмма «Комплексного развития транспортной инфраструктуры Кочуновского сельского поселения Ромодановского муниципального района Республики Мордовия на 2018- 2028года" (с перспективой развития до 2030 года) | B9: 10 | C9: 1 | J9: =J10 -> 249 | K9: =K10 -> 207.5 | L9: =L10 -> 207.5
A10: Основное мероприятие "Ремонт и содержание дорог в границах поселения,поддержание дорожного полотна в работоспособном состоянии" | B10: 10 | C10: 1 | D10: 02 | J10: =J11 -> 249 | K10: =K11 -> 207.5 | L10: =L11 -> 207.5
A11: ='Приложение 2'!A60 -> Иные межбюджетные трансферты на осуществление полномочий по дорожной деятельности в отношении автомобильных дорог местного значения в границах населенных пунктов поселения и обеспечению безопасности дорожного движения на них, включая создание и обеспечение функционирования парковок (парковочных мест), осуществлению муниципального контроля за сохранностью автомобильных дорог местного значения в границах населенных пунктов поселения, организации дорожного движения, а также осуществлению иных полномочий в области использования автомобильных дорог и осуществления дорожной деятельности в соответствии с законодательством Российской Федерации | B11: 10 | C11: 1 | D11: 02 | E11: 44102 | J11: =J12 -> 249 | K11: =K12 -> 207.5 | L11: =L12 -> 207.5
A12: ='Приложение 2'!A67 -> Закупка товаров, работ и услуг для государственных (муниципальных) нужд | B12: 10 | C12: 1 | D12: 02 | E12: 44102 | F12: 200 | J12: =J13 -> 249 | K12: =K13 -> 207.5 | L12: =L13 -> 207.5
A13: Иные закупки товаров, работ и услуг для обеспечения государственных (муниципальных) нужд | B13: 10 | C13: 1 | D13: 02 | E13: 44102 | F13: 240 | J13: =J14 -> 249 | K13: =K14 -> 207.5 | L13: =L14 -> 207.5
A14: Национальная экономика | B14: 10 | C14: 1 | D14: 02 | E14: 44102 | F14: 240 | G14: 04 | J14: =J15 -> 249 | K14: =K15 -> 207.5 | L14: =L15 -> 207.5
A15: Дорожное хозяйство | B15: 10 | C15: 1 | D15: 02 | E15: 44102 | F15: 240 | G15: 04 | H15: 09 | J15: =J16 -> 249 | K15: =K16 -> 207.5 | L15: =L16 -> 207.5
A16: Администрация Кочуновского сельского поселения Ромодановского муниципального района Республики Мордовия | B16: 10 | C16: 1 | D16: 02 | E16: 44102 | F16: 240 | G16: 04 | H16: 09 | I16: 913 | J16: ='Приложение 2'!J62 -> 249 | K16: ='Приложение 2'!K62 -> 207.5 | L16: ='Приложение 2'!L62 -> 207.5
A17: ='Приложение 2'!A80 -> Муниципальная программа "Комплексного развития коммунальной инфраструктуры Кочуновского сельского поселения Ромодановского муниципального района Республики Мордовия на 2018-2028 года"( с перспективой развития до 2030 года) | B17: 10 | C17: 0 | J17: =J18 -> 158.3 | K17: =K18 -> 100 | L17: =L18 -> 100
A18: Подпрограмма "Комплексного развития коммунальной инфраструктуры Кочуновского сельского поселения Ромодановского муниципального района Республики Мордовия на 2018-2028 года" (с перспективой развития до 2030 года) | B18: 10 | C18: 1 | J18: =J19+J26 -> 158.3 | K18: =K19 -> 100 | L18: =L19 -> 100
A19: Основное мероприятия "Благоустройство территории"" | B19: 10 | C19: 1 | D19: 07 | J19: =J20+J32 -> 138.3 | K19: =K20 -> 100 | L19: =L20 -> 100
A20: Уличное освещение | B20: 10 | C20: 1 | D20: 07 | E20: 43010 | J20: =J21 -> 100 | K20: =K21 -> 100 | L20: =L21 -> 100
A21: =A12 -> Закупка товаров, работ и услуг для государственных (муниципальных) нужд | B21: 10 | C21: 1 | D21: 07 | E21: 43010 | F21: 200 | J21: =J22 -> 100 | K21: =K22 -> 100 | L21: =L22 -> 100
A22: Иные закупки товаров, работ и услуг для обеспечения государственных (муниципальных) нужд | B22: 10 | C22: 1 | D22: 07 | E22: 43010 | F22: 240 | J22: =J23 -> 100 | K22: =K23 -> 100 | L22: =L23 -> 100
A23: Жилищно-коммунальное хозяйство | B23: 10 | C23: 1 | D23: 07 | E23: 43010 | F23: 240 | G23: 05 | J23: =J24 -> 100 | K23: =K24 -> 100 | L23: =L24 -> 100
A24: Благоустройство | B24: 10 | C24: 1 | D24: 07 | E24: 43010 | F24: 240 | G24: 05 | H24: 03 | J24: =J25 -> 100 | K24: =K25 -> 100 | L24: =L25 -> 100
A25: Администрация Кочуновского сельского поселения Ромодановского муниципального района Республики Мордовия | B25: 10 | C25: 1 | D25: 07 | E25: 43010 | F25: 240 | G25: 05 | H25: 03 | I25: 913 | J25: ='Приложение 2'!J85 -> 100 | K25: ='Приложение 2'!K85 -> 100 | L25: ='Приложение 2'!L85 -> 100
A26: ='Приложение 2'!A86 -> организация и содержание мест захоронения | B26: 10 | C26: 1 | D26: 07 | E26: 43030 | J26: =J27 -> 20
A27: =A21 -> Закупка товаров, работ и услуг для государственных (муниципальных) нужд | B27: 10 | C27: 1 | D27: 07 | E27: 43030 | F27: 200 | J27: =J28 -> 20
A28: =A22 -> Иные закупки товаров, работ и услуг для обеспечения государственных (муниципальных) нужд | B28: 10 | C28: 1 | D28: 07 | E28: 43030 | F28: 240 | J28: =J29 -> 20
A29: =A23 -> Жилищно-коммунальное хозяйство | B29: 10 | C29: 1 | D29: 07 | E29: 43030 | F29: 240 | G29: 05 | J29: =J30 -> 20
A30: =A24 -> Благоустройство | B30: 10 | C30: 1 | D30: 07 | E30: 43030 | F30: 240 | G30: 05 | H30: 03 | J30: =J31 -> 20
A31: =A25 -> Администрация Кочуновского сельского поселения Ромодановского муниципального района Республики Мордовия | B31: 10 | C31: 1 | D31: 07 | E31: 43030 | F31: 240 | G31: 05 | H31: 03 | I31: 913 | J31: ='Приложение 2'!J88 -> 20
A32: ='Приложение 2'!A89 -> Прочие мероприятия по благоустройству | B32: 10 | C32: 1 | D32: 07 | E32: 43040 | J32: =J33 -> 38.3
A33: =A21 -> Закупка товаров, работ и услуг для государственных (муниципальных) нужд | B33: 10 | C33: 1 | D33: 07 | E33: 43040 | F33: 200 | J33: =J34 -> 38.3
A34: =A22 -> Иные закупки товаров, работ и услуг для обеспечения государственных (муниципальных) нужд | B34: 10 | C34: 1 | D34: 07 | E34: 43040 | F34: 240 | J34: =J35 -> 38.3
A35: =A23 -> Жилищно-коммунальное хозяйство | B35: 10 | C35: 1 | D35: 07 | E35: 43040 | F35: 240 | G35: 05 | J35: =J36 -> 38.3
A36: =A24 -> Благоустройство | B36: 10 | C36: 1 | D36: 07 | E36: 43040 | F36: 240 | G36: 05 | H36: 03 | J36: =J37 -> 38.3
A37: =A25 -> Администрация Кочуновского сельского поселения Ромодановского муниципального района Республики Мордовия | B37: 10 | C37: 1 | D37: 07 | E37: 43040 | F37: 240 | G37: 05 | H37: 03 | I37: 913 | J37: ='Приложение 2'!J91 -> 38.3
A38: Программа повышения эффективности управления государственными финансами в Республике Мордовия | B38: 17 | C38: 0 | J38: =J39 -> 89.8 | K38: =K39 -> 92.8 | L38: =L39 -> 96
A39: Подпрограмма "Повышения эффективности межбюджетных отношений" | B39: 17 | C39: 3 | J39: =J40 -> 89.8 | K39: =K40 -> 92.8 | L39: =L40 -> 96
A40: Основное мероприятие: "Обеспечение осуществления органами местного самоуправления отдельных государственных полномочий" | B40: 17 | C40: 3 | D40: 02 | J40: =J41 -> 89.8 | K40: =K41 -> 92.8 | L40: =L41 -> 96
...

Sheet прил 5
C1: Приложение 5
C2: к решению Совета депутатов Кочуновского сельского поселения Ромодановского муниципального района Республики Мордовия "О бюджете Кочуновского сельского поселения Ромодановского муниципального района Республики Мордовия на 2022 год и на плановый период 2023 и 2024 годов"от 29.12.2021г.№14
A3: ИСТОЧНИКИ ВНУТРЕННЕГО ФИНАНСИРОВАНИЯ ДЕФИЦИТА БЮДЖЕТА КОЧУНОВСКОГО СЕЛЬСКОГО ПОСЕЛЕНИЯ РОМОДАНОВСКОГО МУНИЦИПАЛЬНОГО РАЙОНА РЕСПУБЛИКИ МОРДОВИЯ НА 2022 ГОД И НА ПЛАНОВЫЙ ПЕРИОД 2023 и 2024 ГОДОВ
A7: Код | B7: Наименование кода группы, подгруппы, статьи, вида источника финансирования дефицитов бюджетов, кода классификации операций сектора государственного управления, относящихся к источникам финансирования дефицитов бюджетов Российской Федерации | C7: Сумма (тыс. руб.)
C8: 2022 год | D8: 2023 год | E8: 2024 год
A9: 1 | B9: 2 | C9: 3 | D9: 4 | E9: 5
A10: 000 01 00 00 00 00 0000 000 | B10: ИСТОЧНИКИ ВНУТРЕННЕГО ФИНАНСИРОВАНИЯ ДЕФИЦИТОВ БЮДЖЕТОВ | C10: =C11+C22+C14+C18 -> 207.1 | D10: =D11+D22+D14+D18 -> -4.6185278e-14 | E10: =E11+E22+E14+E18 -> 3.1974423e-13
A11: 000 01 02 00 00 00 0000 000 | B11: Кредиты кредитных организаций в валюте Российской Федерации | C11: =SUM(C12) -> 0 | D11: =SUM(D12) -> 0 | E11: =SUM(E12) -> 0
A12: 000 01 02 00 00 00 0000 700 | B12: Привлечение кредитов от кредитных организаций в валюте Российской Федерации | C12: =SUM(C13) -> 0 | D12: =SUM(D13) -> 0 | E12: =SUM(E13) -> 0
A13: 000 01 02 00 00 05 0000 710 | B13: Привлечение кредитов от кредитных организаций бюджетами муниципальных районов в валюте Российской Федерации
A14: 000 01 03 00 00 00 0000 000 | B14: Бюджетные кредиты из других бюджетов бюджетной системы Российской Федерации | C14: =C15 -> -14.2 | D14: =D15 -> -21.3 | E14: =E15 -> -28.4
A15: 000 01 03 01 00 00 0000 000 | B15: Бюджетные кредиты из других бюджетов бюджетной системы Российской Федерации в валюте Российской Федерации | C15: =C16 -> -14.2 | D15: =D16 -> -21.3 | E15: =E16 -> -28.4
A16: 000 01 03 01 00 00 0000 800 | B16: Погашение бюджетных кредитов, полученных из других бюджетов бюджетной системы Российской Федерации в валюте Российской Федерации | C16: =SUM(C17) -> -14.2 | D16: =SUM(D17) -> -21.3 | E16: =SUM(E17) -> -28.4
A17: 000 01 03 01 00 10 0000 810 | B17: Погашение бюджетами сельских поселений кредитов из других бюджетов бюджетной системы Российской Федерации в валюте Российской Федерации | C17: -14.2 | D17: -21.3 | E17: -28.4
A18: 000 01 06 00 00 00 0000 000 | B18: Иные источники внутреннего финансирования дефицитов бюджетов | C18: =C19 -> 0 | D18: =D19 -> 0 | E18: =E19 -> 0
A19: 000 01 06 05 00 00 0000 000 | B19: Бюджетные кредиты, предоставленные внутри страны в валюте Российской Федерации | C19: =C20 -> 0 | D19: =D20 -> 0 | E19: =E20 -> 0
A20: 000 01 06 05 02 00 0000 600 | B20: Возврат бюджетных кредитов, предоставленных другим бюджетам бюджетной системы Российской Федерации в валюте Российской Федерации | C20: =C21 -> 0 | D20: =D21 -> 0 | E20: =E21 -> 0
A21: 000 01 06 05 02 05 0000 640 | B21: Возврат бюджетных кредитов, предоставленных другим бюджетам бюджетной системы Российской Федерации из бюджетов муниципальных районов в валюте Российской Федерации
A22: 000 01 05 00 00 00 0000 000 | B22: Изменения остатков средств на счетах по учету средств бюджета | C22: =C25+C26 -> 221.3 | D22: =D25+D26 -> 21.3 | E22: =E25+E26 -> 28.4
A23: 000 01 05 02 00 00 0000 500 | B23: Увеличение прочих остатков средств бюджетов | C23: =SUM(C24) -> -2258.2 | D23: =SUM(D24) -> -1208.7 | E23: =SUM(E24) -> -1230.6
A24: 000 01 05 02 01 00 0000 510 | B24: Увеличение прочих остатков денежных средств бюджетов | C24: =SUM(C25) -> -2258.2 | D24: =SUM(D25) -> -1208.7 | E24: =SUM(E25) -> -1230.6
A25: 000 01 05 02 01 10 0000 510 | B25: Увеличение прочих остатков денежных средств бюджетов сельских поселений | C25: =-Приложение1!C11-C30 -> -2258.2 | D25: =-Приложение1!D11-D30 -> -1208.7 | E25: =-Приложение1!E11-E30 -> -1230.6
A26: 000 01 05 02 00 00 0000 600 | B26: Уменьшение прочих остатков средств бюджетов | C26: =SUM(C27) -> 2479.5 | D26: =SUM(D27) -> 1230 | E26: =SUM(E27) -> 1259
A27: 000 01 05 02 01 00 0000 610 | B27: Уменьшение прочих остатков денежных средств бюджетов | C27: =SUM(C28) -> 2479.5 | D27: =SUM(D28) -> 1230 | E27: =SUM(E28) -> 1259
A28: 000 01 05 02 01 05 0000 610 | B28: Уменьшение прочих остатков денежных средств бюджетов муниципальных районов | C28: =-C17+'Приложение 2'!J7 -> 2479.5 | D28: =-D17+'Приложение 2'!K7 -> 1230 | E28: =-E17+'Приложение 2'!L7 -> 1259
A29: 000 01 00 00 00 00 0000 000 | B29: Итого источников внутреннего финансирования дефицита бюджета Кочуновского сельского поселения Ромодановского муниципального района Республики Мордовия
B30: собственные доходы | C30: 608.9 | D30: 619.5 | E30: 632.1
