Workbook

Sheet Приложение 1
C1: Приложение 1 к решению Совета депутатов Трофимовщинского сельского поселения Ромодановского муниципального района Республики Мордовия «О бюджете Трофимовщинского сельского поселения Ромодановского муниципального района Республики Мордовия на 2022 год и на плановый период 2023 и 2024 годов»от 29.12.2022г№14
A6: ОБЪЕМ БЕЗВОЗМЕЗДНЫХ ПОСТУПЛЕНИЙ В БЮДЖЕТ ТРОФИМОВЩИНСКОГО СЕЛЬСКОГО ПОСЕЛЕНИЯ РОМОДАНОВСКОГО МУНИЦИПАЛЬНОГО РАЙОНА РЕСПУБЛИКИ МОРДОВИЯ НА 2022 ГОД И НА ПЛАНОВЫЙ ПЕРИОД 2023 И 2024 ГОДОВ
E7: (тыс. рублей)
A8: Код | B8: Наименование | C8: Сумма
C9: 2022 год | D9: 2023 год | E9: 2024 год
A10: 1 | B10: 2 | C10: 3 | D10: 4 | E10: 5
A11: 2 00 00000 00 0000 000 | B11: БЕЗВОЗМЕЗДНЫЕ ПОСТУПЛЕНИЯ | C11: =C13+C21+C26+C19 -> 1495.7 | D11: =D13+D21+D26 -> 314.5 | E11: =E13+E21+E26 -> 317.7
A12: 2 02 00000 00 0000 000 | B12: Безвозмездные поступления от других бюджетов бюджетной системы Российской Федерации | C12: =C21+C26+C19+C13 -> 1495.7 | D12: =D21+D26 -> 314.5 | E12: =E21+E26 -> 317.7
A13: 2 02 10000 00 0000 150 | B13: Дотации бюджетам бюджетной системы Российской Федерации | C13: =C14+C16 -> 423 | D13: =D14+D16 -> 0 | E13: =E14+E16 -> 0
A14: 2 02 15001 00 0000 150 | B14: Дотации на выравнивание бюджетной обеспеченности | C14: =C15 -> 0 | D14: =D15 -> 0 | E14: =E15 -> 0
A15: 2 02 15001 10 0000 150 | B15: Дотации бюджетам сельских поселений на выравнивание бюджетной обеспеченности из бюджета субъекта Российской Федерации
A16: 2 02 15002 00 0000 150 | B16: Дотации бюджетам на поддержку мер по обеспечению сбалансированности бюджетов | C16: =C17 -> 423 | D16: =D17 -> 0 | E16: =E17 -> 0
A17: 2 02 15002 10 0000 150 | B17: Дотации бюджетам сельских поселений на поддержку мер по обеспечению сбалансированности бюджетов | C17: 423
A18: 2 02 20000 00 0000 150 | B18: Субсидии бюджетам бюджетной системы Российской Федерации (межбюджетные субсидии) | C18: =C19 -> 398.7 | D18: =D19 -> 0 | E18: =E19 -> 0
A19: 2 02 29999 00 0000 150 | B19: Прочие субсидии | C19: =C20 -> 398.7 | D19: =D20 -> 0 | E19: =E20 -> 0
A20: 2 02 29999 10 0000 150 | B20: Прочие субсидии бюджетам сельских поселений | C20: 398.7
A21: 2 02 30000 00 0000 150 | B21: Субвенции бюджетам бюджетной системы Российской Федерации | C21: =C22+C24 -> 95.5 | D21: =D22+D24 -> 93 | E21: =E22+E24 -> 96.2
A22: 2 02 30024 00 0000 150 | B22: Субвенции местным бюджетам на выполнение передаваемых полномочий субъектов Российской Федерации | C22: =C23 -> 0.2 | D22: =D23 -> 0.2 | E22: =E23 -> 0.2
A23: 2 02 30024 10 0000 150 | B23: Субвенции бюджетам сельских поселений на выполнение передаваемых полномочий субъектов Российской Федерации | C23: 0.2 | D23: 0.2 | E23: 0.2
A24: 2 02 35118 00 0000 150 | B24: Субвенции бюджетам на осуществление первичного воинского учета органами местного самоуправления поселений,муниципальных и городских округов | C24: =C25 -> 95.3 | D24: =D25 -> 92.8 | E24: =E25 -> 96
A25: 2 02 35118 10 0000 150 | B25: Субвенции бюджетам сельских поселений на осуществление первичного воинского учета органами местного самоуправления поселений,муниципальных и городских округов | C25: 95.3 | D25: 92.8 | E25: 96
A26: 2 02 40000 00 0000 150 | B26: Иные межбюджетные трансферты | C26: =C27 -> 578.5 | D26: =D27 -> 221.5 | E26: =E27 -> 221.5
A27: 2 02 40014 00 0000 150 | B27: Межбюджетные трансферты, передаваемые бюджетам муниципальных образований на осуществление части полномочий по решению вопросов местного значения в соответствии с заключенными соглашениями | C27: =C28 -> 578.5 | D27: =D28 -> 221.5 | E27: =E28 -> 221.5
A28: 2 02 40014 10 0000 150 | B28: Межбюджетные трансферты, передаваемые бюджетам сельских поселений из бюджетов муниципальных районов на осуществление части полномочий по решению вопросов местного значения в соответствии с заключенными соглашениями | C28: 578.5 | D28: 221.5 | E28: 221.5

Sheet Приложение 2
I1: Приложение 2 к решению Совета депутатов Трофимовщинского сельского поселения Ромодановского муниципального района Республики Мордовия «О бюджете Трофимовщинского сельского поселения Ромодановского муниципального района Республики Мордовия на 2022 год и на плановый период 2023 и 2024 годов»от 29.12.2021г.№14
A2: ВЕДОМСТВЕННАЯ СТРУКТУРА РАСХОДОВ БЮДЖЕТА ТРОФИМОВЩИНСКОГО СЕЛЬСКОГО ПОСЕЛЕНИЯ РОМОДАНОВСКОГО МУНИЦИПАЛЬНОГО РАЙОНА РЕСПУБЛИКИ МОРДОВИЯ НА 2022 ГОД И НА ПЛАНОВЫЙ ПЕРИОД 2023 И 2024 ГОДОВ
I3: (тыс. рублей)
A4: Наименование | B4: Адм | C4: Рз | D4: Прз | E4: Цср | I4: Вр | J4: Сумма
J5: 2022 год | K5: 2023 год | L5: 2024 год
A6: 1 | B6: 2 | C6: 3 | D6: 4 | E6: 5 | F6: 6 | G6: 7 | H6: 8 | I6: 9 | J6: 10 | K6: 11 | L6: 12
A7: ВСЕГО | J7: =J8 -> 2493.1 | K7: =K8 -> 1213.2 | L7: =L8 -> 1230.5
A8: Администрация Трофимовщинского сельского поселения Ромодановского муниципального района Республики Мордовия | B8: 924 | J8: =J9+J44+J54+J68+J82 -> 2493.1 | K8: =K9+K44+K54+K68+K82+K89 -> 1213.2 | L8: =L9+L44+L54+L68+L82+L89 -> 1230.5
A9: Общегосударственные вопросы | B9: 924 | C9: 01 | J9: =J10+J19+J38 -> 1470.1 | K9: =K10+K19+K38 -> 663.4 | L9: =L10+L19+L38 -> 648.8
A10: Функционирование высшего должностного лица субъекта Российской Федерации и муниципального образования | B10: 924 | C10: 01 | D10: 02 | J10: =J11+J16 -> 454.1 | K10: =K11 -> 203.3 | L10: =L11 -> 181.6
A11: Обеспечение деятельности аппарата Администрации | B11: 924 | C11: 01 | D11: 02 | E11: 65 | F11: 0 | J11: =J12 -> 337.1 | K11: =K12 -> 203.3 | L11: =L12 -> 181.6
A12: Высшее должностное лицо | B12: 924 | C12: 01 | D12: 02 | E12: 65 | F12: 1 | J12: =J13 -> 337.1 | K12: =K13 -> 203.3 | L12: =L13 -> 181.6
A13: Расходы на выплаты по оплате труда высшего должностного лица | B13: 924 | C13: 01 | D13: 02 | E13: 65 | F13: 1 | G13: 00 | H13: 41150 | J13: =J14 -> 337.1 | K13: =K14 -> 203.3 | L13: =L14 -> 181.6
A14: Расходы на выплаты персоналу в целях обеспечения выполнения функций государственными (муниципальными) органами, казенными учреждениями, органами управления государственными внебюджетными фондами | B14: 924 | C14: 01 | D14: 02 | E14: 65 | F14: 1 | G14: 00 | H14: 41150 | I14: 100 | J14: =J15 -> 337.1 | K14: =K15 -> 203.3 | L14: =L15 -> 181.6
A15: Расходы на выплаты персоналу государственных (муниципальных) органов | B15: 924 | C15: 01 | D15: 02 | E15: 65 | F15: 1 | G15: 00 | H15: 41150 | I15: 120 | J15: 337.1 | K15: 203.3 | L15: 181.6
A16: Субсидии на софинансирование расходных обязательств по финансовому обеспечению деятельности органов местного самоуправления и муниципальных учреждений | B16: 924 | C16: 01 | D16: 02 | E16: 65 | F16: 1 | G16: 00 | H16: 44205 | J16: =J17 -> 117
A17: =A14 -> Расходы на выплаты персоналу в целях обеспечения выполнения функций государственными (муниципальными) органами, казенными учреждениями, органами управления государственными внебюджетными фондами | B17: 924 | C17: 01 | D17: 02 | E17: 65 | F17: 1 | G17: 00 | H17: 44205 | I17: 100 | J17: =J18 -> 117
A18: =A15 -> Расходы на выплаты персоналу государственных (муниципальных) органов | B18: 924 | C18: 01 | D18: 02 | E18: 65 | F18: 1 | G18: 00 | H18: 44205 | I18: 120 | J18: 117
A19: Функционирование Правительства Российской Федерации, высших исполнительных органов государственной власти субъектов Российской Федерации, местных администраций | B19: 924 | C19: 01 | D19: 04 | J19: =J20+J33+J25 -> 1016 | K19: =K20+K33 -> 455.1 | L19: =L20+L33 -> 462.2
A20: Обеспечение деятельности аппарата Администрации | B20: 924 | C20: 01 | D20: 04 | E20: 65 | F20: 0 | J20: =J21 -> 778.6 | K20: =K21 -> 454.9 | L20: =L21 -> 462
A21: Непрограмные расходы в рамках обеспечение деятельности Администраци | B21: 924 | C21: 01 | D21: 04 | E21: 65 | F21: 2 | J21: =J22+J28 -> 778.6 | K21: =K22+K28 -> 454.9 | L21: =L22+L28 -> 462
A22: Расходы на выплаты по оплате труда работников органов местного самоуправления | B22: 924 | C22: 01 | D22: 04 | E22: 65 | F22: 2 | G22: 00 | H22: 41110 | J22: =J23 -> 535.2 | K22: =K23 -> 359.9 | L22: =L23 -> 367
A23: Расходы на выплаты персоналу в целях обеспечения выполнения функций государственными (муниципальными) органами, казенными учреждениями, органами управления государственными внебюджетными фондами | B23: 924 | C23: 01 | D23: 04 | E23: 65 | F23: 2 | G23: 00 | H23: 41110 | I23: 100 | J23: =J24 -> 535.2 | K23: =K24 -> 359.9 | L23: =L24 -> 367
A24: Расходы на выплаты персоналу государственных (муниципальных) органов | B24: 924 | C24: 01 | D24: 04 | E24: 65 | F24: 2 | G24: 00 | H24: 41110 | I24: 120 | J24: 535.2 | K24: 359.9 | L24: 367
A25: =A16 -> Субсидии на софинансирование расходных обязательств по финансовому обеспечению деятельности органов местного самоуправления и муниципальных учреждений | B25: 924 | C25: 01 | D25: 04 | E25: 65 | F25: 2 | G25: 00 | H25: 44205 | J25: =J26 -> 237.2
A26: =A23 -> Расходы на выплаты персоналу в целях обеспечения выполнения функций государственными (муниципальными) органами, казенными учреждениями, органами управления государственными внебюджетными фондами | B26: 924 | C26: 01 | D26: 04 | E26: 65 | F26: 2 | G26: 00 | H26: 44205 | I26: 100 | J26: =J27 -> 237.2
A27: =A24 -> Расходы на выплаты персоналу государственных (муниципальных) органов | B27: 924 | C27: 01 | D27: 04 | E27: 65 | F27: 2 | G27: 00 | H27: 44205 | I27: 120 | J27: 237.2
A28: Расходы на обеспечение функций органов местного самоуправления | B28: 924 | C28: 01 | D28: 04 | E28: 65 | F28: 2 | G28: 00 | H28: 41120 | J28: =+J29+J31 -> 243.4 | K28: =+K29+K31 -> 95 | L28: =+L29+L31 -> 95
A29: Закупка товаров, работ и услуг для обеспечения государственных (муниципальных) нужд | B29: 924 | C29: 01 | D29: 04 | E29: 65 | F29: 2 | G29: 00 | H29: 41120 | I29: 200 | J29: =J30 -> 242.9 | K29: =K30 -> 90 | L29: =L30 -> 90
A30: Иные закупки товаров, работ и услуг для обеспечения государственных (муниципальных) нужд | B30: 924 | C30: 01 | D30: 04 | E30: 65 | F30: 2 | G30: 00 | H30: 41120 | I30: 240 | J30: 242.9 | K30: 90 | L30: 90
A31: Иные бюджетные ассигнования | B31: 924 | C31: 01 | D31: 04 | E31: 65 | F31: 2 | G31: 00 | H31: 41120 | I31: 800 | J31: =J32 -> 0.5 | K31: =K32 -> 5 | L31: =L32 -> 5
A32: Уплата налогов, сборов и иных платежей | B32: 924 | C32: 01 | D32: 04 | E32: 65 | F32: 2 | G32: 00 | H32: 41120 | I32: 850 | J32: 0.5 | K32: 5 | L32: 5
A33: Непрограммные расходы главных распорядителей бюджетных средств Трофимовщинского сельского поселения Ромодановского муниципального района Республики Мордовия | B33: 924 | C33: 01 | D33: 04 | E33: 89 | F33: 0 | J33: =J34 -> 0.2 | K33: =K34 -> 0.2 | L33: =L34 -> 0.2
A34: Непрограммные расходы в рамках обеспечения деятельности главных распорядителей бюджетных средств Трофимовщинского сельского поселения Ромодановского муниципального района Республики Мордовия | B34: 924 | C34: 01 | D34: 04 | E34: 89 | F34: 1 | J34: =J35 -> 0.2 | K34: =K35 -> 0.2 | L34: =L35 -> 0.2
A35: Осуществление государственных полномочий Республики Мордовия по определению перечня должностных лиц, уполномоченных составлять протоколы об административных правонарушениях, предусмотренных Законом Республики Мордовия от 15 июня 2015 года № 38-З "Об административной ответственности на территории Республики Мордовия" | B35: 924 | C35: 01 | D35: 04 | E35: 89 | F35: 1 | G35: 00 | H35: 77150 | J35: =J36 -> 0.2 | K35: =K36 -> 0.2 | L35: =L36 -> 0.2
A36: Закупка товаров, работ и услуг для обеспечения государственных (муниципальных) нужд | B36: 924 | C36: 01 | D36: 04 | E36: 89 | F36: 1 | G36: 00 | H36: 77150 | I36: 200 | J36: =J37 -> 0.2 | K36: =K37 -> 0.2 | L36: =L37 -> 0.2
A37: Иные закупки товаров, работ и услуг для обеспечения государственных (муниципальных) нужд | B37: 924 | C37: 01 | D37: 04 | E37: 89 | F37: 1 | G37: 00 | H37: 77150 | I37: 240 | J37: 0.2 | K37: 0.2 | L37: 0.2
A38: Резервные фонды | B38: 924 | C38: 01 | D38: 11 | J38: =J39 -> 0 | K38: =K39 -> 5 | L38: =L39 -> 5
A39: Непрограммные расходы главных распорядителей бюджетных средств Трофимовщинского сельского поселения Ромодановского муниципального района Республики Мордовия | B39: 924 | C39: 01 | D39: 11 | E39: 89 | F39: 0 | J39: =J40 -> 0 | K39: =K40 -> 5 | L39: =L40 -> 5
A40: Непрограммные расходы в рамках обеспечения деятельности главных распорядителей бюджетных средств Трофимовщинского сельского поселения Ромодановского муниципального района Республики Мордовия | B40: 924 | C40: 01 | D40: 11 | E40: 89 | F40: 1 | J40: =J41 -> 0 | K40: =K41 -> 5 | L40: =L41 -> 5
...

Sheet Приложение 3
H1: Приложение 3 к решению Совета депутатов Трофимовщинского сельского поселения Ромодановского муниципального района Республики Мордовия «О бюджете Трофимовщинского сельского поселения Ромодановского муниципального района Республики Мордовия на 2022 год и на плановый период 2023 и 2024 годов»от 29.12.2021г№14
A2: РАСПРЕДЕЛЕНИЕ БЮДЖЕТНЫХ АССИГНОВАНИЙ БЮДЖЕТА ТРОФИМОВЩИНСКОГО СЕЛЬСКОГО ПОСЕЛЕНИЯ РОМОДАНОВСКОГО МУНИЦИПАЛЬНОГО РАЙОНА РЕСПУБЛИКИ МОРДОВИЯ ПО РАЗДЕЛАМ, ПОДРАЗДЕЛАМ, ЦЕЛЕВЫМ СТАТЬЯМ (МУНИЦИПАЛЬНЫМ ПРОГРАММАМ И НЕПРОГРАММНЫМ НАПРАВЛЕНИЯМ ДЕЯТЕЛЬНОСТИ), ГРУППАМ И ПОДГРУППАМ ВИДОВ РАСХОДОВ КЛАССИФИКАЦИИ РАСХОДОВ БЮДЖЕТОВ НА 2022 ГОД И НА ПЛАНОВЫЙ ПЕРИОД 2023 И 2024 ГОДОВ
A3: Наименование | H3: (тыс. рублей)
B4: Рз | C4: Прз | D4: Цср | H4: Вр | I4: Сумма
A5: 1 | I5: 2022 год | J5: 2023 год | K5: 2024 год
B6: 2 | C6: 3 | D6: 4 | E6: 5 | F6: 6 | G6: 7 | H6: 8 | I6: 9 | J6: 10 | K6: 11
A7: ВСЕГО | I7: =I8+I43+I53+I67+I81 -> 2493.1 | J7: =J8+J43+J53+J67+J81+J88 -> 1213.2 | K7: =K8+K43+K53+K67+K81+K88 -> 1230.5
A8: Общегосударственные вопросы | B8: 01 | I8: =I9+I18+I37 -> 1470.1 | J8: =J9+J18+J37 -> 663.4 | K8: =K9+K18+K37 -> 648.8
A9: Функционирование высшего должностного лица субъекта Российской Федерации и муниципального образования | B9: 01 | C9: 02 | I9: =I10+I15 -> 454.1 | J9: =J10 -> 203.3 | K9: =K10 -> 181.6
A10: Обеспечение деятельности аппарата Администрации | B10: 01 | C10: 02 | D10: 65 | E10: 0 | I10: =I11 -> 337.1 | J10: =J11 -> 203.3 | K10: =K11 -> 181.6
A11: Высшее должностное лицо | B11: 01 | C11: 02 | D11: 65 | E11: 1 | I11: =I12 -> 337.1 | J11: =J12 -> 203.3 | K11: =K12 -> 181.6
A12: Расходы на выплаты по оплате труда высшего должностного лица | B12: 01 | C12: 02 | D12: 65 | E12: 1 | F12: 00 | G12: 41150 | I12: =I13 -> 337.1 | J12: =J13 -> 203.3 | K12: =K13 -> 181.6
A13: Расходы на выплаты персоналу в целях обеспечения выполнения функций государственными (муниципальными) органами, казенными учреждениями, органами управления государственными внебюджетными фондами | B13: 01 | C13: 02 | D13: 65 | E13: 1 | F13: 00 | G13: 41150 | H13: 100 | I13: =I14 -> 337.1 | J13: =J14 -> 203.3 | K13: =K14 -> 181.6
A14: Расходы на выплаты персоналу государственных (муниципальных) органов | B14: 01 | C14: 02 | D14: 65 | E14: 1 | F14: 00 | G14: 41150 | H14: 120 | I14: ='Приложение 2'!J15 -> 337.1 | J14: ='Приложение 2'!K15 -> 203.3 | K14: ='Приложение 2'!L15 -> 181.6
A15: ='Приложение 2'!A16 -> Субсидии на софинансирование расходных обязательств по финансовому обеспечению деятельности органов местного самоуправления и муниципальных учреждений | B15: 01 | C15: 02 | D15: 65 | E15: 1 | F15: 00 | G15: 44205 | I15: =I16 -> 117
A16: ='Приложение 2'!A17 -> Расходы на выплаты персоналу в целях обеспечения выполнения функций государственными (муниципальными) органами, казенными учреждениями, органами управления государственными внебюджетными фондами | B16: 01 | C16: 02 | D16: 65 | E16: 1 | F16: 00 | G16: 44205 | H16: 100 | I16: =I17 -> 117
A17: ='Приложение 2'!A18 -> Расходы на выплаты персоналу государственных (муниципальных) органов | B17: 01 | C17: 02 | D17: 65 | E17: 1 | F17: 00 | G17: 44205 | H17: 120 | I17: ='Приложение 2'!J18 -> 117
A18: Функционирование Правительства Российской Федерации, высших исполнительных органов государственной власти субъектов Российской Федерации, местных администраций | B18: 01 | C18: 04 | I18: =I19+I32+I24 -> 1016 | J18: =J19+J32 -> 455.1 | K18: =K19+K32 -> 462.2
A19: Обеспечение деятельности аппарата Администрации | B19: 01 | C19: 04 | D19: 65 | E19: 0 | I19: =I20 -> 778.6 | J19: =J20 -> 454.9 | K19: =K20 -> 462
A20: Непрограмные расходы в рамках обеспечение деятельности Администраци | B20: 01 | C20: 04 | D20: 65 | E20: 2 | I20: =I21+I27 -> 778.6 | J20: =J21+J27 -> 454.9 | K20: =K21+K27 -> 462
A21: Расходы на выплаты по оплате труда работников органов местного самоуправления | B21: 01 | C21: 04 | D21: 65 | E21: 2 | F21: 00 | G21: 41110 | I21: =I22 -> 535.2 | J21: =J22 -> 359.9 | K21: =K22 -> 367
A22: Расходы на выплаты персоналу в целях обеспечения выполнения функций государственными (муниципальными) органами, казенными учреждениями, органами управления государственными внебюджетными фондами | B22: 01 | C22: 04 | D22: 65 | E22: 2 | F22: 00 | G22: 41110 | H22: 100 | I22: =I23 -> 535.2 | J22: =J23 -> 359.9 | K22: =K23 -> 367
A23: Расходы на выплаты персоналу государственных (муниципальных) органов | B23: 01 | C23: 04 | D23: 65 | E23: 2 | F23: 00 | G23: 41110 | H23: 120 | I23: ='Приложение 2'!J24 -> 535.2 | J23: ='Приложение 2'!K24 -> 359.9 | K23: ='Приложение 2'!L24 -> 367
A24: ='Приложение 2'!A16 -> Субсидии на софинансирование расходных обязательств по финансовому обеспечению деятельности органов местного самоуправления и муниципальных учреждений | B24: 01 | C24: 04 | D24: 65 | E24: 2 | F24: 00 | G24: 44205 | I24: =I25 -> 237.2
A25: ='Приложение 2'!A17 -> Расходы на выплаты персоналу в целях обеспечения выполнения функций государственными (муниципальными) органами, казенными учреждениями, органами управления государственными внебюджетными фондами | B25: 01 | C25: 04 | D25: 65 | E25: 2 | F25: 00 | G25: 44205 | H25: 100 | I25: =I26 -> 237.2
A26: ='Приложение 2'!A18 -> Расходы на выплаты персоналу государственных (муниципальных) органов | B26: 01 | C26: 04 | D26: 65 | E26: 2 | F26: 00 | G26: 44205 | H26: 120 | I26: ='Приложение 2'!J27 -> 237.2
A27: Расходы на обеспечение функций органов местного самоуправления | B27: 01 | C27: 04 | D27: 65 | E27: 2 | F27: 00 | G27: 41120 | I27: =+I28+I30 -> 243.4 | J27: =+J28+J30 -> 95 | K27: =+K28+K30 -> 95
A28: Закупка товаров, работ и услуг для обеспечения государственных (муниципальных) нужд | B28: 01 | C28: 04 | D28: 65 | E28: 2 | F28: 00 | G28: 41120 | H28: 200 | I28: =I29 -> 242.9 | J28: =J29 -> 90 | K28: =K29 -> 90
A29: Иные закупки товаров, работ и услуг для обеспечения государственных (муниципальных) нужд | B29: 01 | C29: 04 | D29: 65 | E29: 2 | F29: 00 | G29: 41120 | H29: 240 | I29: ='Приложение 2'!J30 -> 242.9 | J29: ='Приложение 2'!K30 -> 90 | K29: ='Приложение 2'!L30 -> 90
A30: Иные бюджетные ассигнования | B30: 01 | C30: 04 | D30: 65 | E30: 2 | F30: 00 | G30: 41120 | H30: 800 | I30: =I31 -> 0.5 | J30: =J31 -> 5 | K30: =K31 -> 5
A31: Уплата налогов, сборов и иных платежей | B31: 01 | C31: 04 | D31: 65 | E31: 2 | F31: 00 | G31: 41120 | H31: 850 | I31: ='Приложение 2'!J32 -> 0.5 | J31: ='Приложение 2'!K32 -> 5 | K31: ='Приложение 2'!L32 -> 5
A32: Непрограммные расходы главных распорядителей бюджетных средств Трофимовщинского сельского поселения Ромодановского муниципального района Республики Мордовия | B32: 01 | C32: 04 | D32: 89 | E32: 0 | I32: =I33 -> 0.2 | J32: =J33 -> 0.2 | K32: =K33 -> 0.2
A33: Непрограммные расходы в рамках обеспечения деятельности главных распорядителей бюджетных средств Трофимовщинского сельского поселения Ромодановского муниципального района Республики Мордовия | B33: 01 | C33: 04 | D33: 89 | E33: 1 | I33: =I34 -> 0.2 | J33: =J34 -> 0.2 | K33: =K34 -> 0.2
A34: Осуществление государственных полномочий Республики Мордовия по определению перечня должностных лиц, уполномоченных составлять протоколы об административных правонарушениях, предусмотренных Законом Республики Мордовия от 15 июня 2015 года № 38-З "Об административной ответственности на территории Республики Мордовия" | B34: 01 | C34: 04 | D34: 89 | E34: 1 | F34: 00 | G34: 77150 | I34: =I35 -> 0.2 | J34: =J35 -> 0.2 | K34: =K35 -> 0.2
A35: Закупка товаров, работ и услуг для обеспечения государственных (муниципальных) нужд | B35: 01 | C35: 04 | D35: 89 | E35: 1 | F35: 00 | G35: 77150 | H35: 200 | I35: =I36 -> 0.2 | J35: =J36 -> 0.2 | K35: =K36 -> 0.2
A36: Иные закупки товаров, работ и услуг для обеспечения государственных (муниципальных) нужд | B36: 01 | C36: 04 | D36: 89 | E36: 1 | F36: 00 | G36: 77150 | H36: 240 | I36: ='Приложение 2'!J37 -> 0.2 | J36: ='Приложение 2'!K37 -> 0.2 | K36: ='Приложение 2'!L37 -> 0.2
A37: Резервные фонды | B37: 01 | C37: 11 | I37: =I38 -> 0 | J37: =J38 -> 5 | K37: =K38 -> 5
A38: Непрограммные расходы главных распорядителей бюджетных средств Трофимовщинского сельского поселения Ромодановского муниципального района Республики Мордовия | B38: 01 | C38: 11 | D38: 89 | E38: 0 | I38: =I39 -> 0 | J38: =J39 -> 5 | K38: =K39 -> 5
A39: Непрограммные расходы в рамках обеспечения деятельности главных распорядителей бюджетных средств Трофимовщинского сельского поселения Ромодановского муниципального района Республики Мордовия | B39: 01 | C39: 11 | D39: 89 | E39: 1 | I39: =I40 -> 0 | J39: =J40 -> 5 | K39: =K40 -> 5
A40: Резервный фонд Администрации Трофимовщинского сельского поселени Ромодановского муниципального района Республики Мордовия | B40: 01 | C40: 11 | D40: 89 | E40: 1 | F40: 00 | G40: 41180 | I40: =I42 -> 0 | J40: =J42 -> 5 | K40: =K42 -> 5
...

Sheet Приложение4
I1: Приложение 4 к решению Совета депутатов Трофимовщинского сельского поселения Ромодановского муниципального района Республики Мордовия «О бюджете Трофимовщинскогосельского поселения Ромодановского муниципального района Республики Мордовия на 2022 год и на плановый период 2023 и 2024 годов»от 29.12.2021г.№14
A2: РАСПРЕДЕЛЕНИЕ БЮДЖЕТНЫХ АССИГНОВАНИЙ БЮДЖЕТА ТРОФИМОВЩИНСКОГО СЕЛЬСКОГО ПОСЕЛЕНИЯ РОМОДАНОВСКОГО МУНИЦИПАЛЬНОГО РАЙОНА РЕСПУБЛИКИ МОРДОВИЯ ПО ЦЕЛЕВЫМ СТАТЬЯМ (МУНИЦИПАЛЬНЫМ ПРОГРАММАМ И НЕПРОГРАММНЫМ НАПРАВЛЕНИЯМ ДЕЯТЕЛЬНОСТИ), ГРУППАМ И ПОДГРУППАМ ВИДОВ РАСХОДОВ, РАЗДЕЛАМ И ПОДРАЗДЕЛАМ КЛАССИФИКАЦИИ РАСХОДОВ БЮДЖЕТОВ НА 2022 ГОД И НА ПЛАНОВЫЙ ПЕРИОД 2023 И 2024 ГОДОВ
I3: (тыс. рублей)
A4: Наименование | B4: Цср | F4: ВР | G4: Рз | H4: Прз | I4: Адм | J4: Сумма
J5: 2022 год | K5: 2023 год | L5: 2024 год
A6: 1 | B6: 2 | C6: 3 | D6: 4 | E6: 5 | F6: 6 | G6: 7 | H6: 8 | I6: 9 | J6: 10 | K6: 11 | L6: 12
A7: ВСЕГО | J7: =J8+J19+J34+J48+J82+J110+J92+J98+J26+J104 -> 2493.1 | K7: =K8+K19+K34+K48+K82+K110+K62+K92+K98 -> 1213.2 | L7: =L8+L19+L34+L48+L82+L110+L98+L92+L63 -> 1230.5
A8: Программа комплексного развития транспортной инфраструктуры Трофимовщинского сельского поселения Ромодановского муниципального района Республики Мордовия на 2018- 2030года" | B8: 10 | C8: 0 | J8: =J9 -> 295.6 | K8: =K9 -> 221.5 | L8: =L9 -> 221.5
A9: ='Приложение 2'!A57 -> Подпрограмма «Комплексного развития транспортной инфраструктуры Трофимовщинского сельского поселения Ромодановского муниципального района Республики Мордовия на 2018- 2030 года" | B9: 10 | C9: 1 | J9: =J10 -> 295.6 | K9: =K10 -> 221.5 | L9: =L10 -> 221.5
A10: Основное мероприятие "Ремонт и содержание автомобильных дорог общего пользования в границах поселения, поддержание дорожного полотна в работоспособном состоянии" | B10: 10 | C10: 1 | D10: 02 | J10: =J11 -> 295.6 | K10: =K11 -> 221.5 | L10: =L11 -> 221.5
A11: осуществление полномочий по дорожной деятельности в отношении автомобильных дорог местного значения в границах населенных пунктов поселения и обеспечению безопасности дорожного движения на них, включая создание и обеспечение функционирования парковок (парковочных мест), осуществлению муниципального контроля за сохранностью автомобильных дорог местного значения в границах населенных пунктов поселения, организации дорожного движения, а также осуществлению иных полномочий в области использования автомобильных дорог и осуществления дорожной деятельности в соответствии с законодательством Российской Федерации | B11: 10 | C11: 1 | D11: 02 | E11: 44102 | J11: =J12 -> 295.6 | K11: =K12 -> 221.5 | L11: =L12 -> 221.5
A12: Закупка товаров, работ и услуг для обеспечения государственных (муниципальных) нужд | B12: 10 | C12: 1 | D12: 02 | E12: 44102 | F12: 200 | J12: =J13 -> 295.6 | K12: =K13 -> 221.5 | L12: =L13 -> 221.5
A13: Иные закупки товаров, работ и услуг для обеспечения государственных (муниципальных) нужд | B13: 10 | C13: 1 | D13: 02 | E13: 44102 | F13: 240 | J13: =J14 -> 295.6 | K13: =K14 -> 221.5 | L13: =L14 -> 221.5
A14: Национальная экономика | B14: 10 | C14: 1 | D14: 02 | E14: 44102 | F14: 240 | G14: 04 | J14: =J15 -> 295.6 | K14: =K15 -> 221.5 | L14: =L15 -> 221.5
A15: Дорожное хозяйство | B15: 10 | C15: 1 | D15: 02 | E15: 44102 | F15: 240 | G15: 04 | H15: 09 | J15: =J16 -> 295.6 | K15: =K16 -> 221.5 | L15: =L16 -> 221.5
A16: Администрация Трофимовщинского сельского поселения Ромодановского муниципального района Республики Мордовия | B16: 10 | C16: 1 | D16: 02 | E16: 44102 | F16: 240 | G16: 04 | H16: 09 | I16: 924 | J16: ='Приложение 2'!J61 -> 295.6 | K16: ='Приложение 2'!K61 -> 221.5 | L16: ='Приложение 2'!L61 -> 221.5
A17: Программа комплексного развития коммунальной инфраструктуры Трофимовщинского сельского поселения Ромодановского муниципального района Республики Мордовия на 2018-2030 года" | B17: 10 | C17: 0 | J17: =J18 -> 25 | K17: =K18 -> 35 | L17: =L18 -> 35
A18: ='Приложение 2'!A77 -> Подпрограмма комплексного развития коммунальной инфраструктуры Трофимовщинского сельского поселения Ромодановского муниципального района Республики Мордовия на 2018-2030 года | B18: 10 | C18: 1 | J18: =J19 -> 25 | K18: =K19 -> 35 | L18: =L19 -> 35
A19: Основные мероприятия " благоустройство территории" | B19: 10 | C19: 1 | D19: 07 | J19: =J20 -> 25 | K19: =K20 -> 35 | L19: =L20 -> 35
A20: Уличное освещение | B20: 10 | C20: 1 | D20: 07 | E20: 43010 | J20: =J21 -> 25 | K20: =K21 -> 35 | L20: =L21 -> 35
A21: Закупка товаров, работ и услуг для обеспечения государственных (муниципальных) нужд | B21: 10 | C21: 1 | D21: 07 | E21: 43010 | F21: 200 | J21: =J22 -> 25 | K21: =K22 -> 35 | L21: =L22 -> 35
A22: Иные закупки товаров, работ и услуг для обеспечения государственных (муниципальных) нужд | B22: 10 | C22: 1 | D22: 07 | E22: 43010 | F22: 240 | J22: =J23 -> 25 | K22: =K23 -> 35 | L22: =L23 -> 35
A23: Жилищно-коммунальное хозяйство | B23: 10 | C23: 1 | D23: 07 | E23: 43010 | F23: 240 | G23: 05 | J23: =J24 -> 25 | K23: =K24 -> 35 | L23: =L24 -> 35
A24: Благоустройство | B24: 10 | C24: 1 | D24: 07 | E24: 43010 | F24: 240 | G24: 05 | H24: 03 | J24: =J25 -> 25 | K24: =K25 -> 35 | L24: =L25 -> 35
A25: Администрация Трофимовщинского сельского поселения Ромодановского муниципального района Республики Мордовия | B25: 10 | C25: 1 | D25: 07 | E25: 43010 | F25: 240 | G25: 05 | H25: 03 | I25: 924 | J25: ='Приложение 2'!J80 -> 25 | K25: ='Приложение 2'!K80 -> 35 | L25: ='Приложение 2'!L80 -> 35
A26: ='Приложение 2'!A70 -> Муниципальная программа "Энергосбережение и повышение энергетической эффетивности в Ромодановсом муниципальном районе" | B26: 12 | C26: 00 | J26: =J27 -> 54
A27: ='Приложение 2'!A71 -> Основное мероприятие"Субсидирование оформления прав собственности на бесхозяйные объекты инженерной инфраструктуры" | B27: 12 | C27: 00 | D27: 1 | J27: =J28 -> 54
A28: ='Приложение 2'!A72 -> Оформление прав собственности на бесхозяйные объекты недвижимого имущества, используемые для передачи энергетических ресурсов | B28: 12 | C28: 00 | D28: 1 | E28: S6140 | J28: =J29 -> 54
A29: ='Приложение 2'!A73 -> Закупка товаров, работ и услуг для обеспечения государственных (муниципальных) нужд | B29: 12 | C29: 00 | D29: 1 | E29: S6140 | F29: 200 | J29: =J30 -> 54
A30: ='Приложение 2'!A74 -> Иные закупки товаров, работ и услуг для обеспечения государственных (муниципальных) нужд | B30: 12 | C30: 00 | D30: 1 | E30: S6140 | F30: 240 | J30: =J31 -> 54
A31: ='Приложение 2'!A68 -> Жилищно-коммунальное хозяйство | B31: 12 | C31: 00 | D31: 1 | E31: S6140 | F31: 240 | G31: 05 | J31: =J32 -> 54
A32: ='Приложение 2'!A69 -> Коммунальное хозяйство | B32: 12 | C32: 00 | D32: 1 | E32: S6140 | F32: 240 | G32: 05 | H32: 02 | J32: =J33 -> 54
A33: =A25 -> Администрация Трофимовщинского сельского поселения Ромодановского муниципального района Республики Мордовия | B33: 12 | C33: 00 | D33: 1 | E33: S6140 | F33: 240 | G33: 05 | H33: 02 | I33: 924 | J33: ='Приложение 2'!J74 -> 54
A34: Программа повышения эффективности управления государственными финансами в Республике Мордовия | B34: 17 | C34: 0 | J34: =J35 -> 95.3 | K34: =K35 -> 92.8 | L34: =L35 -> 96
A35: Подпрограмма "Повышения эффективности межбюджетных отношений" | B35: 17 | C35: 3 | J35: =J36 -> 95.3 | K35: =K36 -> 92.8 | L35: =L36 -> 96
A36: Основное мероприятие: "Обеспечение осуществления органами местного самоуправления отдельных государственных полномочий" | B36: 17 | C36: 3 | D36: 02 | J36: =J37 -> 95.3 | K36: =K37 -> 92.8 | L36: =L37 -> 96
A37: Осуществление первичного воинского учета на территориях где отсутствуют военные комиссариаты | B37: 17 | C37: 3 | D37: 02 | E37: 51180 | J37: =J43+J38 -> 95.3 | K37: =K43+K38 -> 92.8 | L37: =L43+L38 -> 96
A38: Расходы на выплаты персоналу в целях обеспечения выполнения функций государственными (муниципальными) органами, казенными учреждениями, органами управления государственными внебюджетными фондами | B38: 17 | C38: 3 | D38: 02 | E38: 51180 | F38: 100 | J38: =J39 -> 91.9 | K38: =K39 -> 87.8 | L38: =L39 -> 91
A39: Расходы на выплаты персоналу государственных (муниципальных) органов | B39: 17 | C39: 3 | D39: 02 | E39: 51180 | F39: 120 | J39: =J40 -> 91.9 | K39: =K40 -> 87.8 | L39: =L40 -> 91
A40: Национальная оборона | B40: 17 | C40: 3 | D40: 02 | E40: 51180 | F40: 120 | G40: 02 | J40: =J41 -> 91.9 | K40: =K41 -> 87.8 | L40: =L41 -> 91
...

Sheet прил 5
C1: Приложение 5
C2: к решению Совета депутатов Трофимовщинского сельского поселения Ромодановского муниципального района Республики Мордовия "О бюджете Трофимовщинского сельского поселения Ромодановского муниципального района Республики Мордовия на 2022 год и на плановый период 2023 и 2024 годов"от 29.12.2021№14
A3: ИСТОЧНИКИ ВНУТРЕННЕГО ФИНАНСИРОВАНИЯ ДЕФИЦИТА БЮДЖЕТА ТРОФИМОВЩИНСКОГО СЕЛЬСКОГО ПОСЕЛЕНИЯ РОМОДАНОВСКОГО МУНИЦИПАЛЬНОГО РАЙОНА РЕСПУБЛИКИ МОРДОВИЯ НА 2022 ГОД И НА ПЛАНОВЫЙ ПЕРИОД 2023 и 2024 ГОДОВ
A7: Код | B7: Наименование кода группы, подгруппы, статьи, вида источника финансирования дефицитов бюджетов, кода классификации операций сектора государственного управления, относящихся к источникам финансирования дефицитов бюджетов Российской Федерации | C7: Сумма (тыс. руб.)
C8: 2022 год | D8: 2023 год | E8: 2024 год
A9: 1 | B9: 2 | C9: 3 | D9: 4 | E9: 5
A10: 000 01 00 00 00 00 0000 000 | B10: ИСТОЧНИКИ ВНУТРЕННЕГО ФИНАНСИРОВАНИЯ ДЕФИЦИТОВ БЮДЖЕТОВ | C10: =C11+C22+C14+C18 -> 82 | D10: =D11+D22+D14+D18 -> -3.1974423e-13 | E10: =E11+E22+E14+E18 -> 9.2370556e-14
A11: 000 01 02 00 00 00 0000 000 | B11: Кредиты кредитных организаций в валюте Российской Федерации | C11: =SUM(C12) -> 0 | D11: =SUM(D12) -> 0 | E11: =SUM(E12) -> 0
A12: 000 01 02 00 00 00 0000 700 | B12: Привлечение кредитов от кредитных организаций в валюте Российской Федерации | C12: =SUM(C13) -> 0 | D12: =SUM(D13) -> 0 | E12: =SUM(E13) -> 0
A13: 000 01 02 00 00 05 0000 710 | B13: Привлечение кредитов от кредитных организаций бюджетами муниципальных районов в валюте Российской Федерации
A14: 000 01 03 00 00 00 0000 000 | B14: Бюджетные кредиты из других бюджетов бюджетной системы Российской Федерации | C14: =C15 -> -26.7 | D14: =D15 -> -40.1 | E14: =E15 -> -53.4
A15: 000 01 03 01 00 00 0000 000 | B15: Бюджетные кредиты из других бюджетов бюджетной системы Российской Федерации в валюте Российской Федерации | C15: =C16 -> -26.7 | D15: =D16 -> -40.1 | E15: =E16 -> -53.4
A16: 000 01 03 01 00 00 0000 800 | B16: Погашение бюджетных кредитов, полученных из других бюджетов бюджетной системы Российской Федерации в валюте Российской Федерации | C16: =SUM(C17) -> -26.7 | D16: =SUM(D17) -> -40.1 | E16: =SUM(E17) -> -53.4
A17: 000 01 03 01 00 10 0000 810 | B17: Погашение бюджетами сельских поселений кредитов из других бюджетов бюджетной системы Российской Федерации в валюте Российской Федерации | C17: -26.7 | D17: -40.1 | E17: -53.4
A18: 000 01 06 00 00 00 0000 000 | B18: Иные источники внутреннего финансирования дефицитов бюджетов | C18: =C19 -> 0 | D18: =D19 -> 0 | E18: =E19 -> 0
A19: 000 01 06 05 00 00 0000 000 | B19: Бюджетные кредиты, предоставленные внутри страны в валюте Российской Федерации | C19: =C20 -> 0 | D19: =D20 -> 0 | E19: =E20 -> 0
A20: 000 01 06 05 02 00 0000 600 | B20: Возврат бюджетных кредитов, предоставленных другим бюджетам бюджетной системы Российской Федерации в валюте Российской Федерации | C20: =C21 -> 0 | D20: =D21 -> 0 | E20: =E21 -> 0
A21: 000 01 06 05 02 05 0000 640 | B21: Возврат бюджетных кредитов, предоставленных другим бюджетам бюджетной системы Российской Федерации из бюджетов муниципальных районов в валюте Российской Федерации
A22: 000 01 05 00 00 00 0000 000 | B22: Изменения остатков средств на счетах по учету средств бюджета | C22: =C25+C26 -> 108.7 | D22: =D25+D26 -> 40.1 | E22: =E25+E26 -> 53.4
A23: 000 01 05 02 00 00 0000 500 | B23: Увеличение прочих остатков средств бюджетов | C23: =SUM(C24) -> -2411.1 | D23: =SUM(D24) -> -1213.2 | E23: =SUM(E24) -> -1230.5
A24: 000 01 05 02 01 00 0000 510 | B24: Увеличение прочих остатков денежных средств бюджетов | C24: =SUM(C25) -> -2411.1 | D24: =SUM(D25) -> -1213.2 | E24: =SUM(E25) -> -1230.5
A25: 000 01 05 02 01 10 0000 510 | B25: Увеличение прочих остатков денежных средств бюджетов сельских поселений | C25: =-'Приложение 1'!C11-C30 -> -2411.1 | D25: =-'Приложение 1'!D11-D30 -> -1213.2 | E25: =-'Приложение 1'!E11-E30 -> -1230.5
A26: 000 01 05 02 00 00 0000 600 | B26: Уменьшение прочих остатков средств бюджетов | C26: =SUM(C27) -> 2519.8 | D26: =SUM(D27) -> 1253.3 | E26: =SUM(E27) -> 1283.9
A27: 000 01 05 02 01 00 0000 610 | B27: Уменьшение прочих остатков денежных средств бюджетов | C27: =SUM(C28) -> 2519.8 | D27: =SUM(D28) -> 1253.3 | E27: =SUM(E28) -> 1283.9
A28: 000 01 05 02 01 05 0000 610 | B28: Уменьшение прочих остатков денежных средств бюджетов муниципальных районов | C28: =-C17+'Приложение 2'!J7 -> 2519.8 | D28: =-D17+'Приложение 2'!K7 -> 1253.3 | E28: =-E17+'Приложение 2'!L7 -> 1283.9
A29: 000 01 00 00 00 00 0000 000 | B29: Итого источников внутреннего финансирования дефицита бюджета Трофимовщинского сельского поселения Ромодановского муниципального района Республики Мордовия
B30: собственные доходы | C30: 915.4 | D30: 898.7 | E30: 912.8
