Workbook

Sheet Приложение 1
C1: Приложение 1 к решению Совета депутатов Пушкинского сельского поселения Ромодановского муниципального района Республики Мордовия «О бюджете Пушкинского сельского поселения Ромодановского муниципального района Республики Мордовия на 2023 год и на плановый период 2024 и 2025 годов»
A6: ОБЪЕМ БЕЗВОЗМЕЗДНЫХ ПОСТУПЛЕНИЙ В БЮДЖЕТ ПУШКИНСКОГО СЕЛЬСКОГО ПОСЕЛЕНИЯ РОМОДАНОВСКОГО МУНИЦИПАЛЬНОГО РАЙОНА РЕСПУБЛИКИ МОРДОВИЯ НА 2023 ГОД И НА ПЛАНОВЫЙ ПЕРИОД 2024 И 2025 ГОДОВ
E7: (тыс. рублей)
A8: Код | B8: Наименование | C8: Сумма
C9: 2023 год | D9: 2024 год | E9: 2025 год
A10: 1 | B10: 2 | C10: 3 | D10: 4 | E10: 5
A11: 2 00 00000 00 0000 000 | B11: БЕЗВОЗМЕЗДНЫЕ ПОСТУПЛЕНИЯ | C11: =C12 -> 9133 | D11: =D13+D22+D27 -> 784.7 | E11: =E13+E22+E27 -> 838.3
A12: 2 02 00000 00 0000 000 | B12: Безвозмездные поступления от других бюджетов бюджетной системы Российской Федерации | C12: =C13+C18+C22+C27 -> 9133 | D12: =D11 -> 784.7 | E12: =E11 -> 838.3
A13: 2 02 10000 00 0000 150 | B13: Дотации бюджетам бюджетной системы Российской Федерации | C13: =C14+C16 -> 586 | D13: =D14+D16 -> 510.2 | E13: =E14+E16 -> 559.5
A14: 2 02 15001 00 0000 150 | B14: Дотации на выравнивание бюджетной обеспеченности | C14: =C15 -> 517.5 | D14: =D15 -> 510.2 | E14: =E15 -> 559.5
A15: 2 02 15001 10 0000 150 | B15: Дотации бюджетам сельских поселений на выравнивание бюджетной обеспеченности из бюджета субъекта Российской Федерации | C15: 517.5 | D15: 510.2 | E15: 559.5
A16: 2 02 15002 00 0000 150 | B16: Дотации бюджетам на поддержку мер по обеспечению сбалансированности бюджетов | C16: =C17 -> 68.5 | D16: =D17 -> 0 | E16: =E17 -> 0
A17: 2 02 15002 10 0000 150 | B17: Дотации бюджетам сельских поселений на поддержку мер по обеспечению сбалансированности бюджетов | C17: 68.5
A18: 2 02 20000 00 0000 150 | B18: Субсидии бюджетам бюджетной системы Российской Федерации (межбюджетные субсидии) | C18: =C20+C19 -> 5765.9
A19: 2 02 25576 10 0000 150 | B19: Субсидия на реализацию мероприятий по благоустройству сельских территорий | C19: 5645.9
A20: 2 02 29999 00 0000 150 | B20: Прочие субсидии | C20: =C21 -> 120
A21: 2 02 29999 10 0000 150 | B21: Прочие субсидии бюджетам сельских поселений | C21: 120
A22: 2 02 30000 00 0000 150 | B22: Субвенции бюджетам бюджетной системы Российской Федерации | C22: =C23+C25 -> 109.6 | D22: =D23+D25 -> 114.7 | E22: =E23+E25 -> 119
A23: 2 02 30024 00 0000 150 | B23: Субвенции местным бюджетам на выполнение передаваемых полномочий субъектов Российской Федерации | C23: =C24 -> 0.3 | D23: =D24 -> 0.3 | E23: =E24 -> 0.3
A24: 2 02 30024 10 0000 150 | B24: Субвенции бюджетам сельских поселений на выполнение передаваемых полномочий субъектов Российской Федерации | C24: 0.3 | D24: 0.3 | E24: 0.3
A25: 2 02 35118 00 0000 150 | B25: Субвенции бюджетам на осуществление первичного воинского учета органами местного самоуправления поселений,муниципальных и городских округов | C25: =C26 -> 109.3 | D25: =D26 -> 114.4 | E25: =E26 -> 118.7
A26: 2 02 35118 10 0000 150 | B26: Субвенции бюджетам сельских поселений на осуществление первичного воинского учета органами местного самоуправления поселений,муниципальных и городских округов | C26: 109.3 | D26: 114.4 | E26: 118.7
A27: 2 02 40000 00 0000 150 | B27: Иные межбюджетные трансферты | C27: =C28 -> 2671.5 | D27: =D28 -> 159.8 | E27: =E28 -> 159.8
A28: 2 02 40014 00 0000 150 | B28: Межбюджетные трансферты, передаваемые бюджетам муниципальных образований на осуществление части полномочий по решению вопросов местного значения в соответствии с заключенными соглашениями | C28: =C29 -> 2671.5 | D28: =D29 -> 159.8 | E28: =E29 -> 159.8
A29: 2 02 40014 10 0000 150 | B29: Межбюджетные трансферты, передаваемые бюджетам сельских поселений из бюджетов муниципальных районов на осуществление части полномочий по решению вопросов местного значения в соответствии с заключенными соглашениями | C29: 2671.5 | D29: 159.8 | E29: 159.8

Sheet Приложение 2
I1: Приложение 2 к решению Совета депутатов Пушкинского сельского поселения Ромодановского муниципального района Республики Мордовия «О бюджете Пушкинского сельского поселения Ромодановского муниципального района Республики Мордовия на 2023 год и на плановый период 2024 и 2025 годов»
A2: ВЕДОМСТВЕННАЯ СТРУКТУРА РАСХОДОВ БЮДЖЕТА ПУШКИНСКОГО СЕЛЬСКОГО ПОСЕЛЕНИЯ РОМОДАНОВСКОГО МУНИЦИПАЛЬНОГО РАЙОНА РЕСПУБЛИКИ МОРДОВИЯ НА 2023 ГОД И НА ПЛАНОВЫЙ ПЕРИОД 2024 И 2025 ГОДОВ
I3: (тыс. рублей)
A4: Наименование | B4: Адм | C4: Рз | D4: Прз | E4: Цср | I4: Вр | J4: Сумма
J5: 2023 год | K5: 2024 год | L5: 2025 год
A6: 1 | B6: 2 | C6: 3 | D6: 4 | E6: 5 | F6: 6 | G6: 7 | H6: 8 | I6: 9 | J6: 10 | K6: 11 | L6: 12
A7: Администрация Пушкинского сельского поселения Ромодановского муниципального района Республики Мордовия | B7: 921 | J7: =J8+J43+J53+J60+J80 -> 9692.3 | K7: =K8+K43+K53+K60+K80+K87 -> 1271.1 | L7: =L8+L43+L53+L60+L80+L87 -> 1329
A8: Общегосударственные вопросы | B8: 921 | C8: 01 | J8: =J9+J18+J37 -> 973.4 | K8: =K9+K18+K37 -> 812.3 | L8: =L9+L18+L37 -> 831
A9: Функционирование высшего должностного лица субъекта Российской Федерации и муниципального образования | B9: 921 | C9: 01 | D9: 02 | J9: =J10 -> 320.3 | K9: =K10 -> 302.4 | L9: =L10 -> 280.5
A10: Обеспечение деятельности Администрации Пушкинского сельского поселения Ромодановского муниципального района Республики Мордовия | B10: 921 | C10: 01 | D10: 02 | E10: 65 | J10: =J11 -> 320.3 | K10: =K11 -> 302.4 | L10: =L11 -> 280.5
A11: Высшее должностное лицо | B11: 921 | C11: 01 | D11: 02 | E11: 65 | F11: 1 | J11: =J12+J15 -> 320.3 | K11: =K12 -> 302.4 | L11: =L12 -> 280.5
A12: Расходы на выплаты по оплате труда высшего должностного лица | B12: 921 | C12: 01 | D12: 02 | E12: 65 | F12: 1 | G12: 00 | H12: 41150 | J12: =J13 -> 260.3 | K12: =K13 -> 302.4 | L12: =L13 -> 280.5
A13: Расходы на выплаты персоналу в целях обеспечения выполнения функций государственными (муниципальными) органами, казенными учреждениями, органами управления государственными внебюджетными фондами | B13: 921 | C13: 01 | D13: 02 | E13: 65 | F13: 1 | G13: 00 | H13: 41150 | I13: 100 | J13: =J14 -> 260.3 | K13: =K14 -> 302.4 | L13: =L14 -> 280.5
A14: Расходы на выплаты персоналу государственных (муниципальных) органов | B14: 921 | C14: 01 | D14: 02 | E14: 65 | F14: 1 | G14: 00 | H14: 41150 | I14: 120 | J14: 260.3 | K14: 302.4 | L14: 280.5
A15: Субсидии на софинансирование расходных обязательств по финансовому обеспечению деятельности органов местного самоуправления и муниципальных учреждений | B15: 921 | C15: 01 | D15: 02 | E15: 65 | F15: 1 | G15: 00 | H15: 44205 | J15: =J16 -> 60
A16: =A13 -> Расходы на выплаты персоналу в целях обеспечения выполнения функций государственными (муниципальными) органами, казенными учреждениями, органами управления государственными внебюджетными фондами | B16: 921 | C16: 01 | D16: 02 | E16: 65 | F16: 1 | G16: 00 | H16: 44205 | I16: 100 | J16: =J17 -> 60
A17: =A14 -> Расходы на выплаты персоналу государственных (муниципальных) органов | B17: 921 | C17: 01 | D17: 02 | E17: 65 | F17: 1 | G17: 00 | H17: 44205 | I17: 120 | J17: 60
A18: Функционирование Правительства Российской Федерации, высших исполнительных органов государственной власти субъектов Российской Федерации, местных администраций | B18: 921 | C18: 01 | D18: 04 | J18: =J19+J32 -> 648.1 | K18: =K19+K32 -> 504.9 | L18: =L19+L32 -> 545.5
A19: =A10 -> Обеспечение деятельности Администрации Пушкинского сельского поселения Ромодановского муниципального района Республики Мордовия | B19: 921 | C19: 01 | D19: 04 | E19: 65 | J19: =J20 -> 647.8 | K19: =K20 -> 504.6 | L19: =L20 -> 545.2
A20: Расходы в рамках обеспечения деятельности администрации Пушкинского сельского поселения | B20: 921 | C20: 01 | D20: 04 | E20: 65 | F20: 2 | J20: =J21+J24+J29 -> 647.8 | K20: =K21+K24 -> 504.6 | L20: =L21+L24 -> 545.2
A21: Расходы на выплаты по оплате труда работников органов местного самоуправления | B21: 921 | C21: 01 | D21: 04 | E21: 65 | F21: 2 | G21: 00 | H21: 41110 | J21: =J22 -> 260.3 | K21: =K22 -> 321.5 | L21: =L22 -> 315
A22: Расходы на выплаты персоналу в целях обеспечения выполнения функций государственными (муниципальными) органами, казенными учреждениями, органами управления государственными внебюджетными фондами | B22: 921 | C22: 01 | D22: 04 | E22: 65 | F22: 2 | G22: 00 | H22: 41110 | I22: 100 | J22: =J23 -> 260.3 | K22: =K23 -> 321.5 | L22: =L23 -> 315
A23: Расходы на выплаты персоналу государственных (муниципальных) органов | B23: 921 | C23: 01 | D23: 04 | E23: 65 | F23: 2 | G23: 00 | H23: 41110 | I23: 120 | J23: 260.3 | K23: 321.5 | L23: 315
A24: Расходы на обеспечение функций органов местного самоуправления | B24: 921 | C24: 01 | D24: 04 | E24: 65 | F24: 2 | G24: 00 | H24: 41120 | J24: =+J25+J27 -> 327.5 | K24: =+K25+K27 -> 183.1 | L24: =+L25+L27 -> 230.2
A25: Закупка товаров, работ и услуг для обеспечения государственных (муниципальных) нужд | B25: 921 | C25: 01 | D25: 04 | E25: 65 | F25: 2 | G25: 00 | H25: 41120 | I25: 200 | J25: =J26 -> 321.5 | K25: =K26 -> 177.1 | L25: =L26 -> 224.2
A26: Иные закупки товаров, работ и услуг для обеспечения государственных (муниципальных) нужд | B26: 921 | C26: 01 | D26: 04 | E26: 65 | F26: 2 | G26: 00 | H26: 41120 | I26: 240 | J26: 321.5 | K26: 177.1 | L26: 224.2
A27: Иные бюджетные ассигнования | B27: 921 | C27: 01 | D27: 04 | E27: 65 | F27: 2 | G27: 00 | H27: 41120 | I27: 800 | J27: =J28 -> 6 | K27: =K28 -> 6 | L27: =L28 -> 6
A28: Уплата налогов, сборов и иных платежей | B28: 921 | C28: 01 | D28: 04 | E28: 65 | F28: 2 | G28: 00 | H28: 41120 | I28: 850 | J28: 6 | K28: 6 | L28: 6
A29: =A15 -> Субсидии на софинансирование расходных обязательств по финансовому обеспечению деятельности органов местного самоуправления и муниципальных учреждений | B29: 921 | C29: 01 | D29: 04 | E29: 65 | F29: 2 | G29: 00 | H29: 44205 | J29: =J30 -> 60
A30: =A22 -> Расходы на выплаты персоналу в целях обеспечения выполнения функций государственными (муниципальными) органами, казенными учреждениями, органами управления государственными внебюджетными фондами | B30: 921 | C30: 01 | D30: 04 | E30: 65 | F30: 2 | G30: 00 | H30: 44205 | I30: 100 | J30: =J31 -> 60
A31: =A23 -> Расходы на выплаты персоналу государственных (муниципальных) органов | B31: 921 | C31: 01 | D31: 04 | E31: 65 | F31: 2 | G31: 00 | H31: 44205 | I31: 120 | J31: 60
A32: Непрограммные расходы главных распорядителей средств бюджета Пушкинского сельского поселения Ромодановского муниципального района Республики Мордовия | B32: 921 | C32: 01 | D32: 04 | E32: 89 | J32: =J33 -> 0.3 | K32: =K33 -> 0.3 | L32: =L33 -> 0.3
A33: Непрограммные расходы в рамках обеспечения деятельности главных распорядителей средств бюджета Пушкинского сельского поселения Ромодановского муниципального района Республики Мордовия | B33: 921 | C33: 01 | D33: 04 | E33: 89 | F33: 1 | J33: =J34 -> 0.3 | K33: =K34 -> 0.3 | L33: =L34 -> 0.3
A34: Осуществление государственных полномочий Республики Мордовия по определению перечня должностных лиц, уполномоченных составлять протоколы об административных правонарушениях, предусмотренных Законом Республики Мордовия от 15 июня 2015 года № 38-З "Об административной ответственности на территории Республики Мордовия" | B34: 921 | C34: 01 | D34: 04 | E34: 89 | F34: 1 | G34: 00 | H34: 77150 | J34: =J35 -> 0.3 | K34: =K35 -> 0.3 | L34: =L35 -> 0.3
A35: Закупка товаров, работ и услуг для обеспечения государственных (муниципальных) нужд | B35: 921 | C35: 01 | D35: 04 | E35: 89 | F35: 1 | G35: 00 | H35: 77150 | I35: 200 | J35: =J36 -> 0.3 | K35: =K36 -> 0.3 | L35: =L36 -> 0.3
A36: Иные закупки товаров, работ и услуг для обеспечения государственных (муниципальных) нужд | B36: 921 | C36: 01 | D36: 04 | E36: 89 | F36: 1 | G36: 00 | H36: 77150 | I36: 240 | J36: 0.3 | K36: 0.3 | L36: 0.3
A37: Резервные фонды | B37: 921 | C37: 01 | D37: 11 | J37: =J38 -> 5 | K37: =K38 -> 5 | L37: =L38 -> 5
A38: =A32 -> Непрограммные расходы главных распорядителей средств бюджета Пушкинского сельского поселения Ромодановского муниципального района Республики Мордовия | B38: 921 | C38: 01 | D38: 11 | E38: 89 | J38: =J39 -> 5 | K38: =K39 -> 5 | L38: =L39 -> 5
A39: =A33 -> Непрограммные расходы в рамках обеспечения деятельности главных распорядителей средств бюджета Пушкинского сельского поселения Ромодановского муниципального района Республики Мордовия | B39: 921 | C39: 01 | D39: 11 | E39: 89 | F39: 1 | J39: =J40 -> 5 | K39: =K40 -> 5 | L39: =L40 -> 5
A40: Резервный фонд администрации Пушкинского сельского поселения Ромодановского муниципального района Республики Мордовия | B40: 921 | C40: 01 | D40: 11 | E40: 89 | F40: 1 | G40: 00 | H40: 41180 | J40: =J42 -> 5 | K40: =K42 -> 5 | L40: =L42 -> 5
...

Sheet Приложение3
H1: Приложение 3 к решению Совета депутатов Пушкинского сельского поселения Ромодановского муниципального района Республики Мордовия «О бюджете Пушкинского сельского поселеняи Ромодановского муниципального района Республики Мордовия на 2023 год и на плановый период 2024 и 2025 годов»
A2: РАСПРЕДЕЛЕНИЕ БЮДЖЕТНЫХ АССИГНОВАНИЙ БЮДЖЕТА ПУШКИНСКОГО СЕЛЬСКОГО ПОСЕЛЕНИЯ РОМОДАНОВСКОГО МУНИЦИПАЛЬНОГО РАЙОНА РЕСПУБЛИКИ МОРДОВИЯ ПО РАЗДЕЛАМ, ПОДРАЗДЕЛАМ, ЦЕЛЕВЫМ СТАТЬЯМ (МУНИЦИПАЛЬНЫМ ПРОГРАММАМ И НЕПРОГРАММНЫМ НАПРАВЛЕНИЯМ ДЕЯТЕЛЬНОСТИ), ГРУППАМ И ПОДГРУППАМ ВИДОВ РАСХОДОВ КЛАССИФИКАЦИИ РАСХОДОВ БЮДЖЕТОВ НА 2023 ГОД И НА ПЛАНОВЫЙ ПЕРИОД 2024 И 2025 ГОДОВ
H3: (тыс. рублей)
A4: 1 | B4: Рз | C4: Прз | D4: Цср | H4: Вр | I4: Сумма
I5: 2023 год | J5: 2024 год | K5: 2025 год
B6: 2 | C6: 3 | D6: 4 | E6: 5 | F6: 6 | G6: 7 | H6: 8 | I6: 9 | J6: 10 | K6: 11
A7: Всего | I7: =I8+I43+I53+I60+I80 -> 9692.3 | J7: =J8+J43+J53+J60+J80+J87 -> 1271.1 | K7: =K8+K43+K53+K60+K80+K87 -> 1329
A8: Общегосударственные вопросы | B8: 01 | I8: =I9+I18+I37 -> 973.4 | J8: =J9+J18+J37 -> 812.3 | K8: =K9+K18+K37 -> 831
A9: Функционирование высшего должностного лица субъекта Российской Федерации и муниципального образования | B9: 01 | C9: 02 | I9: =I10 -> 320.3 | J9: =J10 -> 302.4 | K9: =K10 -> 280.5
A10: ='Приложение 2'!A10 -> Обеспечение деятельности Администрации Пушкинского сельского поселения Ромодановского муниципального района Республики Мордовия | B10: 01 | C10: 02 | D10: 65 | I10: =I11 -> 320.3 | J10: =J11 -> 302.4 | K10: =K11 -> 280.5
A11: Высшее должностное лицо | B11: 01 | C11: 02 | D11: 65 | E11: 1 | I11: =I12+I15 -> 320.3 | J11: =J12 -> 302.4 | K11: =K12 -> 280.5
A12: Расходы на выплаты по оплате труда высшего должностного лица | B12: 01 | C12: 02 | D12: 65 | E12: 1 | F12: 00 | G12: 41150 | I12: =I13 -> 260.3 | J12: =J13 -> 302.4 | K12: =K13 -> 280.5
A13: Расходы на выплаты персоналу в целях обеспечения выполнения функций государственными (муниципальными) органами, казенными учреждениями, органами управления государственными внебюджетными фондами | B13: 01 | C13: 02 | D13: 65 | E13: 1 | F13: 00 | G13: 41150 | H13: 100 | I13: =I14 -> 260.3 | J13: =J14 -> 302.4 | K13: =K14 -> 280.5
A14: Расходы на выплаты персоналу государственных (муниципальных) органов | B14: 01 | C14: 02 | D14: 65 | E14: 1 | F14: 00 | G14: 41150 | H14: 120 | I14: ='Приложение 2'!J14 -> 260.3 | J14: ='Приложение 2'!K14 -> 302.4 | K14: ='Приложение 2'!L14 -> 280.5
A15: ='Приложение 2'!A15 -> Субсидии на софинансирование расходных обязательств по финансовому обеспечению деятельности органов местного самоуправления и муниципальных учреждений | B15: 01 | C15: 02 | D15: 65 | E15: 1 | F15: 00 | G15: 44205 | I15: =I16 -> 60
A16: =A13 -> Расходы на выплаты персоналу в целях обеспечения выполнения функций государственными (муниципальными) органами, казенными учреждениями, органами управления государственными внебюджетными фондами | B16: 01 | C16: 02 | D16: 65 | E16: 1 | F16: 00 | G16: 44205 | H16: 100 | I16: =I17 -> 60
A17: =A14 -> Расходы на выплаты персоналу государственных (муниципальных) органов | B17: 01 | C17: 02 | D17: 65 | E17: 1 | F17: 00 | G17: 44205 | H17: 120 | I17: ='Приложение 2'!J17 -> 60
A18: ='Приложение 2'!A18 -> Функционирование Правительства Российской Федерации, высших исполнительных органов государственной власти субъектов Российской Федерации, местных администраций | B18: 01 | C18: 04 | I18: =I19+I32 -> 648.1 | J18: =J19 -> 504.9 | K18: =K19 -> 545.5
A19: ='Приложение 2'!A19 -> Обеспечение деятельности Администрации Пушкинского сельского поселения Ромодановского муниципального района Республики Мордовия | B19: 01 | C19: 04 | D19: 65 | I19: =I20 -> 647.8 | J19: =J20+J33 -> 504.9 | K19: =K20+K33 -> 545.5
A20: ='Приложение 2'!A20 -> Расходы в рамках обеспечения деятельности администрации Пушкинского сельского поселения | B20: 01 | C20: 04 | D20: 65 | E20: 2 | I20: =I21+I24+I29 -> 647.8 | J20: =J21+J24 -> 504.6 | K20: =K21 -> 545.2
A21: Расходы на выплаты по оплате труда работников органов местного самоуправления | B21: 01 | C21: 04 | D21: 65 | E21: 2 | F21: 00 | G21: 41110 | I21: =I22 -> 260.3 | J21: =J22 -> 321.5 | K21: =K22+K25 -> 545.2
A22: Расходы на выплаты персоналу в целях обеспечения выполнения функций государственными (муниципальными) органами, казенными учреждениями, органами управления государственными внебюджетными фондами | B22: 01 | C22: 04 | D22: 65 | E22: 2 | F22: 00 | G22: 41110 | H22: 100 | I22: =I23 -> 260.3 | J22: =J23 -> 321.5 | K22: =K23 -> 315
A23: Расходы на выплаты персоналу государственных (муниципальных) органов | B23: 01 | C23: 04 | D23: 65 | E23: 2 | F23: 00 | G23: 41110 | H23: 120 | I23: ='Приложение 2'!J23 -> 260.3 | J23: ='Приложение 2'!K23 -> 321.5 | K23: ='Приложение 2'!L23 -> 315
A24: Расходы на обеспечение функций органов местного самоуправления | B24: 01 | C24: 04 | D24: 65 | E24: 2 | F24: 00 | G24: 41120 | I24: =I25+I27 -> 327.5 | J24: =J25+J27 -> 183.1 | K24: =K25 -> 230.2
A25: Закупка товаров, работ и услуг для обеспечения государственных (муниципальных) нужд | B25: 01 | C25: 04 | D25: 65 | E25: 2 | F25: 00 | G25: 41120 | H25: 200 | I25: =I26 -> 321.5 | J25: =J26 -> 177.1 | K25: =+K26+K28 -> 230.2
A26: Иные закупки товаров, работ и услуг для обеспечения государственных (муниципальных) нужд | B26: 01 | C26: 04 | D26: 65 | E26: 2 | F26: 00 | G26: 41120 | H26: 240 | I26: ='Приложение 2'!J26 -> 321.5 | J26: ='Приложение 2'!K26 -> 177.1 | K26: ='Приложение 2'!L26 -> 224.2
A27: Иные бюджетные ассигнования | B27: 01 | C27: 04 | D27: 65 | E27: 2 | F27: 00 | G27: 41120 | H27: 800 | I27: =I28 -> 6 | J27: =J28 -> 6 | K27: =K28 -> 6
A28: Уплата налогов, сборов и иных платежей | B28: 01 | C28: 04 | D28: 65 | E28: 2 | F28: 00 | G28: 41120 | H28: 850 | I28: ='Приложение 2'!J28 -> 6 | J28: ='Приложение 2'!K28 -> 6 | K28: ='Приложение 2'!L28 -> 6
A29: =A15 -> Субсидии на софинансирование расходных обязательств по финансовому обеспечению деятельности органов местного самоуправления и муниципальных учреждений | B29: 01 | C29: 04 | D29: 65 | E29: 2 | F29: 00 | G29: 44205 | I29: =I30 -> 60
A30: =A22 -> Расходы на выплаты персоналу в целях обеспечения выполнения функций государственными (муниципальными) органами, казенными учреждениями, органами управления государственными внебюджетными фондами | B30: 01 | C30: 04 | D30: 65 | E30: 2 | F30: 00 | G30: 44205 | H30: 100 | I30: =I31 -> 60
A31: =A23 -> Расходы на выплаты персоналу государственных (муниципальных) органов | B31: 01 | C31: 04 | D31: 65 | E31: 2 | F31: 00 | G31: 44205 | H31: 120 | I31: ='Приложение 2'!J31 -> 60
A32: ='Приложение 2'!A32 -> Непрограммные расходы главных распорядителей средств бюджета Пушкинского сельского поселения Ромодановского муниципального района Республики Мордовия | B32: 01 | C32: 04 | D32: 89 | I32: =I33 -> 0.3 | J32: =J33 -> 0.3 | K32: =K33 -> 0.3
A33: ='Приложение 2'!A33 -> Непрограммные расходы в рамках обеспечения деятельности главных распорядителей средств бюджета Пушкинского сельского поселения Ромодановского муниципального района Республики Мордовия | B33: 01 | C33: 04 | D33: 89 | E33: 1 | I33: =I34 -> 0.3 | J33: =J34 -> 0.3 | K33: =K34 -> 0.3
A34: Осуществление государственных полномочий Республики Мордовия по определению перечня должностных лиц, уполномоченных составлять протоколы об административных правонарушениях, предусмотренных Законом Республики Мордовия от 15 июня 2015 года № 38-З "Об административной ответственности на территории Республики Мордовия" | B34: 01 | C34: 04 | D34: 89 | E34: 1 | F34: 00 | G34: 77150 | I34: =I35 -> 0.3 | J34: =J35 -> 0.3 | K34: =K35 -> 0.3
A35: Закупка товаров, работ и услуг для обеспечения государственных (муниципальных) нужд | B35: 01 | C35: 04 | D35: 89 | E35: 1 | F35: 00 | G35: 77150 | H35: 200 | I35: =I36 -> 0.3 | J35: =J36 -> 0.3 | K35: =K36 -> 0.3
A36: Иные закупки товаров, работ и услуг для обеспечения государственных (муниципальных) нужд | B36: 01 | C36: 04 | D36: 89 | E36: 1 | F36: 00 | G36: 77150 | H36: 240 | I36: ='Приложение 2'!J36 -> 0.3 | J36: ='Приложение 2'!K36 -> 0.3 | K36: ='Приложение 2'!L36 -> 0.3
A37: Резервные фонды | B37: 01 | C37: 11 | I37: =I38 -> 5 | J37: =J38 -> 5 | K37: =K38 -> 5
A38: ='Приложение 2'!A38 -> Непрограммные расходы главных распорядителей средств бюджета Пушкинского сельского поселения Ромодановского муниципального района Республики Мордовия | B38: 01 | C38: 11 | D38: 89 | I38: =I39 -> 5 | J38: =J39 -> 5 | K38: =K39 -> 5
A39: ='Приложение 2'!A39 -> Непрограммные расходы в рамках обеспечения деятельности главных распорядителей средств бюджета Пушкинского сельского поселения Ромодановского муниципального района Республики Мордовия | B39: 01 | C39: 11 | D39: 89 | E39: 1 | I39: =I40 -> 5 | J39: =J40 -> 5 | K39: =K40 -> 5
A40: Резервный фонд администрации Пушкинского сельского поселени Ромодановского муниципального района Республики Мордовия | B40: 01 | C40: 11 | D40: 89 | E40: 1 | F40: 00 | G40: 41180 | I40: =I41 -> 5 | J40: =J41 -> 5 | K40: =K41 -> 5
...

Sheet Приложение4
I1: Приложение 4 к решению Совета депутатов Пушкинского сельского поселения Ромодановского муниципального района Республики Мордовия «О бюджете Пушкинского сельского поселения Ромодановского муниципального района Республики Мордовия на 2023 год и на плановый период 2024 и 2025 годов»
A2: РАСПРЕДЕЛЕНИЕ БЮДЖЕТНЫХ АССИГНОВАНИЙ БЮДЖЕТА ПУШКИНСКОГО СЕЛЬСКОГО ПОСЕЛЕНИЯ РОМОДАНОВСКОГО МУНИЦИПАЛЬНОГО РАЙОНА РЕСПУБЛИКИ МОРДОВИЯ ПО ЦЕЛЕВЫМ СТАТЬЯМ (МУНИЦИПАЛЬНЫМ ПРОГРАММАМ И НЕПРОГРАММНЫМ НАПРАВЛЕНИЯМ ДЕЯТЕЛЬНОСТИ), ГРУППАМ И ПОДГРУППАМ ВИДОВ РАСХОДОВ, РАЗДЕЛАМ И ПОДРАЗДЕЛАМ КЛАССИФИКАЦИИ РАСХОДОВ БЮДЖЕТОВ НА 2023 ГОД И НА ПЛАНОВЫЙ ПЕРИОД 2024 И 2025 ГОДОВ
I3: (тыс. рублей)
A4: Наименование | B4: Цср | F4: ВР | G4: Рз | H4: Прз | I4: Адм | J4: Сумма
J5: 2023 год | K5: 2024 год | L5: 2025 год
A6: 1 | B6: 2 | C6: 3 | D6: 4 | E6: 5 | F6: 6 | G6: 7 | H6: 8 | I6: 9 | J6: 10 | K6: 11 | L6: 12
A7: ВСЕГО | J7: =J8+J23+J31+J60+J104+J45+J54 -> 9692.3 | K7: =K8+K23+K31+K60+K104 -> 1271.1 | L7: =L8+L23+L31+L60+L104 -> 1329
A8: ='Приложение 2'!A62 -> Муниципальная программа "Комплексного развития социальной инфраструктуры Пушкинского сельского поселения Ромодановского муниципального района Республики Мордовия на 2018-2028 года" | B8: 10 | J8: =J9+J16 -> 170 | K8: =K16+K9 -> 120 | L8: =L16+L9 -> 120
A9: ='Приложение 2'!A63 -> Основное мероприятие "Благоустройство территории " | B9: 10 | C9: 0 | D9: 07 | J9: =J10 -> 81 | K9: =K10 -> 26 | L9: =L10 -> 23
A10: Прочие мероприятия по благоустройству | B10: 10 | C10: 0 | D10: 07 | E10: 43040 | J10: =J11 -> 81 | K10: =K11 -> 26 | L10: =L11 -> 23
A11: Закупка товаров, работ и услуг для обеспечения государственных (муниципальных) нужд | B11: 10 | C11: 0 | D11: 07 | E11: 43040 | F11: 200 | J11: =J12 -> 81 | K11: =K12 -> 26 | L11: =L12 -> 23
A12: Иные закупки товаров, работ и услуг для обеспечения государственных (муниципальных) нужд | B12: 10 | C12: 0 | D12: 07 | E12: 43040 | F12: 240 | J12: =J13 -> 81 | K12: =K13 -> 26 | L12: =L13 -> 23
A13: Жилищно-коммунальное хозяйство | B13: 10 | C13: 0 | D13: 07 | E13: 43040 | F13: 240 | G13: 05 | J13: =J14 -> 81 | K13: =K14 -> 26 | L13: =L14 -> 23
A14: Благоустройство | B14: 10 | C14: 0 | D14: 07 | E14: 43040 | F14: 240 | G14: 05 | H14: 03 | J14: =J15 -> 81 | K14: =K15 -> 26 | L14: =L15 -> 23
A15: Администрация Пушкинского сельского поселения Ромодановского муниципального района Республики Мордовия | B15: 10 | C15: 0 | D15: 07 | E15: 43040 | F15: 240 | G15: 05 | H15: 03 | I15: 921 | J15: ='Приложение 2'!J66 -> 81 | K15: ='Приложение 2'!K66 -> 26 | L15: ='Приложение 2'!L66 -> 23
A16: ='Приложение 2'!A67 -> Основное мероприятие "Освещение территории сельского поселения" | B16: 10 | C16: 0 | D16: 08 | J16: =J17 -> 89 | K16: =K17 -> 94 | L16: =L17 -> 97
A17: Уличное освещение | B17: 10 | C17: 0 | D17: 08 | E17: 43010 | J17: =J18 -> 89 | K17: =K18 -> 94 | L17: =L18 -> 97
A18: Закупка товаров, работ и услуг для обеспечения государственных (муниципальных) нужд | B18: 10 | C18: 0 | D18: 08 | E18: 43010 | F18: 200 | J18: =J19 -> 89 | K18: =K19 -> 94 | L18: =L19 -> 97
A19: Иные закупки товаров, работ и услуг для обеспечения государственных (муниципальных) нужд | B19: 10 | C19: 0 | D19: 08 | E19: 43010 | F19: 240 | J19: =J20 -> 89 | K19: =K20 -> 94 | L19: =L20 -> 97
A20: Жилищно-коммунальное хозяйство | B20: 10 | C20: 0 | D20: 08 | E20: 43010 | F20: 240 | G20: 05 | J20: =J21 -> 89 | K20: =K21 -> 94 | L20: =L21 -> 97
A21: Благоустройство | B21: 10 | C21: 0 | D21: 08 | E21: 43010 | F21: 240 | G21: 05 | H21: 03 | J21: =J22 -> 89 | K21: =K22 -> 94 | L21: =L22 -> 97
A22: Администрация Пушкинского сельского поселения Ромодановского муниципального района Республики Мордовия | B22: 10 | C22: 0 | D22: 08 | E22: 43010 | F22: 240 | G22: 05 | H22: 03 | I22: 921 | J22: ='Приложение 2'!J70 -> 89 | K22: ='Приложение 2'!K70 -> 94 | L22: ='Приложение 2'!L70 -> 97
A23: ='Приложение 2'!A55 -> Муниципальная программа «Комплексного развития транспортной инфраструктуры Пушкинского сельского поселения Ромодановского муниципального района Республики Мордовия на 2018- 2028 года" | B23: 13 | J23: =J24 -> 159.8 | K23: =K24 -> 159.8 | L23: =L24 -> 159.8
A24: ='Приложение 2'!A56 -> Основное мероприятие "Ремонт и содержание дорог в границах поселения,поддержание дорожного полотна в работоспособном состоянии " | B24: 13 | C24: 0 | D24: 01 | J24: =J25 -> 159.8 | K24: =K25 -> 159.8 | L24: =L25 -> 159.8
A25: ='Приложение 2'!A57 -> Иные межбюджетные трансферты на осуществление полномочий по дорожной деятельности в отношении автомобильных дорог местного значения в границах населенных пунктов поселения и обеспечению безопасности дорожного движения на них, включая создание и обеспечение функционирования парковок (парковочных мест), осуществлению муниципального контроля за сохранностью автомобильных дорог местного значения в границах населенных пунктов поселения, организации дорожного движения, а также осуществлению иных полномочий в области использования автомобильных дорог и осуществления дорожной деятельности в соответствии с законодательством Российской Федерации | B25: 13 | C25: 0 | D25: 01 | E25: 44102 | J25: =J26 -> 159.8 | K25: =K26 -> 159.8 | L25: =L26 -> 159.8
A26: Закупка товаров, работ и услуг для обеспечения государственных (муниципальных) нужд | B26: 13 | C26: 0 | D26: 01 | E26: 44102 | F26: 200 | J26: =J27 -> 159.8 | K26: =K27 -> 159.8 | L26: =L27 -> 159.8
A27: Иные закупки товаров, работ и услуг для обеспечения государственных (муниципальных) нужд | B27: 13 | C27: 0 | D27: 01 | E27: 44102 | F27: 240 | J27: =J28 -> 159.8 | K27: =K28 -> 159.8 | L27: =L28 -> 159.8
A28: Национальная экономика | B28: 13 | C28: 0 | D28: 01 | E28: 44102 | F28: 240 | G28: 04 | J28: =J29 -> 159.8 | K28: =K29 -> 159.8 | L28: =L29 -> 159.8
A29: ='Приложение 2'!A54 -> Дорожное хозяйство (дорожные фонды) | B29: 13 | C29: 0 | D29: 01 | E29: 44102 | F29: 240 | G29: 04 | H29: 09 | J29: =J30 -> 159.8 | K29: =K30 -> 159.8 | L29: =L30 -> 159.8
A30: Администрация Пушкинского сельского поселения Ромодановского муниципального района Республики Мордовия | B30: 13 | C30: 0 | D30: 01 | E30: 44102 | F30: 240 | G30: 04 | H30: 09 | I30: 921 | J30: ='Приложение 2'!J59 -> 159.8 | K30: ='Приложение 2'!K59 -> 159.8 | L30: ='Приложение 2'!L59 -> 159.8
A31: ='Приложение 2'!A45 -> Государственная программа повышения эффективности управления государственными финансами в Республике Мордовия | B31: 17 | J31: =J32 -> 109.3 | K31: =K32 -> 114.4 | L31: =L32 -> 118.7
A32: Подпрограмма "Повышения эффективности межбюджетных отношений" | B32: 17 | C32: 3 | J32: =J33 -> 109.3 | K32: =K33 -> 114.4 | L32: =L33 -> 118.7
A33: ='Приложение 2'!A47 -> Основное мероприятие "Обеспечение и осуществления органами местного самоуправления отдельных государственных полномочий" | B33: 17 | C33: 3 | D33: 02 | J33: =J34 -> 109.3 | K33: =K34 -> 114.4 | L33: =L34 -> 118.7
A34: ='Приложение 2'!A48 -> Осуществление государственных полномочий Российской Федерации по первичному воинскому учету на территориях, где отсутствуют военные комиссариаты | B34: 17 | C34: 3 | D34: 02 | E34: 51180 | J34: =J40+J35 -> 109.3 | K34: =K40+K35 -> 114.4 | L34: =L40+L35 -> 118.7
A35: Расходы на выплаты персоналу в целях обеспечения выполнения функций государственными (муниципальными) органами, казенными учреждениями, органами управления государственными внебюджетными фондами | B35: 17 | C35: 3 | D35: 02 | E35: 51180 | F35: 100 | J35: =J36 -> 104.3 | K35: =K36 -> 109.4 | L35: =L36 -> 113.7
A36: Расходы на выплаты персоналу государственных (муниципальных) органов | B36: 17 | C36: 3 | D36: 02 | E36: 51180 | F36: 120 | J36: =J37 -> 104.3 | K36: =K37 -> 109.4 | L36: =L37 -> 113.7
A37: Национальная оборона | B37: 17 | C37: 3 | D37: 02 | E37: 51180 | F37: 120 | G37: 02 | J37: =J38 -> 104.3 | K37: =K38 -> 109.4 | L37: =L38 -> 113.7
A38: Мобилизация и вневойсковая подготовка | B38: 17 | C38: 3 | D38: 02 | E38: 51180 | F38: 120 | G38: 02 | H38: 03 | J38: =J39 -> 104.3 | K38: =K39 -> 109.4 | L38: =L39 -> 113.7
A39: Администрация Пушкинского сельского поселения Ромодановского муниципального района Республики Мордовия | B39: 17 | C39: 3 | D39: 02 | E39: 51180 | F39: 120 | G39: 02 | H39: 03 | I39: 921 | J39: ='Приложение 2'!J50 -> 104.3 | K39: ='Приложение 2'!K50 -> 109.4 | L39: ='Приложение 2'!L50 -> 113.7
A40: Закупка товаров, работ и услуг для обеспечения государственных (муниципальных) нужд | B40: 17 | C40: 3 | D40: 02 | E40: 51180 | F40: 200 | J40: =J41 -> 5 | K40: =K41 -> 5 | L40: =L41 -> 5
...

Sheet прил5
C1: Приложение 6
C2: к решению Совета депутатов Пушкинского сельского поселения Ромодановского муниципального района Республики Мордовия "О бюджете Пушкинского сельского поселения Ромодановского муниципального района Республики Мордовия на 2023 год и на плановый период 2024 и 2025 годов"
A3: ИСТОЧНИКИ ВНУТРЕННЕГО ФИНАНСИРОВАНИЯ ДЕФИЦИТА БЮДЖЕТА ПУШКИНСКОГО СЕЛЬСКОГО ПОСЕЛЕНИЯ РОМОДАНОВСКОГО МУНИЦИПАЛЬНОГО РАЙОНА РЕСПУБЛИКИ МОРДОВИЯ НА 2023 ГОД И НА ПЛАНОВЫЙ ПЕРИОД 2024 и 2025 ГОДОВ
A7: Код | B7: Наименование кода группы, подгруппы, статьи, вида источника финансирования дефицитов бюджетов, кода классификации операций сектора государственного управления, относящихся к источникам финансирования дефицитов бюджетов Российской Федерации | C7: Сумма (тыс. руб.)
C8: 2023 год | D8: 2024 год | E8: 2025 год
A9: 1 | B9: 2 | C9: 3 | D9: 4 | E9: 5
A10: 000 01 00 00 00 00 0000 000 | B10: ИСТОЧНИКИ ВНУТРЕННЕГО ФИНАНСИРОВАНИЯ ДЕФИЦИТОВ БЮДЖЕТОВ | C10: =C11+C22+C14+C18 -> 80.7 | D10: =D11+D22+D14+D18 -> 0 | E10: =E11+E22+E14+E18 -> 0
A11: 000 01 02 00 00 00 0000 000 | B11: Кредиты кредитных организаций в валюте Российской Федерации | C11: =SUM(C12) -> 0 | D11: =SUM(D12) -> 0 | E11: =SUM(E12) -> 0
A12: 000 01 02 00 00 00 0000 700 | B12: Привлечение кредитов от кредитных организаций в валюте Российской Федерации | C12: =SUM(C13) -> 0 | D12: =SUM(D13) -> 0 | E12: =SUM(E13) -> 0
A13: 000 01 02 00 00 05 0000 710 | B13: Привлечение кредитов от кредитных организаций бюджетами муниципальных районов в валюте Российской Федерации | C13: 0 | D13: 0 | E13: 0
A14: 000 01 03 00 00 00 0000 000 | B14: Бюджетные кредиты из других бюджетов бюджетной системы Российской Федерации | C14: 0 | D14: =D15 -> 0 | E14: =E15 -> 0
A15: 000 01 03 01 00 00 0000 000 | B15: Бюджетные кредиты из других бюджетов бюджетной системы Российской Федерации в валюте Российской Федерации | C15: =C16 -> 0 | D15: =D16 -> 0 | E15: =E16 -> 0
A16: 000 01 03 01 00 00 0000 800 | B16: Погашение бюджетных кредитов, полученных из других бюджетов бюджетной системы Российской Федерации в валюте Российской Федерации | C16: =SUM(C17) -> 0 | D16: =SUM(D17) -> 0 | E16: =SUM(E17) -> 0
A17: 000 01 03 01 00 05 0000 810 | B17: Погашение бюджетами муниципальных районов кредитов из других бюджетов бюджетной системы Российской Федерации в валюте Российской Федерации | C17: 0 | D17: 0 | E17: 0
A18: 000 01 06 00 00 00 0000 000 | B18: Иные источники внутреннего финансирования дефицитов бюджетов | C18: =C19 -> 0 | D18: =D19 -> 0 | E18: =E19 -> 0
A19: 000 01 06 05 00 00 0000 000 | B19: Бюджетные кредиты, предоставленные внутри страны в валюте Российской Федерации | C19: =C20 -> 0 | D19: =D20 -> 0 | E19: =E20 -> 0
A20: 000 01 06 05 02 00 0000 600 | B20: Возврат бюджетных кредитов, предоставленных другим бюджетам бюджетной системы Российской Федерации в валюте Российской Федерации | C20: =C21 -> 0 | D20: =D21 -> 0 | E20: =E21 -> 0
A21: 000 01 06 05 02 05 0000 640 | B21: Возврат бюджетных кредитов, предоставленных другим бюджетам бюджетной системы Российской Федерации из бюджетов муниципальных районов в валюте Российской Федерации | C21: 0 | D21: 0 | E21: 0
A22: 000 01 05 00 00 00 0000 000 | B22: Изменения остатков средств на счетах по учету средств бюджета | C22: =C25+C26 -> 80.7 | D22: =D25+D26 -> 0 | E22: =E25+E26 -> 0
A23: 000 01 05 02 00 00 0000 500 | B23: Увеличение прочих остатков средств бюджетов | C23: =SUM(C24) -> -9611.6 | D23: =SUM(D24) -> -1271.1 | E23: =SUM(E24) -> -1329
A24: 000 01 05 02 01 00 0000 510 | B24: Увеличение прочих остатков денежных средств бюджетов | C24: =SUM(C25) -> -9611.6 | D24: =SUM(D25) -> -1271.1 | E24: =SUM(E25) -> -1329
A25: 000 01 05 02 01 10 0000 510 | B25: Увеличение прочих остатков денежных средств бюджетов сельских поселений | C25: -9611.6 | D25: -1271.1 | E25: -1329
A26: 000 01 05 02 00 00 0000 600 | B26: Уменьшение прочих остатков средств бюджетов | C26: =SUM(C27) -> 9692.3 | D26: =SUM(D27) -> 1271.1 | E26: =SUM(E27) -> 1329
A27: 000 01 05 02 01 00 0000 610 | B27: Уменьшение прочих остатков денежных средств бюджетов | C27: =SUM(C28) -> 9692.3 | D27: =SUM(D28) -> 1271.1 | E27: =SUM(E28) -> 1329
A28: 000 01 05 02 01 05 0000 610 | B28: Уменьшение прочих остатков денежных средств бюджетов муниципальных районов | C28: =Приложение3!I7 -> 9692.3 | D28: =Приложение3!J7 -> 1271.1 | E28: =Приложение3!K7 -> 1329
A29: 000 01 00 00 00 00 0000 000 | B29: Итого источников внутреннего финансирования дефицита бюджета Пушкинского сельского поселения Ромодановского муниципального района Республики Мордовия | C29: 0 | D29: 0 | E29: 0
B30: собственные доходы | C30: 478.6 | D30: 486.4 | E30: 490.7
