Workbook

Sheet Приложение 1
I1: Приложение 1 к решению Совета депутатов Белозерьевского сельского поселения Ромодановского муниципального района Республики Мордовия «О внесении изменений в решение Совета депутатов Белозерьевского сельского поселения Ромодановского муниципального района Республики Мордовия от 29 декабря 2022 г № «О бюджете Беложерьевского сельского поселения Ромодановского муниципального района Республики Мордовия на 2023 год и на плановый период 2024 и 2025 годов»
I2: Приложение 3 к решению Совета депутатов Белозерьевского сельского поселения Ромодановского муниципального района Республики Мордовия «О бюджете Белозерьевского сельского поселения Ромодановского муниципального района Республики Мордовия на 2023 год и на плановый период 2024 и 2025 годов»
A3: ВЕДОМСТВЕННАЯ СТРУКТУРА РАСХОДОВ БЮДЖЕТА БЕЛОЗЕРЬЕВСКОГО СЕЛЬСКОГО ПОСЕЛЕНИЯ РОМОДАНОВСКОГО МУНИЦИПАЛЬНОГО РАЙОНА РЕСПУБЛИКИ МОРДОВИЯ НА 2023 ГОД И НА ПЛАНОВЫЙ ПЕРИОД 2024 И 2025 ГОДОВ
I4: (тыс. рублей)
A5: Наименование | B5: Адм | C5: Рз | D5: Прз | E5: Цср | I5: Вр | J5: Сумма
J6: 2023 год | K6: 2024 год | L6: 2025 год
A7: 1 | B7: 2 | C7: 3 | D7: 4 | E7: 5 | F7: 6 | G7: 7 | H7: 8 | I7: 9 | J7: 10 | K7: 11 | L7: 12
A8: Администрация Белозерьевского сельского поселения Ромодановского муниципального района Республики Мордовия | B8: 911 | J8: =J9+J38+J48+J55+J66 -> 4330.6 | K8: =K9+K38+K48+K55+K66+K73 -> 2432.3 | L8: =L9+L38+L48+L55+L66+L73 -> 2557.4
A9: Общегосударственные вопросы | B9: 911 | C9: 01 | J9: =J10+J16+J32 -> 2783.2 | K9: =K10+K16+K32 -> 1407.2 | L9: =L10+L16+L32 -> 1471.4
A10: Функционирование высшего должностного лица субъекта Российской Федерации и муниципального образования | B10: 911 | C10: 01 | D10: 02 | J10: =J11 -> 651 | K10: =K11 -> 600.5 | L10: =L11 -> 565.3
A11: Обеспечение деятельности Администрации Белозерьевского сельского поселения Ромодановского муниципального района Республики Мордовия | B11: 911 | C11: 01 | D11: 02 | E11: 65 | J11: =J12 -> 651 | K11: =K12 -> 600.5 | L11: =L12 -> 565.3
A12: Высшее должностное лицо | B12: 911 | C12: 01 | D12: 02 | E12: 65 | F12: 1 | J12: =J13 -> 651 | K12: =K13 -> 600.5 | L12: =L13 -> 565.3
A13: Расходы на выплаты по оплате труда высшего должностного лица | B13: 911 | C13: 01 | D13: 02 | E13: 65 | F13: 1 | G13: 00 | H13: 41150 | J13: =J14 -> 651 | K13: =K14 -> 600.5 | L13: =L14 -> 565.3
A14: Расходы на выплаты персоналу в целях обеспечения выполнения функций государственными (муниципальными) органами, казенными учреждениями, органами управления государственными внебюджетными фондами | B14: 911 | C14: 01 | D14: 02 | E14: 65 | F14: 1 | G14: 00 | H14: 41150 | I14: 100 | J14: =J15 -> 651 | K14: =K15 -> 600.5 | L14: =L15 -> 565.3
A15: Расходы на выплаты персоналу государственных (муниципальных) органов | B15: 911 | C15: 01 | D15: 02 | E15: 65 | F15: 1 | G15: 00 | H15: 41150 | I15: 120 | J15: 651 | K15: 600.5 | L15: 565.3
A16: Функционирование Правительства Российской Федерации, высших исполнительных органов государственной власти субъектов Российской Федерации, местных администраций | B16: 911 | C16: 01 | D16: 04 | J16: =J17+J27 -> 2082.2 | K16: =K17+K27 -> 756.7 | L16: =L17+L27 -> 856.1
A17: =A11 -> Обеспечение деятельности Администрации Белозерьевского сельского поселения Ромодановского муниципального района Республики Мордовия | B17: 911 | C17: 01 | D17: 04 | E17: 65 | J17: =J18 -> 2080.5 | K17: =K18 -> 754.9 | L17: =L18 -> 854.2
A18: Расходы в рамках обеспечения деятельности Администрации Белозерьевского сельского поселения | B18: 911 | C18: 01 | D18: 04 | E18: 65 | F18: 2 | J18: =J19+J22 -> 2080.5 | K18: =K19+K22 -> 754.9 | L18: =L19+L22 -> 854.2
A19: Расходы на выплаты по оплате труда работников органов местного самоуправления | B19: 911 | C19: 01 | D19: 04 | E19: 65 | F19: 2 | G19: 00 | H19: 41110 | J19: =J20 -> 513 | K19: =K20 -> 524.6 | L19: =L20 -> 520.8
A20: Расходы на выплаты персоналу в целях обеспечения выполнения функций государственными (муниципальными) органами, казенными учреждениями, органами управления государственными внебюджетными фондами | B20: 911 | C20: 01 | D20: 04 | E20: 65 | F20: 2 | G20: 00 | H20: 41110 | I20: 100 | J20: =J21 -> 513 | K20: =K21 -> 524.6 | L20: =L21 -> 520.8
A21: Расходы на выплаты персоналу государственных (муниципальных) органов | B21: 911 | C21: 01 | D21: 04 | E21: 65 | F21: 2 | G21: 00 | H21: 41110 | I21: 120 | J21: 513 | K21: 524.6 | L21: 520.8
A22: Расходы на обеспечение функций органов местного самоуправления | B22: 911 | C22: 01 | D22: 04 | E22: 65 | F22: 2 | G22: 00 | H22: 41120 | J22: =J23+J25 -> 1567.5 | K22: =K23+K25 -> 230.3 | L22: =L23+L25 -> 333.4
A23: Закупка товаров, работ и услуг для обеспечения государственных (муниципальных) нужд | B23: 911 | C23: 01 | D23: 04 | E23: 65 | F23: 2 | G23: 00 | H23: 41120 | I23: 200 | J23: =J24 -> 1555.5 | K23: =K24 -> 223.3 | L23: =L24 -> 331.4
A24: Иные закупки товаров, работ и услуг для обеспечения государственных (муниципальных) нужд | B24: 911 | C24: 01 | D24: 04 | E24: 65 | F24: 2 | G24: 00 | H24: 41120 | I24: 240 | J24: 1555.5 | K24: 223.3 | L24: 331.4
A25: Иные бюджетные ассигнования | B25: 911 | C25: 01 | D25: 04 | E25: 65 | F25: 2 | G25: 00 | H25: 41120 | I25: 800 | J25: =J26 -> 12 | K25: =K26 -> 7 | L25: =L26 -> 2
A26: Уплата налогов, сборов и иных платежей | B26: 911 | C26: 01 | D26: 04 | E26: 65 | F26: 2 | G26: 00 | H26: 41120 | I26: 850 | J26: 12 | K26: 7 | L26: 2
A27: Непрограммные расходы главных распорядителей средств бюджета Белозерьевского сельского поселения Ромодановского муниципального района Республики Мордовия | B27: 911 | C27: 01 | D27: 04 | E27: 89 | J27: =J28 -> 1.7 | K27: =K28 -> 1.8 | L27: =L28 -> 1.9
A28: Непрограммные расходы в рамках обеспечения деятельности главных распорядителей средств бюджета Белозерьевского сельского поселения Ромодановского муниципального района Республики Мордовия | B28: 911 | C28: 01 | D28: 04 | E28: 89 | F28: 1 | J28: =J29 -> 1.7 | K28: =K29 -> 1.8 | L28: =L29 -> 1.9
A29: Осуществление государственных полномочий Республики Мордовия по определению перечня должностных лиц, уполномоченных составлять протоколы об административных правонарушениях, предусмотренных Законом Республики Мордовия от 15 июня 2015 года № 38-З "Об административной ответственности на территории Республики Мордовия" | B29: 911 | C29: 01 | D29: 04 | E29: 89 | F29: 1 | G29: 00 | H29: 77150 | J29: =J30 -> 1.7 | K29: =K30 -> 1.8 | L29: =L30 -> 1.9
A30: Закупка товаров, работ и услуг для обеспечения государственных (муниципальных) нужд | B30: 911 | C30: 01 | D30: 04 | E30: 89 | F30: 1 | G30: 00 | H30: 77150 | I30: 200 | J30: =J31 -> 1.7 | K30: =K31 -> 1.8 | L30: =L31 -> 1.9
A31: Иные закупки товаров, работ и услуг для обеспечения государственных (муниципальных) нужд | B31: 911 | C31: 01 | D31: 04 | E31: 89 | F31: 1 | G31: 00 | H31: 77150 | I31: 240 | J31: 1.7 | K31: 1.8 | L31: 1.9
A32: Резервные фонды | B32: 911 | C32: 01 | D32: 11 | J32: =J33 -> 50 | K32: =K33 -> 50 | L32: =L33 -> 50
A33: Непрограммные расходы главных распорядителей бюджетных средств Белозерьевского сельского поселения Ромодановского муниципального района Республики Мордовия | B33: 911 | C33: 01 | D33: 11 | E33: 89 | J33: =J34 -> 50 | K33: =K34 -> 50 | L33: =L34 -> 50
A34: Непрограммные расходы в рамках обеспечения деятельности главных распорядителей бюджетных средств Белозерьевского сельского поселения Ромодановского муниципального района Республики Мордовия | B34: 911 | C34: 01 | D34: 11 | E34: 89 | F34: 1 | J34: =J35 -> 50 | K34: =K35 -> 50 | L34: =L35 -> 50
A35: Резервный фонд администрации Белозерьевского сельского поселени Ромодановского муниципального района Республики Мордовия | B35: 911 | C35: 01 | D35: 11 | E35: 89 | F35: 1 | G35: 00 | H35: 41180 | J35: =J37 -> 50 | K35: =K37 -> 50 | L35: =L37 -> 50
A36: Иные бюджетные ассигнования | B36: 911 | C36: 01 | D36: 11 | E36: 89 | F36: 1 | G36: 00 | H36: 41180 | I36: 800 | J36: =J37 -> 50 | K36: =K37 -> 50 | L36: =L37 -> 50
A37: Резервные средства | B37: 911 | C37: 01 | D37: 11 | E37: 89 | F37: 1 | G37: 00 | H37: 41180 | I37: 870 | J37: 50 | K37: 50 | L37: 50
A38: Национальная оборона | B38: 911 | C38: 02 | J38: =J39 -> 297.8 | K38: =K39 -> 311.2 | L38: =L39 -> 321.4
A39: Мобилизационная и вневойсковая подготовка | B39: 911 | C39: 02 | D39: 03 | J39: =J40 -> 297.8 | K39: =K40 -> 311.2 | L39: =L40 -> 321.4
A40: Государственная программа повышения эффективности управления государственными финансами Республики Мордовия | B40: 911 | C40: 02 | D40: 03 | E40: 17 | J40: =J41 -> 297.8 | K40: =K41 -> 311.2 | L40: =L41 -> 321.4
...

Sheet Приложение 2
H1: Приложение 2 к решению Совета депутатов Белозерьевского сельского поселения Ромодановского муниципального района Республики Мордовия «О внесении изменений в решение Совета депутатов Белозерьевского сельского поселения Ромодановского муниципального района Республики Мордовия от 29 декабря 2022 г № «О бюджете Беложерьевского сельского поселения Ромодановского муниципального района Республики Мордовия на 2023 год и на плановый период 2024 и 2025 годов»
H2: Приложение 4 к решению Совета депутатов Белозерьевского сельского поселения Ромодановского муниципального района Республики Мордовия «О бюджете Белозерьевского сельского поселеняи Ромодановского муниципального района Республики Мордовия на 2023 год и на плановый период 2024 и 2025 годов»
A3: РАСПРЕДЕЛЕНИЕ БЮДЖЕТНЫХ АССИГНОВАНИЙ БЮДЖЕТА БЕЛОЗЕРЬЕВСКОГО СЕЛЬСКОГО ПОСЕЛЕНИЯ РОМОДАНОВСКОГО МУНИЦИПАЛЬНОГО РАЙОНА РЕСПУБЛИКИ МОРДОВИЯ ПО РАЗДЕЛАМ, ПОДРАЗДЕЛАМ, ЦЕЛЕВЫМ СТАТЬЯМ (МУНИЦИПАЛЬНЫМ ПРОГРАММАМ И НЕПРОГРАММНЫМ НАПРАВЛЕНИЯМ ДЕЯТЕЛЬНОСТИ), ГРУППАМ И ПОДГРУППАМ ВИДОВ РАСХОДОВ КЛАССИФИКАЦИИ РАСХОДОВ БЮДЖЕТОВ НА 2023 ГОД И НА ПЛАНОВЫЙ ПЕРИОД 2024 И 2025 ГОДОВ
H4: (тыс. рублей)
A5: Наименование | B5: Рз | C5: Прз | D5: Цср | H5: Вр | I5: Сумма
I6: 2023 год | J6: 2024 год | K6: 2025 год
A7: 1 | B7: 2 | C7: 3 | D7: 4 | E7: 5 | F7: 6 | G7: 7 | H7: 8 | I7: 9 | J7: 10 | K7: 11
A8: ВСЕГО | I8: =I9+I38+I48+I55+I66 -> 4330.6 | J8: =J9+J38+J48+J55+J66+J73 -> 2432.3 | K8: =K9+K38+K48+K55+K66+K73 -> 2557.4
A9: Общегосударственные вопросы | B9: 01 | I9: =I10+I16+I32 -> 2783.2 | J9: =J10+J16+J32 -> 1407.2 | K9: =K10+K16+K32 -> 1471.4
A10: Функционирование высшего должностного лица субъекта Российской Федерации и муниципального образования | B10: 01 | C10: 02 | I10: =I11 -> 651 | J10: =J11 -> 600.5 | K10: =K11 -> 565.3
A11: ='Приложение 1'!A11 -> Обеспечение деятельности Администрации Белозерьевского сельского поселения Ромодановского муниципального района Республики Мордовия | B11: 01 | C11: 02 | D11: 65 | I11: =I12 -> 651 | J11: =J12 -> 600.5 | K11: =K12 -> 565.3
A12: Высшее должностное лицо | B12: 01 | C12: 02 | D12: 65 | E12: 1 | I12: =I13 -> 651 | J12: =J13 -> 600.5 | K12: =K13 -> 565.3
A13: Расходы на выплаты по оплате труда высшего должностного лица | B13: 01 | C13: 02 | D13: 65 | E13: 1 | F13: 00 | G13: 41150 | I13: =I14 -> 651 | J13: =J14 -> 600.5 | K13: =K14 -> 565.3
A14: Расходы на выплаты персоналу в целях обеспечения выполнения функций государственными (муниципальными) органами, казенными учреждениями, органами управления государственными внебюджетными фондами | B14: 01 | C14: 02 | D14: 65 | E14: 1 | F14: 00 | G14: 41150 | H14: 100 | I14: =I15 -> 651 | J14: =J15 -> 600.5 | K14: =K15 -> 565.3
A15: Расходы на выплаты персоналу государственных (муниципальных) органов | B15: 01 | C15: 02 | D15: 65 | E15: 1 | F15: 00 | G15: 41150 | H15: 120 | I15: ='Приложение 1'!J15 -> 651 | J15: ='Приложение 1'!K15 -> 600.5 | K15: ='Приложение 1'!L15 -> 565.3
A16: Функционирование Правительства Российской Федерации, высших исполнительных органов государственной власти субъектов Российской Федерации, местных администраций | B16: 01 | C16: 04 | I16: =I17+I27 -> 2082.2 | J16: =J17+J27 -> 756.7 | K16: =K17+K27 -> 856.1
A17: ='Приложение 1'!A17 -> Обеспечение деятельности Администрации Белозерьевского сельского поселения Ромодановского муниципального района Республики Мордовия | B17: 01 | C17: 04 | D17: 65 | I17: =I18 -> 2080.5 | J17: =J18 -> 754.9 | K17: =K18 -> 854.2
A18: ='Приложение 1'!A18 -> Расходы в рамках обеспечения деятельности Администрации Белозерьевского сельского поселения | B18: 01 | C18: 04 | D18: 65 | E18: 2 | I18: =I19+I22 -> 2080.5 | J18: =J19+J22 -> 754.9 | K18: =K19+K22 -> 854.2
A19: Расходы на выплаты по оплате труда работников органов местного самоуправления | B19: 01 | C19: 04 | D19: 65 | E19: 2 | F19: 00 | G19: 41110 | I19: =I20 -> 513 | J19: =J20 -> 524.6 | K19: =K20 -> 520.8
A20: Расходы на выплаты персоналу в целях обеспечения выполнения функций государственными (муниципальными) органами, казенными учреждениями, органами управления государственными внебюджетными фондами | B20: 01 | C20: 04 | D20: 65 | E20: 2 | F20: 00 | G20: 41110 | H20: 100 | I20: =I21 -> 513 | J20: =J21 -> 524.6 | K20: =K21 -> 520.8
A21: Расходы на выплаты персоналу государственных (муниципальных) органов | B21: 01 | C21: 04 | D21: 65 | E21: 2 | F21: 00 | G21: 41110 | H21: 120 | I21: ='Приложение 1'!J21 -> 513 | J21: ='Приложение 1'!K21 -> 524.6 | K21: ='Приложение 1'!L21 -> 520.8
A22: Расходы на обеспечение функций органов местного самоуправления | B22: 01 | C22: 04 | D22: 65 | E22: 2 | F22: 00 | G22: 41120 | I22: =+I23+I25 -> 1567.5 | J22: =+J23+J25 -> 230.3 | K22: =+K23+K25 -> 333.4
A23: Закупка товаров, работ и услуг для обеспечения государственных (муниципальных) нужд | B23: 01 | C23: 04 | D23: 65 | E23: 2 | F23: 00 | G23: 41120 | H23: 200 | I23: =I24 -> 1555.5 | J23: =J24 -> 223.3 | K23: =K24 -> 331.4
A24: Иные закупки товаров, работ и услуг для обеспечения государственных (муниципальных) нужд | B24: 01 | C24: 04 | D24: 65 | E24: 2 | F24: 00 | G24: 41120 | H24: 240 | I24: ='Приложение 1'!J24 -> 1555.5 | J24: ='Приложение 1'!K24 -> 223.3 | K24: ='Приложение 1'!L24 -> 331.4
A25: Иные бюджетные ассигнования | B25: 01 | C25: 04 | D25: 65 | E25: 2 | F25: 00 | G25: 41120 | H25: 800 | I25: =I26 -> 12 | J25: =J26 -> 7 | K25: =K26 -> 2
A26: Уплата налогов, сборов и иных платежей | B26: 01 | C26: 04 | D26: 65 | E26: 2 | F26: 00 | G26: 41120 | H26: 850 | I26: ='Приложение 1'!J26 -> 12 | J26: ='Приложение 1'!K26 -> 7 | K26: ='Приложение 1'!L26 -> 2
A27: Непрограммные расходы главных распорядителей средств бюджета Белозерьевского сельского поселения Ромодановского муниципального района Республики Мордовия | B27: 01 | C27: 04 | D27: 89 | I27: =I28 -> 1.7 | J27: =J28 -> 1.8 | K27: =K28 -> 1.9
A28: Непрограммные расходы в рамках обеспечения деятельности главных распорядителей средств бюджета Белозерьевского сельского поселения Ромодановского муниципального района Республики Мордовия | B28: 01 | C28: 04 | D28: 89 | E28: 1 | I28: =I29 -> 1.7 | J28: =J29 -> 1.8 | K28: =K29 -> 1.9
A29: Осуществление государственных полномочий Республики Мордовия по определению перечня должностных лиц, уполномоченных составлять протоколы об административных правонарушениях, предусмотренных Законом Республики Мордовия от 15 июня 2015 года № 38-З "Об административной ответственности на территории Республики Мордовия" | B29: 01 | C29: 04 | D29: 89 | E29: 1 | F29: 00 | G29: 77150 | I29: =I30 -> 1.7 | J29: =J30 -> 1.8 | K29: =K30 -> 1.9
A30: Закупка товаров, работ и услуг для обеспечения государственных (муниципальных) нужд | B30: 01 | C30: 04 | D30: 89 | E30: 1 | F30: 00 | G30: 77150 | H30: 200 | I30: =I31 -> 1.7 | J30: =J31 -> 1.8 | K30: =K31 -> 1.9
A31: Иные закупки товаров, работ и услуг для обеспечения государственных (муниципальных) нужд | B31: 01 | C31: 04 | D31: 89 | E31: 1 | F31: 00 | G31: 77150 | H31: 240 | I31: ='Приложение 1'!J31 -> 1.7 | J31: ='Приложение 1'!K31 -> 1.8 | K31: ='Приложение 1'!L31 -> 1.9
A32: Резервные фонды | B32: 01 | C32: 11 | I32: =I33 -> 50 | J32: =J33 -> 50 | K32: =K33 -> 50
A33: Непрограммные расходы главных распорядителей средств бюджета Белозерьевского сельского поселения Ромодановского муниципального района Республики Мордовия | B33: 01 | C33: 11 | D33: 89 | I33: =I34 -> 50 | J33: =J34 -> 50 | K33: =K34 -> 50
A34: Непрограммные расходы в рамках обеспечения деятельности главных распорядителей средств бюджета Белозерьевскогоо сельского поселения Ромодановского муниципального района Республики Мордовия | B34: 01 | C34: 11 | D34: 89 | E34: 1 | I34: =I35 -> 50 | J34: =J35 -> 50 | K34: =K35 -> 50
A35: ='Приложение 1'!A35 -> Резервный фонд администрации Белозерьевского сельского поселени Ромодановского муниципального района Республики Мордовия | B35: 01 | C35: 11 | D35: 89 | E35: 1 | F35: 00 | G35: 41180 | I35: =I37 -> 50 | J35: =J37 -> 50 | K35: =K37 -> 50
A36: Иные бюджетные ассигнования | B36: 01 | C36: 11 | D36: 89 | E36: 1 | F36: 00 | G36: 41180 | H36: 800 | I36: =I37 -> 50 | J36: =J37 -> 50 | K36: =K37 -> 50
A37: Резервные средства | B37: 01 | C37: 11 | D37: 89 | E37: 1 | F37: 00 | G37: 41180 | H37: 870 | I37: ='Приложение 1'!J37 -> 50 | J37: ='Приложение 1'!K37 -> 50 | K37: ='Приложение 1'!L37 -> 50
A38: Национальная оборона | B38: 02 | I38: =I39 -> 297.8 | J38: =J39 -> 311.2 | K38: =K39 -> 321.4
A39: Мобилизационная и вневойсковая подготовка | B39: 02 | C39: 03 | I39: =I40 -> 297.8 | J39: =J40 -> 311.2 | K39: =K40 -> 321.4
A40: ='Приложение 1'!A40 -> Государственная программа повышения эффективности управления государственными финансами Республики Мордовия | B40: 02 | C40: 03 | D40: 17 | I40: =I41 -> 297.8 | J40: =J41 -> 311.2 | K40: =K41 -> 321.4
...

Sheet Приложение 3
I1: Приложение 3 к решению Совета депутатов Белозерьевского сельского поселения Ромодановского муниципального района Республики Мордовия «О внесении изменений в решение Совета депутатов Белозерьевского сельского поселения Ромодановского муниципального района Республики Мордовия от 29 декабря 2022 г № «О бюджете Беложерьевского сельского поселения Ромодановского муниципального района Республики Мордовия на 2023 год и на плановый период 2024 и 2025 годов»
I2: Приложение 5 к решению Совета депутатов Белозерьевского сельского поселения Ромодановского муниципального района Республики Мордовия «О бюджете Белозерьевского сельского поселения Ромодановского муниципального района Республики Мордовия на 2023 год и на плановый период 2024 и 2025 годов»
A3: РАСПРЕДЕЛЕНИЕ БЮДЖЕТНЫХ АССИГНОВАНИЙ БЮДЖЕТА БЕЛОЗЕРЬЕВСКОГО СЕЛЬСКОГО ПОСЕЛЕНИЯ РОМОДАНОВСКОГО МУНИЦИПАЛЬНОГО РАЙОНА РЕСПУБЛИКИ МОРДОВИЯ ПО ЦЕЛЕВЫМ СТАТЬЯМ (МУНИЦИПАЛЬНЫМ ПРОГРАММАМ И НЕПРОГРАММНЫМ НАПРАВЛЕНИЯМ ДЕЯТЕЛЬНОСТИ), ГРУППАМ И ПОДГРУППАМ ВИДОВ РАСХОДОВ, РАЗДЕЛАМ И ПОДРАЗДЕЛАМ КЛАССИФИКАЦИИ РАСХОДОВ БЮДЖЕТОВ НА 2023 ГОД И НА ПЛАНОВЫЙ ПЕРИОД 2024 И 2025 ГОДОВ
I4: (тыс. рублей)
A5: Наименование | B5: Цср | F5: ВР | G5: Рз | H5: Прз | I5: Адм | J5: Сумма
J6: 2023 год | K6: 2024 год | L6: 2025 год
A7: 1 | B7: 2 | C7: 3 | D7: 4 | E7: 5 | F7: 6 | G7: 7 | H7: 8 | I7: 9 | J7: 10 | K7: 11 | L7: 12
A8: ВСЕГО | J8: =J9+J24+J32+J46+J78 -> 4330.6 | K8: =K9+K24+K32+K46+K78 -> 2432.3 | L8: =L9+L24+L32+L46+L78 -> 2557.4
A9: ='Приложение 1'!A57 -> Муниципальная программа "Комплексного развития социальной инфраструктуры Белозерьевского сельского поселения Ромодановского муниципального района Республики Мордовия на 2018-2030 года" | B9: 10 | J9: =J10+J17 -> 925 | K9: =K10+K17 -> 397 | L9: =L10+L17 -> 396.9
A10: ='Приложение 1'!A58 -> Основное мероприятие "Благоустройство территории " | B10: 10 | C10: 0 | D10: 07 | J10: =J11 -> 550 | K10: =K11 -> 208.5 | L10: =L11 -> 203.4
A11: ='Приложение 1'!A59 -> Прочие мероприятия по благоустройству | B11: 10 | C11: 0 | D11: 07 | E11: 43040 | J11: =J12 -> 550 | K11: =K12 -> 208.5 | L11: =L12 -> 203.4
A12: Закупка товаров, работ и услуг для обеспечения государственных (муниципальных) нужд | B12: 10 | C12: 0 | D12: 07 | E12: 43040 | F12: 200 | J12: =J13 -> 550 | K12: =K13 -> 208.5 | L12: =L13 -> 203.4
A13: Иные закупки товаров, работ и услуг для обеспечения государственных (муниципальных) нужд | B13: 10 | C13: 0 | D13: 07 | E13: 43040 | F13: 240 | J13: =J14 -> 550 | K13: =K14 -> 208.5 | L13: =L14 -> 203.4
A14: Жилищно-коммунальное хозяйство | B14: 10 | C14: 0 | D14: 07 | E14: 43040 | F14: 240 | G14: 05 | J14: =J15 -> 550 | K14: =K15 -> 208.5 | L14: =L15 -> 203.4
A15: Благоустройство | B15: 10 | C15: 0 | D15: 07 | E15: 43040 | F15: 240 | G15: 05 | H15: 03 | J15: =J16 -> 550 | K15: =K16 -> 208.5 | L15: =L16 -> 203.4
A16: Администрация Белозерьевского сельского поселения Ромодановского муниципального района Республики Мордовия | B16: 10 | C16: 0 | D16: 07 | E16: 43040 | F16: 240 | G16: 05 | H16: 03 | I16: 911 | J16: ='Приложение 1'!J61 -> 550 | K16: ='Приложение 1'!K61 -> 208.5 | L16: ='Приложение 1'!L61 -> 203.4
A17: ='Приложение 1'!A62 -> Основное мероприятие " Освещение территории сельского поселения " | B17: 10 | C17: 0 | D17: 08 | J17: =J18 -> 375 | K17: =K18 -> 188.5 | L17: =L18 -> 193.5
A18: ='Приложение 1'!A63 -> Уличное освещение | B18: 10 | C18: 0 | D18: 08 | E18: 43010 | J18: =J19 -> 375 | K18: =K19 -> 188.5 | L18: =L19 -> 193.5
A19: Закупка товаров, работ и услуг для обеспечения государственных (муниципальных) нужд | B19: 10 | C19: 0 | D19: 08 | E19: 43010 | F19: 200 | J19: =J20 -> 375 | K19: =K20 -> 188.5 | L19: =L20 -> 193.5
A20: Иные закупки товаров, работ и услуг для обеспечения государственных (муниципальных) нужд | B20: 10 | C20: 0 | D20: 08 | E20: 43010 | F20: 240 | J20: =J21 -> 375 | K20: =K21 -> 188.5 | L20: =L21 -> 193.5
A21: Жилищно-коммунальное хозяйство | B21: 10 | C21: 0 | D21: 08 | E21: 43010 | F21: 240 | G21: 05 | J21: =J22 -> 375 | K21: =K22 -> 188.5 | L21: =L22 -> 193.5
A22: Благоустройство | B22: 10 | C22: 0 | D22: 08 | E22: 43010 | F22: 240 | G22: 05 | H22: 03 | J22: =J23 -> 375 | K22: =K23 -> 188.5 | L22: =L23 -> 193.5
A23: Администрация Белозерьевского сельского поселения Ромодановского муниципального района Республики Мордовия | B23: 10 | C23: 0 | D23: 08 | E23: 43010 | F23: 240 | G23: 05 | H23: 03 | I23: 911 | J23: ='Приложение 1'!J65 -> 375 | K23: ='Приложение 1'!K65 -> 188.5 | L23: ='Приложение 1'!L65 -> 193.5
A24: ='Приложение 1'!A50 -> Муниципальная программа «Комплексного развития транспортной инфраструктуры Белозерьевского сельского поселения Ромодановского муниципального района Республики Мордовия на 2017- 2025 года" | B24: 13 | J24: =J25 -> 200 | K24: =K25 -> 141.8 | L24: =L25 -> 141.8
A25: Основное мероприятие "содействие развитию систем автомобильных дорог общего пользования,регионального и или межмуниципального,а так же местного значения" | B25: 13 | C25: 0 | D25: 01 | J25: =J26 -> 200 | K25: =K26 -> 141.8 | L25: =L26 -> 141.8
A26: ='Приложение 1'!A52 -> Иные межбюджетные трансферты на осуществление полномочий по дорожной деятельности в отношении автомобильных дорог местного значения в границах населенных пунктов поселения и обеспечению безопасности дорожного движения на них, включая создание и обеспечение функционирования парковок (парковочных мест), осуществлению муниципального контроля за сохранностью автомобильных дорог местного значения в границах населенных пунктов поселения, организации дорожного движения, а также осуществлению иных полномочий в области использования автомобильных дорог и осуществления дорожной деятельности в соответствии с законодательством Российской Федерации | B26: 13 | C26: 0 | D26: 01 | E26: 44102 | J26: =J27 -> 200 | K26: =K27 -> 141.8 | L26: =L27 -> 141.8
A27: Закупка товаров, работ и услуг для обеспечения государственных (муниципальных) нужд | B27: 13 | C27: 0 | D27: 01 | E27: 44102 | F27: 200 | J27: =J28 -> 200 | K27: =K28 -> 141.8 | L27: =L28 -> 141.8
A28: Иные закупки товаров, работ и услуг для обеспечения государственных (муниципальных) нужд | B28: 13 | C28: 0 | D28: 01 | E28: 44102 | F28: 240 | J28: =J29 -> 200 | K28: =K29 -> 141.8 | L28: =L29 -> 141.8
A29: Национальная экономика | B29: 13 | C29: 0 | D29: 01 | E29: 44102 | F29: 240 | G29: 04 | J29: =J30 -> 200 | K29: =K30 -> 141.8 | L29: =L30 -> 141.8
A30: ='Приложение 1'!A49 -> Дорожное хозяйство (дорожные фонды) | B30: 13 | C30: 0 | D30: 01 | E30: 44102 | F30: 240 | G30: 04 | H30: 09 | J30: =J31 -> 200 | K30: =K31 -> 141.8 | L30: =L31 -> 141.8
A31: Администрация Белозерьевского сельского поселения Ромодановского муниципального района Республики Мордовия | B31: 13 | C31: 0 | D31: 01 | E31: 44102 | F31: 240 | G31: 04 | H31: 09 | I31: 911 | J31: ='Приложение 1'!J54 -> 200 | K31: ='Приложение 1'!K54 -> 141.8 | L31: ='Приложение 1'!L54 -> 141.8
A32: ='Приложение 1'!A40 -> Государственная программа повышения эффективности управления государственными финансами Республики Мордовия | B32: 17 | J32: =J33 -> 297.8 | K32: =K33 -> 311.2 | L32: =L33 -> 321.4
A33: Подпрограмма "Повышения эффективности межбюджетных отношений" | B33: 17 | C33: 3 | J33: =J34 -> 297.8 | K33: =K34 -> 311.2 | L33: =L34 -> 321.4
A34: Основное мероприятие "Обеспечение осуществления органами местного самоуправления отдельных государственных полномочий" | B34: 17 | C34: 3 | D34: 02 | J34: =J35 -> 297.8 | K34: =K35 -> 311.2 | L34: =L35 -> 321.4
A35: ='Приложение 1'!A43 -> Осуществление государственных полномочий Российской Федерации по первичного воинскому воинскому учету на территориях, где отсутствуют военные комиссариаты | B35: 17 | C35: 3 | D35: 02 | E35: 51180 | J35: =J41+J36 -> 297.8 | K35: =K41+K36 -> 311.2 | L35: =L41+L36 -> 321.4
A36: Расходы на выплаты персоналу в целях обеспечения выполнения функций государственными (муниципальными) органами, казенными учреждениями, органами управления государственными внебюджетными фондами | B36: 17 | C36: 3 | D36: 02 | E36: 51180 | F36: 100 | J36: =J37 -> 292.8 | K36: =K37 -> 306.2 | L36: =L37 -> 316.4
A37: Расходы на выплаты персоналу государственных (муниципальных) органов | B37: 17 | C37: 3 | D37: 02 | E37: 51180 | F37: 120 | J37: =J38 -> 292.8 | K37: =K38 -> 306.2 | L37: =L38 -> 316.4
A38: Национальная оборона | B38: 17 | C38: 3 | D38: 02 | E38: 51180 | F38: 120 | G38: 02 | J38: =J39 -> 292.8 | K38: =K39 -> 306.2 | L38: =L39 -> 316.4
A39: Мобилизационная и вневойсковая подготовка | B39: 17 | C39: 3 | D39: 02 | E39: 51180 | F39: 120 | G39: 02 | H39: 03 | J39: =J40 -> 292.8 | K39: =K40 -> 306.2 | L39: =L40 -> 316.4
A40: Администрация Белозерьевского сельского поселения Ромодановского муниципального района Республики Мордовия | B40: 17 | C40: 3 | D40: 02 | E40: 51180 | F40: 120 | G40: 02 | H40: 03 | I40: 911 | J40: ='Приложение 1'!J45 -> 292.8 | K40: ='Приложение 1'!K45 -> 306.2 | L40: ='Приложение 1'!L45 -> 316.4
...

Sheet прил 4
C1: Приложение 4 к решению Совета депутатов Белозерьевского сельского поселения Ромодановского муниципального района Республики Мордовия «О внесении изменений в решение Совета депутатов Белозерьевского сельского поселения Ромодановского муниципального района Республики Мордовия от 29 декабря 2022 г № «О бюджете Беложерьевского сельского поселения Ромодановского муниципального района Республики Мордовия на 2023 год и на плановый период 2024 и 2025 годов»
C2: Приложение 6 к решению Совета депутатов Белозерьевского сельского поселения Ромодановского муниципального района Республики Мордовия «О бюджете Белозерьевского сельского поселения Ромодановского муниципального района Республики Мордовия на 2023 год и на плановый период 2024 и 2025 годов»
A3: ИСТОЧНИКИ ВНУТРЕННЕГО ФИНАНСИРОВАНИЯ ДЕФИЦИТА БЮДЖЕТА БЕЛОЗЕРЬЕВСКОГО СЕЛЬСКОГО ПОСЕЛЕНИЯ РОМОДАНОВСКОГО МУНИЦИПАЛЬНОГО РАЙОНА РЕСПУБЛИКИ МОРДОВИЯ НА 2023 ГОД И НА ПЛАНОВЫЙ ПЕРИОД 2024 и 2025 ГОДОВ
A7: Код | B7: Наименование кода группы, подгруппы, статьи, вида источника финансирования дефицитов бюджетов, кода классификации операций сектора государственного управления, относящихся к источникам финансирования дефицитов бюджетов Российской Федерации | C7: Сумма (тыс. руб.)
C8: 2023 год | D8: 2024 год | E8: 2025 год
A9: 1 | B9: 2 | C9: 3 | D9: 4 | E9: 5
A10: 000 01 00 00 00 00 0000 000 | B10: ИСТОЧНИКИ ВНУТРЕННЕГО ФИНАНСИРОВАНИЯ ДЕФИЦИТОВ БЮДЖЕТОВ | C10: =C11+C22+C14+C18 -> 1354.2 | D10: =D11+D22+D14+D18 -> 0 | E10: =E11+E22+E14+E18 -> 0
A11: 000 01 02 00 00 00 0000 000 | B11: Кредиты кредитных организаций в валюте Российской Федерации | C11: =SUM(C12) -> 0 | D11: =SUM(D12) -> 0 | E11: =SUM(E12) -> 0
A12: 000 01 02 00 00 00 0000 700 | B12: Привлечение кредитов от кредитных организаций в валюте Российской Федерации | C12: =SUM(C13) -> 0 | D12: =SUM(D13) -> 0 | E12: =SUM(E13) -> 0
A13: 000 01 02 00 00 05 0000 710 | B13: Привлечение кредитов от кредитных организаций бюджетами муниципальных районов в валюте Российской Федерации | C13: 0 | D13: 0 | E13: 0
A14: 000 01 03 00 00 00 0000 000 | B14: Бюджетные кредиты из других бюджетов бюджетной системы Российской Федерации | C14: =C15 -> 0 | D14: =D15 -> 0 | E14: =E15 -> 0
A15: 000 01 03 01 00 00 0000 000 | B15: Бюджетные кредиты из других бюджетов бюджетной системы Российской Федерации в валюте Российской Федерации | C15: =C16 -> 0 | D15: =D16 -> 0 | E15: =E16 -> 0
A16: 000 01 03 01 00 00 0000 800 | B16: Погашение бюджетных кредитов, полученных из других бюджетов бюджетной системы Российской Федерации в валюте Российской Федерации | C16: =SUM(C17) -> 0 | D16: =SUM(D17) -> 0 | E16: =SUM(E17) -> 0
A17: 000 01 03 01 00 05 0000 810 | B17: Погашение бюджетами муниципальных районов кредитов из других бюджетов бюджетной системы Российской Федерации в валюте Российской Федерации | C17: 0 | D17: 0 | E17: 0
A18: 000 01 06 00 00 00 0000 000 | B18: Иные источники внутреннего финансирования дефицитов бюджетов | C18: =C19 -> 0 | D18: =D19 -> 0 | E18: =E19 -> 0
A19: 000 01 06 05 00 00 0000 000 | B19: Бюджетные кредиты, предоставленные внутри страны в валюте Российской Федерации | C19: =C20 -> 0 | D19: =D20 -> 0 | E19: =E20 -> 0
A20: 000 01 06 05 02 00 0000 600 | B20: Возврат бюджетных кредитов, предоставленных другим бюджетам бюджетной системы Российской Федерации в валюте Российской Федерации | C20: =C21 -> 0 | D20: =D21 -> 0 | E20: =E21 -> 0
A21: 000 01 06 05 02 05 0000 640 | B21: Возврат бюджетных кредитов, предоставленных другим бюджетам бюджетной системы Российской Федерации из бюджетов муниципальных районов в валюте Российской Федерации
A22: 000 01 05 00 00 00 0000 000 | B22: Изменения остатков средств на счетах по учету средств бюджета | C22: =C25+C26 -> 1354.2 | D22: =D25+D26 -> 0 | E22: =E25+E26 -> 0
A23: 000 01 05 02 00 00 0000 500 | B23: Увеличение прочих остатков средств бюджетов | C23: =SUM(C24) -> -2976.4 | D23: =SUM(D24) -> -2432.3 | E23: =SUM(E24) -> -2557.4
A24: 000 01 05 02 01 00 0000 510 | B24: Увеличение прочих остатков денежных средств бюджетов | C24: =SUM(C25) -> -2976.4 | D24: =SUM(D25) -> -2432.3 | E24: =SUM(E25) -> -2557.4
A25: 000 01 05 02 01 10 0000 510 | B25: Увеличение прочих остатков денежных средств бюджетов сельских поселений | C25: -2976.4 | D25: -2432.3 | E25: -2557.4
A26: 000 01 05 02 00 00 0000 600 | B26: Уменьшение прочих остатков средств бюджетов | C26: =SUM(C27) -> 4330.6 | D26: =SUM(D27) -> 2432.3 | E26: =SUM(E27) -> 2557.4
A27: 000 01 05 02 01 00 0000 610 | B27: Уменьшение прочих остатков денежных средств бюджетов | C27: =SUM(C28) -> 4330.6 | D27: =SUM(D28) -> 2432.3 | E27: =SUM(E28) -> 2557.4
A28: 000 01 05 02 01 05 0000 610 | B28: Уменьшение прочих остатков денежных средств бюджетов муниципальных районов | C28: ='Приложение 1'!J8 -> 4330.6 | D28: 2432.3 | E28: 2557.4
A29: 000 01 00 00 00 00 0000 000 | B29: Итого источников внутреннего финансирования дефицита бюджета Белозерьевского сельского поселения Ромодановского муниципального района Республики Мордовия | C29: 0 | D29: 0 | E29: 0
B30: собственные доходы | C30: 1456.8 | D30: 1467 | E30: 1474.9
