Workbook

Sheet Приложение1
C1: Приложение 1 к решению Совета депутатов Алтарского сельского поселения Ромодановского муниципального района Республики Мордовия «О внесении изменений в решение Советадепутатов Алтарского сельского поселения Ромодановского муниципального района Республики Мордовия от 29 декабря 2022 г № 24 «О бюджете Алтарского сельского поселения Ромодановского муниципального района Республики Мордовия на 2023 год и на плановый период 2024 и 2025 годов»
C2: Приложение 2 к решения Совета депутатов Алтарского сельского поселения Ромодановского муниципального района Республики Мордовия «О бюджете Алтарского сельского поселения Ромодановского муниципального района Республики Мордовия на 2023 год и на плановый период 2024 и 2025 годов»
A7: ОБЪЕМ БЕЗВОЗМЕЗДНЫХ ПОСТУПЛЕНИЙ В БЮДЖЕТ АЛТАРСКОГО СЕЛЬСКОГО ПОСЕЛЕНИЯ РОМОДАНОВСКОГО МУНИЦИПАЛЬНОГО РАЙОНА РЕСПУБЛИКИ МОРДОВИЯ НА 2023 ГОД И НА ПЛАНОВЫЙ ПЕРИОД 2024 И 2025 ГОДОВ
E8: (тыс. рублей)
A9: Код | B9: Наименование | C9: Сумма
C10: 2023 год | D10: 2024 год | E10: 2025 год
A11: 1 | B11: 2 | C11: 3 | D11: 4 | E11: 5
A12: 2 00 00000 00 0000 000 | B12: БЕЗВОЗМЕЗДНЫЕ ПОСТУПЛЕНИЯ | C12: =C13 -> 1210.2 | D12: =D13 -> 715.9 | E12: =E13 -> 776.8
A13: 2 02 00000 00 0000 000 | B13: Безвозмездные поступления от других бюджетов бюджетной системы Российской Федерации | C13: =C14+C22+C27+C20+C17 -> 1210.2 | D13: =D14+D22+D27 -> 715.9 | E13: =E14+E22+E27 -> 776.8
A14: 2 02 10000 00 0000 150 | B14: Дотации бюджетам бюджетной системы Российской Федерации | C14: =C15 -> 542.6 | D14: =D15 -> 481.5 | E14: =E15 -> 538.1
A15: 2 02 15001 00 0000 150 | B15: Дотации на выравнивание бюджетной обеспеченности | C15: =C16 -> 542.6 | D15: =D16 -> 481.5 | E15: =E16 -> 538.1
A16: 2 02 15001 10 0000 150 | B16: Дотации бюджетам сельских поселений на выравнивание бюджетной обеспеченности из бюджета субъекта Российской Федерации | C16: 542.6 | D16: 481.5 | E16: 538.1
A17: 2 02 15002 00 0000 150 | B17: Дотация бюджетам на поддержку мер по обеспечению сбалансированности бюджетов | C17: =C18 -> 258.3
A18: 2 02 15002 10 0000 150 | B18: Дотации бюджетам сельских поселений на поддержку мер по обеспечению сбалансированности бюджетов | C18: 258.3
A19: 2 02 20000 00 0000 150 | B19: Субсидии бюджетам бюджетной системы Российской Федерации (межбюджетные субсидии) | C19: =C20 -> 180
A20: 2 02 29999 00 0000 150 | B20: Прочие субсидии | C20: =C21 -> 180
A21: 2 02 29999 10 0000 150 | B21: Прочие субсидии бюджетам сельских поселений | C21: 180
A22: 2 02 30000 00 0000 150 | B22: Субвенции бюджетам бюджетной системы Российской Федерации | C22: =C23+C25 -> 109.9 | D22: =D23+D25 -> 115 | E22: =E23+E25 -> 119.3
A23: 2 02 30024 00 0000 150 | B23: Субвенции местным бюджетам на выполнение передаваемых полномочий субъектов Российской Федерации | C23: =C24 -> 0.6 | D23: =D24 -> 0.6 | E23: =E24 -> 0.6
A24: 2 02 30024 10 0000 150 | B24: Субвенции бюджетам сельских поселений на выполнение передаваемых полномочий субъектов Российской Федерации | C24: 0.6 | D24: 0.6 | E24: 0.6
A25: 2 02 35118 00 0000 150 | B25: Субвенции бюджетам на осуществление первичного воинского учета органами местного самоуправления поселений, муниципальных и городских округов | C25: =C26 -> 109.3 | D25: =D26 -> 114.4 | E25: =E26 -> 118.7
A26: 2 02 35118 10 0000 150 | B26: Субвенции бюджетам сельских поселений на осуществление первичного воинского учета органами местного самоуправления поселений, муниципальных и городских округов | C26: 109.3 | D26: 114.4 | E26: 118.7
A27: 2 02 40000 00 0000 150 | B27: Иные межбюджетные трансферты | C27: =C28 -> 119.4 | D27: =D28 -> 119.4 | E27: =E28 -> 119.4
A28: 2 02 40014 00 0000 150 | B28: Межбюджетные трансферты, передаваемые бюджетам муниципальных образований на осуществление части полномочий по решению вопросов местного значения в соответветствии с заключенными соглашениями | C28: =C29 -> 119.4 | D28: =D29 -> 119.4 | E28: =E29 -> 119.4
A29: 2 02 40014 10 0000 150 | B29: Межбюджетные трансферты, передаваемые бюджетам сельских поселений из бюджетов муниципальных районов на осуществление части полномочий по решению вопросов местного значения в соответветствии с заключенными соглашениями | C29: 119.4 | D29: 119.4 | E29: 119.4

Sheet Приложение 2
I1: Приложение 2 к решению Совета депутатов Алтарского сельского поселения Ромодановского муниципального района Республики Мордовия «О внесении изменений в решение Совета депутатов Алтарского сельского поселения Ромодановского муниципального района Республики Мордовия от 29 декабря 2022 г № 24 «О бюджете Алтарского сельского поселения Ромодановского муниципального района Республики Мордовия на 2023 год и на плановый период 2024 и 2025 годов»
I2: Приложение 3 к пректу решения Совета депутатов Алтарского сельского поселения Ромодановского муниципального района Республики Мордовия «О бюджете Алтарского сельского поселения Ромодановского муниципального района Республики Мордовия на 2023 год и на плановый период 2024 и 2025 годов»
A3: ВЕДОМСТВЕННАЯ СТРУКТУРА РАСХОДОВ БЮДЖЕТА АЛТАРСКОГО СЕЛЬСКОГО ПОСЕЛЕНИЯ РОМОДАНОВСКОГО МУНИЦИПАЛЬНОГО РАЙОНА РЕСПУБЛИКИ МОРДОВИЯ НА 2023 ГОД И НА ПЛАНОВЫЙ ПЕРИОД 2024 И 2025 ГОДОВ
I4: (тыс. рублей)
A5: Наименование | B5: Адм | C5: Рз | D5: Прз | E5: Цср | I5: Вр | J5: Сумма
J6: 2023 год | K6: 2024 год | L6: 2025 год
A7: 1 | B7: 2 | C7: 3 | D7: 4 | E7: 5 | F7: 6 | G7: 7 | H7: 8 | I7: 9 | J7: 10 | K7: 11 | L7: 12
A8: Администрация Алтарского сельского поселения Ромодановского муниципального района Республики Мордовия | B8: 909 | J8: =J9+J44+J54+J61+J72+J79 -> 2004.7 | K8: =K9+K44+K54+K61+K72+K86+K79 -> 1208.1 | L8: =L9+L44+L54+L61+L72+L86+L79 -> 1258.1
A9: Общегосударственные вопросы | B9: 909 | C9: 01 | J9: =J10+J19+J38 -> 1493.1 | K9: =K10+K19+K38 -> 833.6 | L9: =L10+L19+L38 -> 850.4
A10: Функционирование высшего должностного лица субъекта Российской Федерации и муниципального образования | B10: 909 | C10: 01 | D10: 02 | J10: =J11 -> 496.2 | K10: =K11 -> 317 | L10: =L11 -> 360.8
A11: Обеспечение деятельности Администрации Алтарского сельского поселения Ромодановского муниципального района Республики Мордовия | B11: 909 | C11: 01 | D11: 02 | E11: 65 | J11: =J12 -> 496.2 | K11: =K12 -> 317 | L11: =L12 -> 360.8
A12: Высшее должностное лицо | B12: 909 | C12: 01 | D12: 02 | E12: 65 | F12: 1 | J12: =J13+J16 -> 496.2 | K12: =K13 -> 317 | L12: =L13 -> 360.8
A13: Расходы на выплаты по оплате труда высшего должностного лица | B13: 909 | C13: 01 | D13: 02 | E13: 65 | F13: 1 | G13: 00 | H13: 41150 | J13: =J14 -> 396.2 | K13: =K14 -> 317 | L13: =L14 -> 360.8
A14: Расходы на выплаты персоналу в целях обеспечения выполнения функций государственными (муниципальными) органами, казенными учреждениями, органами управления государственными внебюджетными фондами | B14: 909 | C14: 01 | D14: 02 | E14: 65 | F14: 1 | G14: 00 | H14: 41150 | I14: 100 | J14: =J15 -> 396.2 | K14: =K15 -> 317 | L14: =L15 -> 360.8
A15: Расходы на выплаты персоналу государственных (муниципальных) органов | B15: 909 | C15: 01 | D15: 02 | E15: 65 | F15: 1 | G15: 00 | H15: 41150 | I15: 120 | J15: 396.2 | K15: 317 | L15: 360.8
A16: Субсидии на софинансирование расходных обязательств по финансовому обеспечению деятельности органов местного самоуправления и муниципальных учреждений | B16: 909 | C16: 01 | D16: 02 | E16: 65 | F16: 1 | G16: 00 | H16: 44205 | J16: =J17 -> 100
A17: =A14 -> Расходы на выплаты персоналу в целях обеспечения выполнения функций государственными (муниципальными) органами, казенными учреждениями, органами управления государственными внебюджетными фондами | B17: 909 | C17: 01 | D17: 02 | E17: 65 | F17: 1 | G17: 00 | H17: 44205 | I17: 100 | J17: =J18 -> 100
A18: =A15 -> Расходы на выплаты персоналу государственных (муниципальных) органов | B18: 909 | C18: 01 | D18: 02 | E18: 65 | F18: 1 | G18: 00 | H18: 44205 | I18: 120 | J18: 100
A19: Функционирование Правительства Российской Федерации, высших исполнительных органов государственной власти субъектов Российской Федерации, местных администраций | B19: 909 | C19: 01 | D19: 04 | J19: =J20+J34 -> 991.9 | K19: =K20+K34 -> 511.6 | L19: =L20+L34 -> 484.6
A20: Обеспечение деятельности Администрации Алтарского сельского поселения Ромодановского муниципального района Республики Мордовия | B20: 909 | C20: 01 | D20: 04 | E20: 65 | J20: =J21 -> 991.3 | K20: =K21 -> 511 | L20: =L21 -> 484
A21: Расходы в рамках обеспечения деятельности Администрации Алтарского сельского поселения | B21: 909 | C21: 01 | D21: 04 | E21: 65 | F21: 2 | J21: =J22+J25+J30 -> 991.3 | K21: =K22+K25 -> 511 | L21: =L22+L25 -> 484
A22: Расходы на выплаты по оплате труда работников органов местного самоуправления | B22: 909 | C22: 01 | D22: 04 | E22: 65 | F22: 2 | G22: 00 | H22: 41110 | J22: =J23 -> 425.4 | K22: =K23 -> 380 | L22: =L23 -> 314.6
A23: Расходы на выплаты персоналу в целях обеспечения выполнения функций государственными (муниципальными) органами, казенными учреждениями, органами управления государственными внебюджетными фондами | B23: 909 | C23: 01 | D23: 04 | E23: 65 | F23: 2 | G23: 00 | H23: 41110 | I23: 100 | J23: =J24 -> 425.4 | K23: =K24 -> 380 | L23: =L24 -> 314.6
A24: Расходы на выплаты персоналу государственных (муниципальных) органов | B24: 909 | C24: 01 | D24: 04 | E24: 65 | F24: 2 | G24: 00 | H24: 41110 | I24: 120 | J24: 425.4 | K24: 380 | L24: 314.6
A25: Расходы на обеспечение функций органов местного самоуправления | B25: 909 | C25: 01 | D25: 04 | E25: 65 | F25: 2 | G25: 00 | H25: 41120 | J25: =+J26+J28 -> 485.9 | K25: =+K26+K28 -> 131 | L25: =+L26+L28 -> 169.4
A26: Закупка товаров, работ и услуг для обеспечения государственных (муниципальных) нужд | B26: 909 | C26: 01 | D26: 04 | E26: 65 | F26: 2 | G26: 00 | H26: 41120 | I26: 200 | J26: =J27 -> 476.9 | K26: =K27 -> 122 | L26: =L27 -> 160.4
A27: Иные закупки товаров, работ и услуг для обеспечения государственных (муниципальных) нужд | B27: 909 | C27: 01 | D27: 04 | E27: 65 | F27: 2 | G27: 00 | H27: 41120 | I27: 240 | J27: 476.9 | K27: 122 | L27: 160.4
A28: Иные бюджетные ассигнования | B28: 909 | C28: 01 | D28: 04 | E28: 65 | F28: 2 | G28: 00 | H28: 41120 | I28: 800 | J28: =J29 -> 9 | K28: =K29 -> 9 | L28: =L29 -> 9
A29: Уплата налогов, сборов и иных платежей | B29: 909 | C29: 01 | D29: 04 | E29: 65 | F29: 2 | G29: 00 | H29: 41120 | I29: 850 | J29: 9 | K29: 9 | L29: 9
A30: =A16 -> Субсидии на софинансирование расходных обязательств по финансовому обеспечению деятельности органов местного самоуправления и муниципальных учреждений | B30: 909 | C30: 01 | D30: 04 | E30: 65 | F30: 2 | G30: 00 | H30: 44205 | J30: =J31 -> 80
A31: =A23 -> Расходы на выплаты персоналу в целях обеспечения выполнения функций государственными (муниципальными) органами, казенными учреждениями, органами управления государственными внебюджетными фондами | B31: 909 | C31: 01 | D31: 04 | E31: 65 | F31: 2 | G31: 00 | H31: 44205 | I31: 100 | J31: =J32 -> 80
A32: =A24 -> Расходы на выплаты персоналу государственных (муниципальных) органов | B32: 909 | C32: 01 | D32: 04 | E32: 65 | F32: 2 | G32: 00 | H32: 44205 | I32: 120 | J32: 80
A33: =A74 -> Непрограммные расходы главных распорядителей средств бюджета Алтарского сельского поселения Ромодановского муниципального района Республики Мордовия | B33: 909 | C33: 01 | D33: 04 | E33: 89 | J33: =J34 -> 0.6 | K33: =K34 -> 0.6 | L33: =L34 -> 0.6
A34: Непрограммные расходы в рамках обеспечения деятельности главных распорядителей средств бюджета Алтарского сельского поселения Ромодановского муниципального района Республики Мордовия | B34: 909 | C34: 01 | D34: 04 | E34: 89 | F34: 1 | J34: =J35 -> 0.6 | K34: =K35 -> 0.6 | L34: =L35 -> 0.6
A35: Осуществление государственных полномочий Республики Мордовия по определению перечня должностных лиц, уполномоченных составлять протоколы об административных правонарушениях, предусмотренных Законом Республики Мордовия от 15 июня 2015 года № 38-З "Об административной ответственности на территории Республики Мордовия" | B35: 909 | C35: 01 | D35: 04 | E35: 89 | F35: 1 | G35: 00 | H35: 77150 | J35: =J36 -> 0.6 | K35: =K36 -> 0.6 | L35: =L36 -> 0.6
A36: Закупка товаров, работ и услуг для обеспечения государственных (муниципальных) нужд | B36: 909 | C36: 01 | D36: 04 | E36: 89 | F36: 1 | G36: 00 | H36: 77150 | I36: 200 | J36: =J37 -> 0.6 | K36: =K37 -> 0.6 | L36: =L37 -> 0.6
A37: Иные закупки товаров, работ и услуг для обеспечения государственных (муниципальных) нужд | B37: 909 | C37: 01 | D37: 04 | E37: 89 | F37: 1 | G37: 00 | H37: 77150 | I37: 240 | J37: 0.6 | K37: 0.6 | L37: 0.6
A38: Резервные фонды | B38: 909 | C38: 01 | D38: 11 | J38: =J39 -> 5 | K38: =K39 -> 5 | L38: =L39 -> 5
A39: Непрограммные расходы главных распорядителей средств бюджета Алтарского сельского поселения Ромодановского муниципального района Республики Мордовия | B39: 909 | C39: 01 | D39: 11 | E39: 89 | J39: =J40 -> 5 | K39: =K40 -> 5 | L39: =L40 -> 5
A40: Непрограммные расходы в рамках обеспечения деятельности главных распорядителей средств бюджета Алтарского сельского поселения Ромодановского муниципального района Республики Мордовия | B40: 909 | C40: 01 | D40: 11 | E40: 89 | F40: 1 | J40: =J41 -> 5 | K40: =K41 -> 5 | L40: =L41 -> 5
...

Sheet Приложение 3
H1: Приложение 3 к решению Совета депутатов Алтарского сельского поселения Ромодановского муниципального района Республики Мордовия «О внесении изменений в решение Совета депутатов Алтарского сельского поселения Ромодановского муниципального района Республики Мордовия от 29 декабря 2022 г № 24 «О бюджете Алтарского сельского поселения Ромодановского муниципального района Республики Мордовия на 2023 год и на плановый период 2024 и 2025 годов»
H2: Приложение 4 к решению Совета депутатов Алтарского сельского поселения Ромодановского муниципального района Республики Мордовия «О бюджетеАлтарского сельского поселеняи Ромодановского муниципального района Республики Мордовия на 2023 год и на плановый период 2024 и 2025 годов»
A3: РАСПРЕДЕЛЕНИЕ БЮДЖЕТНЫХ АССИГНОВАНИЙ БЮДЖЕТА АЛТАРСКОГО СЕЛЬСКОГО ПОСЕЛЕНИЯ РОМОДАНОВСКОГО МУНИЦИПАЛЬНОГО РАЙОНА РЕСПУБЛИКИ МОРДОВИЯ ПО РАЗДЕЛАМ, ПОДРАЗДЕЛАМ, ЦЕЛЕВЫМ СТАТЬЯМ (МУНИЦИПАЛЬНЫМ ПРОГРАММАМ И НЕПРОГРАММНЫМ НАПРАВЛЕНИЯМ ДЕЯТЕЛЬНОСТИ), ГРУППАМ И ПОДГРУППАМ ВИДОВ РАСХОДОВ КЛАССИФИКАЦИИ РАСХОДОВ БЮДЖЕТОВ НА 2023 ГОД И НА ПЛАНОВЫЙ ПЕРИОД 2024 И 2025 ГОДОВ
H4: (тыс. рублей)
A5: Наименование | B5: Рз | C5: Прз | D5: Цср | H5: Вр | I5: Сумма
I6: 2023 год | J6: 2024 год | K6: 2025 год
A7: 1 | B7: 2 | C7: 3 | D7: 4 | E7: 5 | F7: 6 | G7: 7 | H7: 8 | I7: 9 | J7: 10 | K7: 11
A8: ВСЕГО | I8: =I9+I44+I54+I61+I72+I79 -> 2004.7 | J8: =J9+J44+J54+J61+J72+J86+J79 -> 1208.1 | K8: =K9+K44+K54+K61+K72+K86+K79 -> 1258.1
A9: Общегосударственные вопросы | B9: 01 | I9: =I10+I19+I38 -> 1493.1 | J9: =J10+J19+J38 -> 833.6 | K9: =K10+K19+K38 -> 850.4
A10: ='Приложение 2'!A10 -> Функционирование высшего должностного лица субъекта Российской Федерации и муниципального образования | B10: 01 | C10: 02 | I10: =I11 -> 496.2 | J10: =J11 -> 317 | K10: =K11 -> 360.8
A11: ='Приложение 2'!A11 -> Обеспечение деятельности Администрации Алтарского сельского поселения Ромодановского муниципального района Республики Мордовия | B11: 01 | C11: 02 | D11: 65 | I11: =I12 -> 496.2 | J11: =J12 -> 317 | K11: =K12 -> 360.8
A12: Высшее должностное лицо | B12: 01 | C12: 02 | D12: 65 | E12: 1 | I12: =I13+I16 -> 496.2 | J12: =J13 -> 317 | K12: =K13 -> 360.8
A13: Расходы на выплаты по оплате труда высшего должностного лица | B13: 01 | C13: 02 | D13: 65 | E13: 1 | F13: 00 | G13: 41150 | I13: =I14 -> 396.2 | J13: =J14 -> 317 | K13: =K14 -> 360.8
A14: Расходы на выплаты персоналу в целях обеспечения выполнения функций государственными (муниципальными) органами, казенными учреждениями, органами управления государственными внебюджетными фондами | B14: 01 | C14: 02 | D14: 65 | E14: 1 | F14: 00 | G14: 41150 | H14: 100 | I14: =I15 -> 396.2 | J14: =J15 -> 317 | K14: =K15 -> 360.8
A15: Расходы на выплаты персоналу государственных (муниципальных) органов | B15: 01 | C15: 02 | D15: 65 | E15: 1 | F15: 00 | G15: 41150 | H15: 120 | I15: ='Приложение 2'!J15 -> 396.2 | J15: ='Приложение 2'!K15 -> 317 | K15: ='Приложение 2'!L15 -> 360.8
A16: ='Приложение 2'!A16 -> Субсидии на софинансирование расходных обязательств по финансовому обеспечению деятельности органов местного самоуправления и муниципальных учреждений | B16: 01 | C16: 02 | D16: 65 | E16: 1 | F16: 00 | G16: 44205 | I16: =I17 -> 100
A17: ='Приложение 2'!A17 -> Расходы на выплаты персоналу в целях обеспечения выполнения функций государственными (муниципальными) органами, казенными учреждениями, органами управления государственными внебюджетными фондами | B17: 01 | C17: 02 | D17: 65 | E17: 1 | F17: 00 | G17: 44205 | H17: 100 | I17: =I18 -> 100
A18: ='Приложение 2'!A18 -> Расходы на выплаты персоналу государственных (муниципальных) органов | B18: 01 | C18: 02 | D18: 65 | E18: 1 | F18: 00 | G18: 44205 | H18: 120 | I18: ='Приложение 2'!J18 -> 100
A19: Функционирование Правительства Российской Федерации, высших исполнительных органов государственной власти субъектов Российской Федерации, местных администраций | B19: 01 | C19: 04 | I19: =I20+I33 -> 991.9 | J19: =J20+J33 -> 511.6 | K19: =K20+K33 -> 484.6
A20: ='Приложение 2'!A20 -> Обеспечение деятельности Администрации Алтарского сельского поселения Ромодановского муниципального района Республики Мордовия | B20: 01 | C20: 04 | D20: 65 | I20: =I21 -> 991.3 | J20: =J21 -> 511 | K20: =K21 -> 484
A21: ='Приложение 2'!A21 -> Расходы в рамках обеспечения деятельности Администрации Алтарского сельского поселения | B21: 01 | C21: 04 | D21: 65 | E21: 2 | I21: =I22+I25+I30 -> 991.3 | J21: =J22+J25 -> 511 | K21: =K22+K25 -> 484
A22: Расходы на выплаты по оплате труда работников органов местного самоуправления | B22: 01 | C22: 04 | D22: 65 | E22: 2 | F22: 00 | G22: 41110 | I22: =I23 -> 425.4 | J22: =J23 -> 380 | K22: =K23 -> 314.6
A23: Расходы на выплаты персоналу в целях обеспечения выполнения функций государственными (муниципальными) органами, казенными учреждениями, органами управления государственными внебюджетными фондами | B23: 01 | C23: 04 | D23: 65 | E23: 2 | F23: 00 | G23: 41110 | H23: 100 | I23: =I24 -> 425.4 | J23: =J24 -> 380 | K23: =K24 -> 314.6
A24: Расходы на выплаты персоналу государственных (муниципальных) органов | B24: 01 | C24: 04 | D24: 65 | E24: 2 | F24: 00 | G24: 41110 | H24: 120 | I24: ='Приложение 2'!J24 -> 425.4 | J24: ='Приложение 2'!K24 -> 380 | K24: ='Приложение 2'!L24 -> 314.6
A25: Расходы на обеспечение функций органов местного самоуправления | B25: 01 | C25: 04 | D25: 65 | E25: 2 | F25: 00 | G25: 41120 | I25: =+I26+I28 -> 485.9 | J25: =+J26+J28 -> 131 | K25: =+K26+K28 -> 169.4
A26: Закупка товаров, работ и услуг для обеспечения государственных (муниципальных) нужд | B26: 01 | C26: 04 | D26: 65 | E26: 2 | F26: 00 | G26: 41120 | H26: 200 | I26: =I27 -> 476.9 | J26: =J27 -> 122 | K26: =K27 -> 160.4
A27: Иные закупки товаров, работ и услуг для обеспечения государственных (муниципальных) нужд | B27: 01 | C27: 04 | D27: 65 | E27: 2 | F27: 00 | G27: 41120 | H27: 240 | I27: ='Приложение 2'!J27 -> 476.9 | J27: ='Приложение 2'!K27 -> 122 | K27: ='Приложение 2'!L27 -> 160.4
A28: Иные бюджетные ассигнования | B28: 01 | C28: 04 | D28: 65 | E28: 2 | F28: 00 | G28: 41120 | H28: 800 | I28: =I29 -> 9 | J28: =J29 -> 9 | K28: =K29 -> 9
A29: Уплата налогов, сборов и иных платежей | B29: 01 | C29: 04 | D29: 65 | E29: 2 | F29: 00 | G29: 41120 | H29: 850 | I29: ='Приложение 2'!J29 -> 9 | J29: ='Приложение 2'!K29 -> 9 | K29: ='Приложение 2'!L29 -> 9
A30: ='Приложение 2'!A30 -> Субсидии на софинансирование расходных обязательств по финансовому обеспечению деятельности органов местного самоуправления и муниципальных учреждений | B30: 01 | C30: 04 | D30: 65 | E30: 2 | F30: 00 | G30: 44205 | I30: =I31 -> 80
A31: ='Приложение 2'!A31 -> Расходы на выплаты персоналу в целях обеспечения выполнения функций государственными (муниципальными) органами, казенными учреждениями, органами управления государственными внебюджетными фондами | B31: 01 | C31: 04 | D31: 65 | E31: 2 | F31: 00 | G31: 44205 | H31: 100 | I31: =I32 -> 80
A32: ='Приложение 2'!A32 -> Расходы на выплаты персоналу государственных (муниципальных) органов | B32: 01 | C32: 04 | D32: 65 | E32: 2 | F32: 00 | G32: 44205 | H32: 120 | I32: ='Приложение 2'!J32 -> 80
A33: ='Приложение 2'!A33 -> Непрограммные расходы главных распорядителей средств бюджета Алтарского сельского поселения Ромодановского муниципального района Республики Мордовия | B33: 01 | C33: 04 | D33: 89 | I33: =I34 -> 0.6 | J33: =J34 -> 0.6 | K33: =K34 -> 0.6
A34: ='Приложение 2'!A34 -> Непрограммные расходы в рамках обеспечения деятельности главных распорядителей средств бюджета Алтарского сельского поселения Ромодановского муниципального района Республики Мордовия | B34: 01 | C34: 04 | D34: 89 | E34: 1 | I34: =I35 -> 0.6 | J34: =J35 -> 0.6 | K34: =K35 -> 0.6
A35: Осуществление государственных полномочий Республики Мордовия по определению перечня должностных лиц, уполномоченных составлять протоколы об административных правонарушениях, предусмотренных Законом Республики Мордовия от 15 июня 2015 года № 38-З "Об административной ответственности на территории Республики Мордовия" | B35: 01 | C35: 04 | D35: 89 | E35: 1 | F35: 00 | G35: 77150 | I35: =I36 -> 0.6 | J35: =J36 -> 0.6 | K35: =K36 -> 0.6
A36: Закупка товаров, работ и услуг для обеспечения государственных (муниципальных) нужд | B36: 01 | C36: 04 | D36: 89 | E36: 1 | F36: 00 | G36: 77150 | H36: 200 | I36: =I37 -> 0.6 | J36: =J37 -> 0.6 | K36: =K37 -> 0.6
A37: Иные закупки товаров, работ и услуг для обеспечения государственных (муниципальных) нужд | B37: 01 | C37: 04 | D37: 89 | E37: 1 | F37: 00 | G37: 77150 | H37: 240 | I37: ='Приложение 2'!J37 -> 0.6 | J37: ='Приложение 2'!K37 -> 0.6 | K37: ='Приложение 2'!L37 -> 0.6
A38: Резервные фонды | B38: 01 | C38: 11 | I38: =I39 -> 5 | J38: =J39 -> 5 | K38: =K39 -> 5
A39: ='Приложение 2'!A39 -> Непрограммные расходы главных распорядителей средств бюджета Алтарского сельского поселения Ромодановского муниципального района Республики Мордовия | B39: 01 | C39: 11 | D39: 89 | I39: =I40 -> 5 | J39: =J40 -> 5 | K39: =K40 -> 5
A40: ='Приложение 2'!A40 -> Непрограммные расходы в рамках обеспечения деятельности главных распорядителей средств бюджета Алтарского сельского поселения Ромодановского муниципального района Республики Мордовия | B40: 01 | C40: 11 | D40: 89 | E40: 1 | I40: =I41 -> 5 | J40: =J41 -> 5 | K40: =K41 -> 5
...

Sheet Приложение4
I1: Приложение 4 к решению Совета депутатов Алтарского сельского поселения Ромодановского муниципального района Республики Мордовия «О внесении изменений в решение Совета депутатов Алтарского сельского поселения Ромодановского муниципального района Республики Мордовия от 29 декабря 2022 г № 24 «О бюджете Алтарского сельского поселения Ромодановского муниципального района Республики Мордовия на 2023 год и на плановый период 2024 и 2025 годов»
I2: Приложение 5 к проекту решения Совета депутатов Алтарского сельского поселения Ромодановского муниципального района Республики Мордовия «О бюджете Алтарского сельского поселения Ромодановского муниципального района Республики Мордовия на 2023 год и на плановый период 2024и 2025 годов»
A3: РАСПРЕДЕЛЕНИЕ БЮДЖЕТНЫХ АССИГНОВАНИЙ БЮДЖЕТА АЛТАРСКОГО СЕЛЬСКОГО ПОСЕЛЕНИЯ РОМОДАНОВСКОГО МУНИЦИПАЛЬНОГО РАЙОНА РЕСПУБЛИКИ МОРДОВИЯ ПО ЦЕЛЕВЫМ СТАТЬЯМ (МУНИЦИПАЛЬНЫМ ПРОГРАММАМ И НЕПРОГРАММНЫМ НАПРАВЛЕНИЯМ ДЕЯТЕЛЬНОСТИ), ГРУППАМ И ПОДГРУППАМ ВИДОВ РАСХОДОВ, РАЗДЕЛАМ И ПОДРАЗДЕЛАМ КЛАССИФИКАЦИИ РАСХОДОВ БЮДЖЕТОВ НА 2023 ГОД И НА ПЛАНОВЫЙ ПЕРИОД 2024 И 2025 ГОДОВ
I4: (тыс. рублей)
A5: Наименование | B5: Цср | F5: ВР | G5: Рз | H5: Прз | I5: Адм | J5: Сумма
J6: 2023 год | K6: 2024 год | L6: 2025 год
A7: 1 | B7: 2 | C7: 3 | D7: 4 | E7: 5 | F7: 6 | G7: 7 | H7: 8 | I7: 9 | J7: 10 | K7: 11 | L7: 12
A8: ВСЕГО | J8: =J9+J24+J32+J46+J90 -> 2004.7 | K8: =K9+K24+K32+K46+K90 -> 1208.1 | L8: =L9+L24+L32+L46+L90 -> 1258.1
A9: ='Приложение 2'!A63 -> Муниципальная программа «Комплексного развития социальной инфраструктуры Алтарского сельского поселения Ромодановского муниципального района Республики Мордовия на 2018-2028 годы" | B9: 10 | J9: =J10+J18 -> 239.8 | K9: =K10+K18 -> 69 | L9: =L10+L18 -> 69
A10: ='Приложение 2'!A64 -> Основное мероприятие "Благоустройство территории " | B10: 10 | C10: 0 | D10: 07 | J10: =J11 -> 114.8 | K10: =K11 -> 0 | L10: =L11 -> 0
A11: ='Приложение 2'!A65 -> Прочие мероприятия по благоустройству | B11: 10 | C11: 0 | D11: 07 | E11: 43040 | J11: =J12 -> 114.8 | K11: =K12 -> 0 | L11: =L12 -> 0
A12: Закупка товаров, работ и услуг для обеспечения государственных (муниципальных) нужд | B12: 10 | C12: 0 | D12: 07 | E12: 43040 | F12: 200 | J12: =J13 -> 114.8 | K12: =K13 -> 0 | L12: =L13 -> 0
A13: Иные закупки товаров, работ и услуг для обеспечения государственных (муниципальных) нужд | B13: 10 | C13: 0 | D13: 07 | E13: 43040 | F13: 240 | J13: =J14 -> 114.8 | K13: =K14 -> 0 | L13: =L14 -> 0
A14: Жилищно-коммунальное хозяйство | B14: 10 | C14: 0 | D14: 07 | E14: 43040 | F14: 240 | G14: 05 | J14: =J15 -> 114.8 | K14: =K15 -> 0 | L14: =L15 -> 0
A15: Благоустройство | B15: 10 | C15: 0 | D15: 07 | E15: 43040 | F15: 240 | G15: 05 | H15: 03 | J15: =J16 -> 114.8 | K15: =K16 -> 0 | L15: =L16 -> 0
A16: Администрация Алтарского сельского поселения Ромодановского муниципального района Республики Мордовия | B16: 10 | C16: 0 | D16: 07 | E16: 43040 | F16: 240 | G16: 05 | H16: 03 | I16: 909 | J16: ='Приложение 2'!J67 -> 114.8 | K16: ='Приложение 2'!K67 -> 0 | L16: ='Приложение 2'!L67 -> 0
A17: ='Приложение 2'!A68 -> Основсное мероприятие "Освещение территории сельского поселения" | B17: 10 | C17: 0 | D17: 08 | J17: =J18 -> 125 | K17: =K18 -> 69 | L17: =L18 -> 69
A18: ='Приложение 2'!A69 -> уличное освещения | B18: 10 | C18: 0 | D18: 08 | E18: 43010 | J18: =J19 -> 125 | K18: =K19 -> 69 | L18: =L19 -> 69
A19: =A12 -> Закупка товаров, работ и услуг для обеспечения государственных (муниципальных) нужд | B19: 10 | C19: 0 | D19: 08 | E19: 43010 | F19: 200 | J19: =J20 -> 125 | K19: =K20 -> 69 | L19: =L20 -> 69
A20: =A13 -> Иные закупки товаров, работ и услуг для обеспечения государственных (муниципальных) нужд | B20: 10 | C20: 0 | D20: 08 | E20: 43010 | F20: 240 | J20: =J21 -> 125 | K20: =K21 -> 69 | L20: =L21 -> 69
A21: =A14 -> Жилищно-коммунальное хозяйство | B21: 10 | C21: 0 | D21: 08 | E21: 43010 | F21: 240 | G21: 05 | J21: =J22 -> 125 | K21: =K22 -> 69 | L21: =L22 -> 69
A22: =A15 -> Благоустройство | B22: 10 | C22: 0 | D22: 08 | E22: 43010 | F22: 240 | G22: 05 | H22: 03 | J22: =J23 -> 125 | K22: =K23 -> 69 | L22: =L23 -> 69
A23: =A16 -> Администрация Алтарского сельского поселения Ромодановского муниципального района Республики Мордовия | B23: 10 | C23: 0 | D23: 08 | E23: 43010 | F23: 240 | G23: 05 | H23: 03 | I23: 909 | J23: ='Приложение 2'!J71 -> 125 | K23: ='Приложение 2'!K71 -> 69 | L23: ='Приложение 2'!L71 -> 69
A24: ='Приложение 2'!A56 -> Муниципальная программа «Комплексного развития транспортной инфраструктуры Алтарского сельского поселения Ромодановского муниципального района Республики Мордовия на 2017- 2025года" | B24: 13 | J24: =J25 -> 119.4 | K24: =K25 -> 119.4 | L24: =L25 -> 119.4
A25: Основное мероприятие " Ремонт и содержание дорог в границах поселения,поддержание дорожного полотна в работоспособном состоянии" | B25: 13 | C25: 0 | D25: 01 | J25: =J26 -> 119.4 | K25: =K26 -> 119.4 | L25: =L26 -> 119.4
A26: ='Приложение 2'!A58 -> Иные межбюджетные трансферты на осуществление полномочий по дорожной деятельности в отношении автомобильных дорог местного значения в границах населенных пунктов поселения и обеспечению безопасности дорожного движения на них, включая создание и обеспечение функционирования парковок (парковочных мест), осуществлению муниципального контроля за сохранностью автомобильных дорог местного значения в границах населенных пунктов поселения, организации дорожного движения, а также осуществлению иных полномочий в области использования автомобильных дорог и осуществления дорожной деятельности в соответствии с законодательством Российской Федерации | B26: 13 | C26: 0 | D26: 01 | E26: 44102 | J26: =J27 -> 119.4 | K26: =K27 -> 119.4 | L26: =L27 -> 119.4
A27: Закупка товаров, работ и услуг для обеспечения государственных (муниципальных) нужд | B27: 13 | C27: 0 | D27: 01 | E27: 44102 | F27: 200 | J27: =J28 -> 119.4 | K27: =K28 -> 119.4 | L27: =L28 -> 119.4
A28: Иные закупки товаров, работ и услуг для обеспечения государственных (муниципальных) нужд | B28: 13 | C28: 0 | D28: 01 | E28: 44102 | F28: 240 | J28: =J29 -> 119.4 | K28: =K29 -> 119.4 | L28: =L29 -> 119.4
A29: Национальная экономика | B29: 13 | C29: 0 | D29: 01 | E29: 44102 | F29: 240 | G29: 04 | J29: =J30 -> 119.4 | K29: =K30 -> 119.4 | L29: =L30 -> 119.4
A30: ='Приложение 2'!A55 -> Дорожное хозяйство (дорожные фонды) | B30: 13 | C30: 0 | D30: 01 | E30: 44102 | F30: 240 | G30: 04 | H30: 09 | J30: =J31 -> 119.4 | K30: =K31 -> 119.4 | L30: =L31 -> 119.4
A31: Администрация Алтарского сельского поселения Ромодановского муниципального района Республики Мордовия | B31: 13 | C31: 0 | D31: 01 | E31: 44102 | F31: 240 | G31: 04 | H31: 09 | I31: 909 | J31: ='Приложение 2'!J60 -> 119.4 | K31: ='Приложение 2'!K60 -> 119.4 | L31: ='Приложение 2'!L60 -> 119.4
A32: ='Приложение 2'!A46 -> Государственная программа повышения эффективности управления государственными финансами в Республики Мордовия | B32: 17 | J32: =J33 -> 109.3 | K32: =K33 -> 114.4 | L32: =L33 -> 118.7
A33: Подпрограмма "Повышения эффективности межбюджетных отношений" | B33: 17 | C33: 3 | J33: =J34 -> 109.3 | K33: =K34 -> 114.4 | L33: =L34 -> 118.7
A34: Основное мероприятие "Обеспечение осуществления органами местного самоуправления отдельных государственных полномочий" | B34: 17 | C34: 3 | D34: 02 | J34: =J35 -> 109.3 | K34: =K35 -> 114.4 | L34: =L35 -> 118.7
A35: ='Приложение 2'!A49 -> Осуществление государственных пономочий Российской Федерации по первичному воинскому учету на территориях, где отсутствуют военные комиссариаты | B35: 17 | C35: 3 | D35: 02 | E35: 51180 | J35: =J41+J36 -> 109.3 | K35: =K41+K36 -> 114.4 | L35: =L41+L36 -> 118.7
A36: Расходы на выплаты персоналу в целях обеспечения выполнения функций государственными (муниципальными) органами, казенными учреждениями, органами управления государственными внебюджетными фондами | B36: 17 | C36: 3 | D36: 02 | E36: 51180 | F36: 100 | J36: =J37 -> 106.3 | K36: =K37 -> 111.4 | L36: =L37 -> 115.7
A37: Расходы на выплаты персоналу государственных (муниципальных) органов | B37: 17 | C37: 3 | D37: 02 | E37: 51180 | F37: 120 | J37: =J38 -> 106.3 | K37: =K38 -> 111.4 | L37: =L38 -> 115.7
A38: Национальная оборона | B38: 17 | C38: 3 | D38: 02 | E38: 51180 | F38: 120 | G38: 02 | J38: =J39 -> 106.3 | K38: =K39 -> 111.4 | L38: =L39 -> 115.7
A39: Мобилизационная и вневойсковая подготовка | B39: 17 | C39: 3 | D39: 02 | E39: 51180 | F39: 120 | G39: 02 | H39: 03 | J39: =J40 -> 106.3 | K39: =K40 -> 111.4 | L39: =L40 -> 115.7
A40: Администрация Алтарского сельского поселения Ромодановского муниципального района Республики Мордовия | B40: 17 | C40: 3 | D40: 02 | E40: 51180 | F40: 120 | G40: 02 | H40: 03 | I40: 909 | J40: ='Приложение 2'!J51 -> 106.3 | K40: ='Приложение 2'!K51 -> 111.4 | L40: ='Приложение 2'!L51 -> 115.7
...

Sheet прил5
C1: Приложение 5 к решению Совета депутатов Алтарского сельского поселения Ромодановского муниципального района Республики Мордовия «О внесении изменений в решение Совета депутатов Алтарского сельского поселения Ромодановского муниципального района Республики Мордовия от 29 декабря 2022 г № 24 «О бюджете Алтарского сельского поселения Ромодановского муниципального района Республики Мордовия на 2023 год и на плановый период 2024 и 2025 годов»
C2: Приложение 6 к проекту решения Совета депутатов Алтарского сельского поселения Ромодановского муниципального района Республики Мордовия «О бюджете Алтарского сельского поселения Ромодановского муниципального района Республики Мордовия на 2023 год и на плановый период 2024и 2025 годов»
A3: ИСТОЧНИКИ ВНУТРЕННЕГО ФИНАНСИРОВАНИЯ ДЕФИЦИТА БЮДЖЕТА АЛТАРСКОГО СЕЛЬСКОГО ПОСЕЛЕНИЯ РОМОДАНОВСКОГО МУНИЦИПАЛЬНОГО РАЙОНА РЕСПУБЛИКИ МОРДОВИЯ НА 2023 ГОД И НА ПЛАНОВЫЙ ПЕРИОД 2024 и 2025 ГОДОВ
A7: Код | B7: Наименование кода группы, подгруппы, статьи, вида источника финансирования дефицитов бюджетов, кода классификации операций сектора государственного управления, относящихся к источникам финансирования дефицитов бюджетов Российской Федерации | C7: Сумма (тыс. руб.)
C8: 2023 год | D8: 2024 год | E8: 2025 год
A9: 1 | B9: 2 | C9: 3 | D9: 4 | E9: 5
A10: 000 01 00 00 00 00 0000 000 | B10: ИСТОЧНИКИ ВНУТРЕННЕГО ФИНАНСИРОВАНИЯ ДЕФИЦИТОВ БЮДЖЕТОВ | C10: =C11+C22+C14+C18 -> 260.1 | D10: =D11+D22+D14+D18 -> -47.2 | E10: =E11+E22+E14+E18 -> -62.9
A11: 000 01 02 00 00 00 0000 000 | B11: Кредиты кредитных организаций в валюте Российской Федерации | C11: =SUM(C12) -> 0 | D11: =SUM(D12) -> 0 | E11: =SUM(E12) -> 0
A12: 000 01 02 00 00 00 0000 700 | B12: Привлечение кредитов от кредитных организаций в валюте Российской Федерации | C12: =SUM(C13) -> 0 | D12: =SUM(D13) -> 0 | E12: =SUM(E13) -> 0
A13: 000 01 02 00 00 05 0000 710 | B13: Привлечение кредитов от кредитных организаций бюджетами муниципальных районов в валюте Российской Федерации | C13: 0 | D13: 0 | E13: 0
A14: 000 01 03 00 00 00 0000 000 | B14: Бюджетные кредиты из других бюджетов бюджетной системы Российской Федерации | C14: =C15 -> -31.4 | D14: =D15 -> -47.2 | E14: =E15 -> -62.9
A15: 000 01 03 01 00 00 0000 000 | B15: Бюджетные кредиты из других бюджетов бюджетной системы Российской Федерации в валюте Российской Федерации | C15: =C16 -> -31.4 | D15: =D16 -> -47.2 | E15: =E16 -> -62.9
A16: 000 01 03 01 00 00 0000 800 | B16: Погашение бюджетных кредитов, полученных из других бюджетов бюджетной системы Российской Федерации в валюте Российской Федерации | C16: =SUM(C17) -> -31.4 | D16: =SUM(D17) -> -47.2 | E16: =SUM(E17) -> -62.9
A17: 000 01 03 01 00 10 0000 810 | B17: Погашение бюджетами сельских поселений кредитов из других бюджетов бюджетной системы Российской Федерации в валюте Российской Федерации | C17: -31.4 | D17: -47.2 | E17: -62.9
A18: 000 01 06 00 00 00 0000 000 | B18: Иные источники внутреннего финансирования дефицитов бюджетов | C18: =C19 -> 0 | D18: =D19 -> 0 | E18: =E19 -> 0
A19: 000 01 06 05 00 00 0000 000 | B19: Бюджетные кредиты, предоставленные внутри страны в валюте Российской Федерации | C19: =C20 -> 0 | D19: =D20 -> 0 | E19: =E20 -> 0
A20: 000 01 06 05 02 00 0000 600 | B20: Возврат бюджетных кредитов, предоставленных другим бюджетам бюджетной системы Российской Федерации в валюте Российской Федерации | C20: =C21 -> 0 | D20: =D21 -> 0 | E20: =E21 -> 0
A21: 000 01 06 05 02 05 0000 640 | B21: Возврат бюджетных кредитов, предоставленных другим бюджетам бюджетной системы Российской Федерации из бюджетов муниципальных районов в валюте Российской Федерации | C21: 0 | D21: 0 | E21: 0
A22: 000 01 05 00 00 00 0000 000 | B22: Изменения остатков средств на счетах по учету средств бюджета | C22: =C23+C26 -> 291.5 | D22: 0 | E22: 0
A23: 000 01 05 02 00 00 0000 500 | B23: Увеличение прочих остатков средств бюджетов | C23: =C24 -> -1744.6 | D23: =SUM(D24) -> -1255.3 | E23: =SUM(E24) -> -1321
A24: 000 01 05 02 01 00 0000 510 | B24: Увеличение прочих остатков денежных средств бюджетов | C24: =C25 -> -1744.6 | D24: =SUM(D25) -> -1255.3 | E24: =SUM(E25) -> -1321
A25: 000 01 05 02 01 10 0000 510 | B25: Увеличение прочих остатков денежных средств бюджетов сельских поселений | C25: -1744.6 | D25: -1255.3 | E25: -1321
A26: 000 01 05 02 00 00 0000 600 | B26: Уменьшение прочих остатков средств бюджетов | C26: =SUM(C27) -> 2036.1 | D26: =SUM(D27) -> 1255.3 | E26: =SUM(E27) -> 1321
A27: 000 01 05 02 01 00 0000 610 | B27: Уменьшение прочих остатков денежных средств бюджетов | C27: =SUM(C28) -> 2036.1 | D27: =SUM(D28) -> 1255.3 | E27: =SUM(E28) -> 1321
A28: 000 01 05 02 01 05 0000 610 | B28: Уменьшение прочих остатков денежных средств бюджетов муниципальных районов | C28: 2036.1 | D28: 1255.3 | E28: 1321
A29: 000 01 00 00 00 00 0000 000 | B29: Итого источников внутреннего финансирования дефицита бюджета Алтарского сельского поселения Ромодановского муниципального района Республики Мордовия | C29: 0 | D29: 0 | E29: 0
B30: собственные доходы | C30: 534.4 | D30: 539.4 | E30: 544.2
