Workbook

Sheet Приложение 1
C1: Приложение1 к Решению Совета депутатов Набережного сельского поселения Ромодановского муниципального района Республики Мордовия "О бюджете Набережного сельского поселения Ромодановского муниципального района Республики Мордовия на 2022 год и плановый период 2023 и 2024 годов"от 29.12.2021г. № 2
A6: ОБЪЕМ БЕЗВОЗМЕЗДНЫХ ПОСТУПЛЕНИЙ В БЮДЖЕТ НАБЕРЕЖНОГО СЕЛЬСКОГО ПОСЕЛЕНИЯ РОМОДАНОВСКОГО МУНИЦИПАЛЬНОГО РАЙОНА РЕСПУБЛИКИ МОРДОВИЯ НА 2022 ГОД И НА ПЛАНОВЫЙ ПЕРИОД 2023 И 2024 ГОДОВ
E7: (тыс. рублей)
A8: Код | B8: Наименование | C8: Сумма
C9: 2022 год | D9: 2023 год | E9: 2024 год
A10: 1 | B10: 2 | C10: 3 | D10: 4 | E10: 5
A11: 2 00 00000 00 0000 000 | B11: БЕЗВОЗМЕЗДНЫЕ ПОСТУПЛЕНИЯ | C11: =C12 -> 1870.1 | D11: =D12 -> 664.6 | E11: =E12 -> 701
A12: 2 02 00000 00 0000 000 | B12: Безвозмездные поступления от других бюджетов бюджетной системы Российской Федерации | C12: =C13+C18+C21+C26+C29 -> 1870.1 | D12: =D13+D18+D21+D26 -> 664.6 | E12: =E13+E18+E21+E26 -> 701
A13: 2 02 10000 00 0000 150 | B13: Дотации бюджетам бюджетной системы Российской Федерации | C13: =C14+C16 -> 691.9 | D13: =D14+D16 -> 306.6 | E13: =E14+E16 -> 339.8
A14: 2 02 15001 00 0000 150 | B14: Дотации на выравнивание бюджетной обеспеченности | C14: =C15 -> 345.8 | D14: =D15 -> 306.6 | E14: =E15 -> 339.8
A15: 2 02 15001 10 0000 150 | B15: Дотации бюджетам сельских поселений на выравнивание бюджетной обеспеченности из бюджета субъекта Российской Федерации | C15: 345.8 | D15: 306.6 | E15: 339.8
A16: 2 02 15002 00 0000 150 | B16: Дотации бюджетам на поддержку мер по обеспечению сбалансированности бюджетов | C16: =C17 -> 346.1 | D16: =D17 -> 0 | E16: =E17 -> 0
A17: 2 02 15002 10 0000 150 | B17: Дотации бюджетам сельских поселений на поддержку мер по обеспечению сбалансированности бюджетов | C17: 346.1
A18: 2 02 20000 00 0000 150 | B18: Субсидии бюджетам бюджетной системы Российской Федерации (межбюджетные субсидии) | C18: =+C19 -> 404.7 | D18: =+D19 -> 0
A19: 2 02 29999 00 0000 150 | B19: Прочие субсидии | C19: =C20 -> 404.7 | D19: =D20 -> 0 | E19: =E20 -> 0
A20: 2 02 29999 10 0000 150 | B20: Прочие субсидии бюджетам сельских поселений | C20: 404.7
A21: 2 02 30000 00 0000 150 | B21: Субвенции бюджетам бюджетной системы Российской Федерации | C21: =C22+C24 -> 95.5 | D21: =D22+D24 -> 93 | E21: =E22+E24 -> 96.2
A22: 2 02 30024 00 0000 150 | B22: Субвенции местным бюджетам на выполнение передаваемых полномочий субъектов Российской Федерации | C22: =C23 -> 0.2 | D22: =D23 -> 0.2 | E22: =E23 -> 0.2
A23: 2 02 30024 10 0000 150 | B23: Субвенции бюджетам сельских поселений на выполнение передаваемых полномочий субъектов Российской Федерации | C23: 0.2 | D23: 0.2 | E23: 0.2
A24: 2 02 35118 00 0000 150 | B24: Субвенции бюджетам на осуществление первичного воинского учета органами местного самоуправления поселений,муниципальных и городских округов | C24: =C25 -> 95.3 | D24: =D25 -> 92.8 | E24: =E25 -> 96
A25: 2 02 35118 10 0000 150 | B25: Субвенции бюджетам сельских поселений на осуществление первичного воинского учета органами местного самоуправления поселений,муниципальных и городских округов | C25: 95.3 | D25: 92.8 | E25: 96
A26: 2 02 40000 00 0000 150 | B26: Иные межбюджетные трансферты | C26: =C27 -> 606 | D26: =D27 -> 265 | E26: =E27 -> 265
A27: 2 02 40014 00 0000 150 | B27: Межбюджетные трансферты, передаваемые бюджетам муниципальных образований на осуществление части полномочий по решению вопросов местного значения в соответствии с заключенными соглашениями | C27: =C28 -> 606 | D27: =D28 -> 265 | E27: =E28 -> 265
A28: 2 02 40014 10 0000 150 | B28: Межбюджетные трансферты, передаваемые бюджетам сельских поселений из бюджетов муниципальных районов на осуществление части полномочий по решению вопросов местного значения в соответствии с заключенными соглашениями | C28: 606 | D28: 265 | E28: 265
A29: 2 07 00000 00 0000 000 | B29: ПРОЧИЕ БЕЗВОЗМЕЗДНЫЕ ПОСТУПЛЕНИЯ | C29: 72
A30: 2 07 05030 10 0000 150 | B30: Прочие безвозмездные поступления в бюджеты сельских поселений | C30: 72

Sheet Приложение 2
I1: Приложение 2 к решению Совета депутатов Набережного сельского поселения Ромодановского муниципального района Республики Мордовия "О бюджете Набережного сельского поселения Ромодановского муниципального района Республики Мордовия на 2022 год и на плановый период 2023 и 2024 годов»от 29.12.2021г. № 2
A2: ВЕДОМСТВЕННАЯ СТРУКТУРА РАСХОДОВ БЮДЖЕТА НАБЕРЕЖНОГО СЕЛЬСКОГО ПОСЕЛЕНИЯ РОМОДАНОВСКОГО МУНИЦИПАЛЬНОГО РАЙОНА РЕСПУБЛИКИ МОРДОВИЯ НА 2022 ГОД И НА ПЛАНОВЫЙ ПЕРИОД 2023 И 2024 ГОДОВ
I3: (тыс. рублей)
A4: Наименование | B4: Адм | C4: Рз | D4: Прз | E4: Цср | I4: Вр | J4: Сумма
J5: 2022 год | K5: 2023 год | L5: 2024 год
A6: 1 | B6: 2 | C6: 3 | D6: 4 | E6: 5 | F6: 6 | G6: 7 | H6: 8 | I6: 9 | J6: 10 | K6: 11 | L6: 12
A7: ВСЕГО | J7: =J8 -> 2662.6 | K7: =K8 -> 1279.2 | L7: =L8 -> 1326.1
A8: Администрация Набережного сельского поселения Ромодановского муниципального района Республики Мордовия | B8: 919 | J8: =J9+J50+J60+J78+J96 -> 2662.6 | K8: =K9+K50+K60+K78+K96+K103+K33+K25 -> 1279.2 | L8: =L9+L50+L60+L78+L96+L103+L25 -> 1326.1
A9: Общегосударственные вопросы | B9: 919 | C9: 01 | J9: =J10+J19+J38+J44 -> 1245 | K9: =K10+K19+K38 -> 488.5 | L9: =L10+L19+L38 -> 500.6
A10: Функционирование высшего должностного лица субъекта Российской Федерации и муниципального образования | B10: 919 | C10: 01 | D10: 02 | J10: =J11+J16 -> 503.5 | K10: =K11 -> 220 | L10: =L11 -> 213.7
A11: Обеспечение деятельности аппарата Администрации Набережного сельского поселения Ромодановского муниципального района Республики Мордовия | B11: 919 | C11: 01 | D11: 02 | E11: 65 | F11: 0 | J11: =J12 -> 239.5 | K11: =K12 -> 220 | L11: =L12 -> 213.7
A12: Высшее должностное лицо | B12: 919 | C12: 01 | D12: 02 | E12: 65 | F12: 1 | J12: =J13 -> 239.5 | K12: =K13 -> 220 | L12: =L13 -> 213.7
A13: Расходы на выплаты по оплате труда высшего должностного лица | B13: 919 | C13: 01 | D13: 02 | E13: 65 | F13: 1 | G13: 00 | H13: 41150 | J13: =J14 -> 239.5 | K13: =K14 -> 220 | L13: =L14 -> 213.7
A14: Расходы на выплаты персоналу в целях обеспечения выполнения функций государственными (муниципальными) органами, казенными учреждениями, органами управления государственными внебюджетными фондами | B14: 919 | C14: 01 | D14: 02 | E14: 65 | F14: 1 | G14: 00 | H14: 41150 | I14: 100 | J14: =J15 -> 239.5 | K14: =K15 -> 220 | L14: =L15 -> 213.7
A15: Расходы на выплаты персоналу государственных (муниципальных) органов | B15: 919 | C15: 01 | D15: 02 | E15: 65 | F15: 1 | G15: 00 | H15: 41150 | I15: 120 | J15: 239.5 | K15: 220 | L15: 213.7
A16: =A30 -> Субсидии на софинансирование расходных обязательств по финансовому обеспечению деятельности органов местного самоуправления и муниципальных учреждений | B16: 919 | C16: 01 | D16: 02 | E16: 65 | F16: 1 | G16: 00 | H16: 44205 | J16: =J17 -> 264
A17: =A31 -> Расходы на выплаты персоналу в целях обеспечения выполнения функций государственными (муниципальными),органами, казенными учреждениями, органами управления государственными . внебюджетными фондами | B17: 919 | C17: 01 | D17: 02 | E17: 65 | F17: 1 | G17: 00 | H17: 44205 | I17: 100 | J17: =J18 -> 264
A18: =A32 -> Расходы на выплаты персоналу государственных (муниципальных)органов | B18: 919 | C18: 01 | D18: 02 | E18: 65 | F18: 1 | G18: 00 | H18: 44205 | I18: 120 | J18: 264
A19: Функционирование Правительства Российской Федерации, высших исполнительных органов государственной власти субъектов Российской Федерации, местных администраций | B19: 919 | C19: 01 | D19: 04 | J19: =J20+J33+J30+J25 -> 694.5 | K19: =K20 -> 263.5 | L19: =L20+L33 -> 281.9
A20: =A11 -> Обеспечение деятельности аппарата Администрации Набережного сельского поселения Ромодановского муниципального района Республики Мордовия | B20: 919 | C20: 01 | D20: 04 | E20: 65 | F20: 0 | J20: =J21 -> 178.4 | K20: =K21 -> 263.5 | L20: =L21 -> 281.7
A21: Обеспечение деятельности Администрации сельского поселения | B21: 919 | C21: 01 | D21: 04 | E21: 65 | F21: 2 | J21: =J22 -> 178.4 | K21: =K22 -> 263.5 | L21: =L22 -> 281.7
A22: Расходы на выплаты по оплате труда работников органов местного самоуправления | B22: 919 | C22: 01 | D22: 04 | E22: 65 | F22: 2 | G22: 00 | H22: 41110 | J22: =J23 -> 178.4 | K22: =K23 -> 263.5 | L22: =L23 -> 281.7
A23: Расходы на выплаты персоналу в целях обеспечения выполнения функций государственными (муниципальными) органами, казенными учреждениями, органами управления государственными внебюджетными фондами | B23: 919 | C23: 01 | D23: 04 | E23: 65 | F23: 2 | G23: 00 | H23: 41110 | I23: 100 | J23: =J24 -> 178.4 | K23: =K24 -> 263.5 | L23: =L24 -> 281.7
A24: Расходы на выплаты персоналу государственных (муниципальных) органов | B24: 919 | C24: 01 | D24: 04 | E24: 65 | F24: 2 | G24: 00 | H24: 41110 | I24: 120 | J24: 178.4 | K24: 263.5 | L24: 281.7
A25: Расходы на обеспечение функций органов местного самоуправления | B25: 919 | C25: 01 | D25: 04 | E25: 65 | F25: 2 | G25: 00 | H25: 41120 | J25: =J26+J28 -> 426.1 | K25: =K26+K28 -> 115 | L25: =L26+L28 -> 115
A26: Закупка товаров, работ и услуг для государственных (муниципальных) нужд | B26: 919 | C26: 01 | D26: 04 | E26: 65 | F26: 2 | G26: 00 | H26: 41120 | I26: 200 | J26: =J27 -> 425.4 | K26: =K27 -> 110 | L26: =L27 -> 110
A27: Иные закупки товаров, работ и услуг для обеспечения государственных (муниципальных) нужд | B27: 919 | C27: 01 | D27: 04 | E27: 65 | F27: 2 | G27: 00 | H27: 41120 | I27: 240 | J27: 425.4 | K27: 110 | L27: 110
A28: Иные бюджетные ассигнования | B28: 919 | C28: 01 | D28: 04 | E28: 65 | F28: 2 | G28: 00 | H28: 41120 | I28: 800 | J28: =J29 -> 0.7 | K28: =K29 -> 5 | L28: =L29 -> 5
A29: Уплата налогов, сборов и иных платежей | B29: 919 | C29: 01 | D29: 04 | E29: 65 | F29: 2 | G29: 00 | H29: 41120 | I29: 850 | J29: 0.7 | K29: 5 | L29: 5
A30: Субсидии на софинансирование расходных обязательств по финансовому обеспечению деятельности органов местного самоуправления и муниципальных учреждений | B30: 919 | C30: 01 | D30: 04 | E30: 65 | F30: 2 | G30: 00 | H30: 44205 | J30: =J31 -> 89.8
A31: Расходы на выплаты персоналу в целях обеспечения выполнения функций государственными (муниципальными),органами, казенными учреждениями, органами управления государственными . внебюджетными фондами | B31: 919 | C31: 01 | D31: 04 | E31: 65 | F31: 2 | G31: 00 | H31: 44205 | I31: 100 | J31: =J32 -> 89.8
A32: Расходы на выплаты персоналу государственных (муниципальных)органов | B32: 919 | C32: 01 | D32: 04 | E32: 65 | F32: 2 | G32: 00 | H32: 44205 | I32: 120 | J32: 89.8
A33: Непрограммные расходы главных распорядителей бюджетных средств Набережного сельского поселения Ромодановского муниципального района Республики Мордовия | B33: 919 | C33: 01 | D33: 04 | E33: 89 | F33: 0 | J33: =J34 -> 0.2 | K33: =K34 -> 0.2 | L33: =L34 -> 0.2
A34: Непрограммные расходы в рамках обеспечения деятельности главных распорядителей бюджетных средств Набережного сельского поселения Ромодановского муниципального района Республики Мордовия | B34: 919 | C34: 01 | D34: 04 | E34: 89 | F34: 1 | J34: =J35 -> 0.2 | K34: =K35 -> 0.2 | L34: =L35 -> 0.2
A35: Осуществление государственных полномочий Республики Мордовия по определению перечня должностных лиц, уполномоченных составлять протоколы об административных правонарушениях, предусмотренных Законом Республики Мордовия от 15 июня 2015 года № 38-З "Об административной ответственности на территории Республики Мордовия" | B35: 919 | C35: 01 | D35: 04 | E35: 89 | F35: 1 | G35: 00 | H35: 77150 | J35: =J36 -> 0.2 | K35: =K36 -> 0.2 | L35: =L36 -> 0.2
A36: Закупка товаров, работ и услуг для обеспечения государственных (муниципальных) нужд | B36: 919 | C36: 01 | D36: 04 | E36: 89 | F36: 1 | G36: 00 | H36: 77150 | I36: 200 | J36: =J37 -> 0.2 | K36: =K37 -> 0.2 | L36: =L37 -> 0.2
A37: Иные закупки товаров, работ и услуг для обеспечения государственных (муниципальных) нужд | B37: 919 | C37: 01 | D37: 04 | E37: 89 | F37: 1 | G37: 00 | H37: 77150 | I37: 240 | J37: 0.2 | K37: 0.2 | L37: 0.2
A38: Резервные фонды | B38: 919 | C38: 01 | D38: 11 | J38: =J39 -> 0 | K38: =K39 -> 5 | L38: =L39 -> 5
A39: Непрограммные расходы главных распорядителей бюджетных средств Набережного сельского поселения Ромодановского муниципального района Республики Мордовия | B39: 919 | C39: 01 | D39: 11 | E39: 89 | F39: 0 | J39: =J40 -> 0 | K39: =K40 -> 5 | L39: =L40 -> 5
A40: Непрограммные расходы в рамках обеспечения деятельности главных распорядителей бюджетных средств Набережного сельского поселения Ромодановского муниципального района Республики Мордовия | B40: 919 | C40: 01 | D40: 11 | E40: 89 | F40: 1 | J40: =J41 -> 0 | K40: =K41 -> 5 | L40: =L41 -> 5
...

Sheet Приложение 3
H1: Приложение 3 к решению Совета депутатов Набережного сельского поселения Ромодановского муниципального района Республики Мордовия «О бюджете Набережного сельского поселеня Ромодановского муниципального района Республики Мордовия на 2022 год и на плановый период 2023 и 2024 годов»от 29.12.2021г. № 2
A2: РАСПРЕДЕЛЕНИЕ БЮДЖЕТНЫХ АССИГНОВАНИЙ БЮДЖЕТА НАБЕРЕЖНОГО СЕЛЬСКОГО ПОСЕЛЕНИЯ РОМОДАНОВСКОГО МУНИЦИПАЛЬНОГО РАЙОНА РЕСПУБЛИКИ МОРДОВИЯ ПО РАЗДЕЛАМ, ПОДРАЗДЕЛАМ, ЦЕЛЕВЫМ СТАТЬЯМ (МУНИЦИПАЛЬНЫМ ПРОГРАММАМ И НЕПРОГРАММНЫМ НАПРАВЛЕНИЯМ ДЕЯТЕЛЬНОСТИ), ГРУППАМ И ПОДГРУППАМ ВИДОВ РАСХОДОВ КЛАССИФИКАЦИИ РАСХОДОВ БЮДЖЕТОВ НА 2022 ГОД И НА ПЛАНОВЫЙ ПЕРИОД 2023 И 2024 ГОДОВ
H3: (тыс. рублей)
A4: Наименование | B4: Рз | C4: Прз | D4: Цср | H4: Вр | I4: Сумма
I5: 2022 год | J5: 2023 год | K5: 2024 год
A6: 1 | B6: 2 | C6: 3 | D6: 4 | E6: 5 | F6: 6 | G6: 7 | H6: 8 | I6: 9 | J6: 10 | K6: 11
A7: ВСЕГО | I7: =I8+I49+I59+I76+I94 -> 2662.6 | J7: =J8+J49+J59+J76+J94+J101+J27 -> 1279.2 | K7: =K8+K49+K59+K76+K94+K101+K27 -> 1326.1
A8: Общегосударственные вопросы | B8: 01 | I8: =I9+I18+I37+I43 -> 1245 | J8: =J9+J18+J37 -> 488.7 | K8: =K9+K18+K37 -> 500.6
A9: Функционирование высшего должностного лица субъекта Российской Федерации и муниципального образования | B9: 01 | C9: 02 | I9: =I10+I15 -> 503.5 | J9: =J10 -> 220 | K9: =K10 -> 213.7
A10: ='Приложение 2'!A11 -> Обеспечение деятельности аппарата Администрации Набережного сельского поселения Ромодановского муниципального района Республики Мордовия | B10: 01 | C10: 02 | D10: 65 | E10: 0 | I10: =I11 -> 239.5 | J10: =J11 -> 220 | K10: =K11 -> 213.7
A11: Высшее должностное лицо | B11: 01 | C11: 02 | D11: 65 | E11: 1 | I11: =I12 -> 239.5 | J11: =J12 -> 220 | K11: =K12 -> 213.7
A12: Расходы на выплаты по оплате труда высшего должностного лица | B12: 01 | C12: 02 | D12: 65 | E12: 1 | F12: 00 | G12: 41150 | I12: =I13 -> 239.5 | J12: =J13 -> 220 | K12: =K13 -> 213.7
A13: Расходы на выплаты персоналу в целях обеспечения выполнения функций государственными (муниципальными) органами, казенными учреждениями, органами управления государственными внебюджетными фондами | B13: 01 | C13: 02 | D13: 65 | E13: 1 | F13: 00 | G13: 41150 | H13: 100 | I13: =I14 -> 239.5 | J13: =J14 -> 220 | K13: =K14 -> 213.7
A14: Расходы на выплаты персоналу государственных (муниципальных) органов | B14: 01 | C14: 02 | D14: 65 | E14: 1 | F14: 00 | G14: 41150 | H14: 120 | I14: ='Приложение 2'!J15 -> 239.5 | J14: ='Приложение 2'!K15 -> 220 | K14: ='Приложение 2'!L15 -> 213.7
A15: ='Приложение 2'!A16 -> Субсидии на софинансирование расходных обязательств по финансовому обеспечению деятельности органов местного самоуправления и муниципальных учреждений | B15: 01 | C15: 02 | D15: 65 | E15: 1 | F15: 00 | G15: 44205 | I15: =I16 -> 264
A16: ='Приложение 2'!A17 -> Расходы на выплаты персоналу в целях обеспечения выполнения функций государственными (муниципальными),органами, казенными учреждениями, органами управления государственными . внебюджетными фондами | B16: 01 | C16: 02 | D16: 65 | E16: 1 | F16: 00 | G16: 44205 | H16: 100 | I16: =I17 -> 264
A17: ='Приложение 2'!A18 -> Расходы на выплаты персоналу государственных (муниципальных)органов | B17: 01 | C17: 02 | D17: 65 | E17: 1 | F17: 00 | G17: 44205 | H17: 120 | I17: ='Приложение 2'!J18 -> 264
A18: Функционирование Правительства Российской Федерации, высших исполнительных органов государственной власти субъектов Российской Федерации, местных администраций | B18: 01 | C18: 04 | I18: =I19+I32+I24+I27 -> 694.5 | J18: =J19+J32 -> 263.7 | K18: =K19+K32 -> 281.9
A19: =A10 -> Обеспечение деятельности аппарата Администрации Набережного сельского поселения Ромодановского муниципального района Республики Мордовия | B19: 01 | C19: 04 | D19: 65 | E19: 0 | I19: =I20 -> 178.4 | J19: =J20 -> 263.5 | K19: =K20 -> 281.7
A20: ='Приложение 2'!A21 -> Обеспечение деятельности Администрации сельского поселения | B20: 01 | C20: 04 | D20: 65 | E20: 2 | I20: =I21 -> 178.4 | J20: =J21 -> 263.5 | K20: =K21 -> 281.7
A21: Расходы на выплаты по оплате труда работников органов местного самоуправления | B21: 01 | C21: 04 | D21: 65 | E21: 2 | F21: 00 | G21: 41110 | I21: =I22 -> 178.4 | J21: =J22 -> 263.5 | K21: =K22 -> 281.7
A22: Расходы на выплаты персоналу в целях обеспечения выполнения функций государственными (муниципальными) органами, казенными учреждениями, органами управления государственными внебюджетными фондами | B22: 01 | C22: 04 | D22: 65 | E22: 2 | F22: 00 | G22: 41110 | H22: 100 | I22: =I23 -> 178.4 | J22: =J23 -> 263.5 | K22: =K23 -> 281.7
A23: Расходы на выплаты персоналу государственных (муниципальных) органов | B23: 01 | C23: 04 | D23: 65 | E23: 2 | F23: 00 | G23: 41110 | H23: 120 | I23: ='Приложение 2'!J24 -> 178.4 | J23: ='Приложение 2'!K24 -> 263.5 | K23: ='Приложение 2'!L24 -> 281.7
A24: ='Приложение 2'!A30 -> Субсидии на софинансирование расходных обязательств по финансовому обеспечению деятельности органов местного самоуправления и муниципальных учреждений | B24: 01 | C24: 04 | D24: 65 | E24: 2 | F24: 00 | G24: 44205 | I24: =I25 -> 89.8
A25: ='Приложение 2'!A31 -> Расходы на выплаты персоналу в целях обеспечения выполнения функций государственными (муниципальными),органами, казенными учреждениями, органами управления государственными . внебюджетными фондами | B25: 01 | C25: 04 | D25: 65 | E25: 2 | F25: 00 | G25: 44205 | H25: 100 | I25: =I26 -> 89.8
A26: ='Приложение 2'!A32 -> Расходы на выплаты персоналу государственных (муниципальных)органов | B26: 01 | C26: 04 | D26: 65 | E26: 2 | F26: 00 | G26: 44205 | H26: 120 | I26: ='Приложение 2'!J32 -> 89.8
A27: Расходы на обеспечение функций органов местного самоуправления | B27: 01 | C27: 04 | D27: 65 | E27: 2 | F27: 00 | G27: 41120 | I27: =+I28+I30 -> 426.1 | J27: =+J28+J30 -> 115 | K27: =+K28+K30 -> 115
A28: Закупка товаров, работ и услуг для обеспечения государственных (муниципальных) нужд | B28: 01 | C28: 04 | D28: 65 | E28: 2 | F28: 00 | G28: 41120 | H28: 200 | I28: =I29 -> 425.4 | J28: =J29 -> 110 | K28: =K29 -> 110
A29: Иные закупки товаров, работ и услуг для обеспечения государственных (муниципальных) нужд | B29: 01 | C29: 04 | D29: 65 | E29: 2 | F29: 00 | G29: 41120 | H29: 240 | I29: ='Приложение 2'!J27 -> 425.4 | J29: ='Приложение 2'!K27 -> 110 | K29: ='Приложение 2'!L27 -> 110
A30: Иные бюджетные ассигнования | B30: 01 | C30: 04 | D30: 65 | E30: 2 | F30: 00 | G30: 41120 | H30: 800 | I30: =I31 -> 0.7 | J30: =J31 -> 5 | K30: =K31 -> 5
A31: Уплата налогов, сборов и иных платежей | B31: 01 | C31: 04 | D31: 65 | E31: 2 | F31: 00 | G31: 41120 | H31: 850 | I31: ='Приложение 2'!J29 -> 0.7 | J31: ='Приложение 2'!K29 -> 5 | K31: ='Приложение 2'!L29 -> 5
A32: Непрограммные расходы главных распорядителей бюджетных средств Набережного сельского поселения Ромодановского муниципального района Республики Мордовия | B32: 01 | C32: 04 | D32: 89 | E32: 0 | I32: =I33 -> 0.2 | J32: =J33 -> 0.2 | K32: =K33 -> 0.2
A33: Непрограммные расходы в рамках обеспечения деятельности главных распорядителей бюджетных средств Набережного сельского поселения Ромодановского муниципального района Республики Мордовия | B33: 01 | C33: 04 | D33: 89 | E33: 1 | I33: =I34 -> 0.2 | J33: =J34 -> 0.2 | K33: =K34 -> 0.2
A34: Осуществление государственных полномочий Республики Мордовия по определению перечня должностных лиц, уполномоченных составлять протоколы об административных правонарушениях, предусмотренных Законом Республики Мордовия от 15 июня 2015 года № 38-З "Об административной ответственности на территории Республики Мордовия" | B34: 01 | C34: 04 | D34: 89 | E34: 1 | F34: 00 | G34: 77150 | I34: =I35 -> 0.2 | J34: =J35 -> 0.2 | K34: =K35 -> 0.2
A35: Закупка товаров, работ и услуг для обеспечения государственных (муниципальных) нужд | B35: 01 | C35: 04 | D35: 89 | E35: 1 | F35: 00 | G35: 77150 | H35: 200 | I35: =I36 -> 0.2 | J35: =J36 -> 0.2 | K35: =K36 -> 0.2
A36: Иные закупки товаров, работ и услуг для обеспечения государственных (муниципальных) нужд | B36: 01 | C36: 04 | D36: 89 | E36: 1 | F36: 00 | G36: 77150 | H36: 240 | I36: ='Приложение 2'!J37 -> 0.2 | J36: ='Приложение 2'!K37 -> 0.2 | K36: ='Приложение 2'!L37 -> 0.2
A37: Резервные фонды | B37: 01 | C37: 11 | I37: =I38 -> 0 | J37: =J38 -> 5 | K37: =K38 -> 5
A38: Непрограммные расходы главных распорядителей бюджетных средств Набережного сельского поселения Ромодановского муниципального района Республики Мордовия | B38: 01 | C38: 11 | D38: 89 | E38: 0 | I38: =I39 -> 0 | J38: =J39 -> 5 | K38: =K39 -> 5
A39: Непрограммные расходы в рамках обеспечения деятельности главных распорядителей бюджетных средств Набережного сельского поселения Ромодановского муниципального района Республики Мордовия | B39: 01 | C39: 11 | D39: 89 | E39: 1 | I39: =I40 -> 0 | J39: =J40 -> 5 | K39: =K40 -> 5
A40: Резервный фонд Администрации Набережного сельского поселения Ромодановского муниципального района Республики Мордовия | B40: 01 | C40: 11 | D40: 89 | E40: 1 | F40: 00 | G40: 41180 | I40: =I42 -> 0 | J40: =J42 -> 5 | K40: =K42 -> 5
...

Sheet Приложение 4
I1: Приложение 4 к решению Совета депутатов Набережного сельского поселения Ромодановского муниципального района Республики Мордовия «О бюджете Набережного сельского поселения Ромодановского муниципального района Республики Мордовия на 2022 год и на плановый период 2023 и 2024 годов» от 29.12.2021г № 2
A2: РАСПРЕДЕЛЕНИЕ БЮДЖЕТНЫХ АССИГНОВАНИЙ БЮДЖЕТА НАБЕРЕЖНОГО СЕЛЬСКОГО ПОСЕЛЕНИЯ РОМОДАНОВСКОГО МУНИЦИПАЛЬНОГО РАЙОНА РЕСПУБЛИКИ МОРДОВИЯ ПО ЦЕЛЕВЫМ СТАТЬЯМ (МУНИЦИПАЛЬНЫМ ПРОГРАММАМ И НЕПРОГРАММНЫМ НАПРАВЛЕНИЯМ ДЕЯТЕЛЬНОСТИ), ГРУППАМ И ПОДГРУППАМ ВИДОВ РАСХОДОВ, РАЗДЕЛАМ И ПОДРАЗДЕЛАМ КЛАССИФИКАЦИИ РАСХОДОВ БЮДЖЕТОВ НА 2022 ГОД И НА ПЛАНОВЫЙ ПЕРИОД 2023 И 2024 ГОДОВ
I3: (тыс. рублей)
A4: Наименование | B4: Цср | F4: ВР | G4: Рз | H4: Прз | I4: Адм | J4: Сумма
J5: 2022 год | K5: 2023 год | L5: 2024 год
A6: 1 | B6: 2 | C6: 3 | D6: 4 | E6: 5 | F6: 6 | G6: 7 | H6: 8 | I6: 9 | J6: 10 | K6: 11 | L6: 12
A7: ВСЕГО | J7: =J8+J17+J40+J54+J98+J104+J116+J128+J122+J32+J110 -> 2662.6 | K7: =K8+K17+K40+K54+K98+K104+K128 -> 1279.2 | L7: =L8+L17+L40+L54+L98+L104+L128 -> 1326.1
A8: Муниципальная программа «Комплексного развития транспортной инфраструктуры Набережного сельского поселения Ромодановского муниципального района Республики Мордовия на 2018- 2028 года" | B8: 10 | C8: 0 | J8: =J10 -> 323.6 | K8: =K10 -> 265 | L8: =L10 -> 265
A9: ='Приложение 2'!A63 -> Подпрограмма "Комплекного развития транспортной инфраструктуры Набережного сельского поселения Ромодановского муниципального района Республики Мордовия на 2018-2028гг" | B9: 10 | C9: 1 | J9: =J10 -> 323.6 | K9: =K10 -> 265 | L9: =L10 -> 265
A10: Основное мероприятие "Ремонт и содержание дорог в границах поселения, поддержание дорожного полотна в работоспособном состоянии" | B10: 10 | C10: 1 | D10: 04 | J10: =J11 -> 323.6 | K10: =K11 -> 265 | L10: =L11 -> 265
A11: осуществление полномочий по дорожной деятельности в отношении автомобильных дорог местного значения в границах населенных пунктов поселения и обеспечению безопасности дорожного движения на них, включая создание и обеспечение функционирования парковок (парковочных мест), осуществлению муниципального контроля за сохранностью автомобильных дорог местного значения в границах населенных пунктов поселения, организации дорожного движения, а также осуществлению иных полномочий в области использования автомобильных дорог и осуществления дорожной деятельности в соответствии с законодательством Российской Федерации | B11: 10 | C11: 1 | D11: 04 | E11: 44102 | J11: =J12 -> 323.6 | K11: =K12 -> 265 | L11: =L12 -> 265
A12: Закупка товаров, работ и услуг для обеспечения государственных (муниципальных) нужд | B12: 10 | C12: 1 | D12: 04 | E12: 44102 | F12: 200 | J12: =J13 -> 323.6 | K12: =K13 -> 265 | L12: =L13 -> 265
A13: Иные закупки товаров, работ и услуг для обеспечения государственных (муниципальных) нужд | B13: 10 | C13: 1 | D13: 04 | E13: 44102 | F13: 240 | J13: =J14 -> 323.6 | K13: =K14 -> 265 | L13: =L14 -> 265
A14: Национальная экономика | B14: 10 | C14: 1 | D14: 04 | E14: 44102 | F14: 240 | G14: 04 | J14: =J15 -> 323.6 | K14: =K15 -> 265 | L14: =L15 -> 265
A15: Дорожное хозяйство | B15: 10 | C15: 1 | D15: 04 | E15: 44102 | F15: 240 | G15: 04 | H15: 09 | J15: =J16 -> 323.6 | K15: =K16 -> 265 | L15: =L16 -> 265
A16: Администрация Набережного сельского поселения Ромодановского муниципального района Республики Мордовия | B16: 10 | C16: 1 | D16: 04 | E16: 44102 | F16: 240 | G16: 04 | H16: 09 | I16: 919 | J16: ='Приложение 2'!J68 -> 323.6 | K16: ='Приложение 2'!K68 -> 265 | L16: ='Приложение 2'!L68 -> 265
A17: Муниципальная программа "Комплексное развитие систем коммунальной инфраструктуры на территррии муниципального образования Набережного сельского поселения Ромодановского муниципального района Республики Мордовия на 2018-2028 года" | B17: 10 | C17: 0 | J17: =J19+J26 -> 382.4 | K17: =K19 -> 150 | L17: =L19 -> 150
A18: ='Приложение 2'!A87 -> Подпрограмма "Комплекного развития систем коммунальной инфраструктуры на территории муниципального образования Набережного сельского поселения Ромодановского муниципального района Республики Мордовия на 2018-2028гг" | B18: 10 | C18: 1 | J18: =J19 -> 212.5 | K18: =K19 -> 150 | L18: =L19 -> 150
A19: Основное мероприятие "Благоустройство территории" | B19: 10 | C19: 1 | D19: 07 | J19: =J20 -> 212.5 | K19: =K20 -> 150 | L19: =L20 -> 150
A20: Уличное освещение | B20: 10 | C20: 1 | D20: 07 | E20: 43010 | J20: =J21 -> 212.5 | K20: =K21 -> 150 | L20: =L21 -> 150
A21: Закупка товаров, работ и услуг для обеспечения государственных (муниципальных) нужд | B21: 10 | C21: 1 | D21: 07 | E21: 43010 | F21: 200 | J21: =J22 -> 212.5 | K21: =K22 -> 150 | L21: =L22 -> 150
A22: Иные закупки товаров, работ и услуг для обеспечения государственных (муниципальных) нужд | B22: 10 | C22: 1 | D22: 07 | E22: 43010 | F22: 240 | J22: =J23 -> 212.5 | K22: =K23 -> 150 | L22: =L23 -> 150
A23: Жилищно-коммунальное хозяйство | B23: 10 | C23: 1 | D23: 07 | E23: 43010 | F23: 240 | G23: 05 | J23: =J24 -> 212.5 | K23: =K24 -> 150 | L23: =L24 -> 150
A24: Благоустройство | B24: 10 | C24: 1 | D24: 07 | E24: 43010 | F24: 240 | G24: 05 | H24: 03 | J24: =J25 -> 212.5 | K24: =K25 -> 150 | L24: =L25 -> 150
A25: Администрация Набережного сельского поселения Ромодановского муниципального района Республики Мордовия | B25: 10 | C25: 1 | D25: 01 | E25: 43010 | F25: 240 | G25: 05 | H25: 03 | I25: 919 | J25: ='Приложение 2'!J92 -> 212.5 | K25: ='Приложение 2'!K92 -> 150 | L25: ='Приложение 2'!L92 -> 150
A26: ='Приложение 2'!A93 -> Прочие мероприятия по благоустройству городских округов и поселений | B26: 10 | C26: 1 | D26: 07 | E26: 43040 | J26: =J27 -> 169.9
A27: =A21 -> Закупка товаров, работ и услуг для обеспечения государственных (муниципальных) нужд | B27: 10 | C27: 1 | D27: 07 | E27: 43040 | F27: 200 | J27: =J28 -> 169.9
A28: =A22 -> Иные закупки товаров, работ и услуг для обеспечения государственных (муниципальных) нужд | B28: 10 | C28: 1 | D28: 07 | E28: 43040 | F28: 240 | J28: =J29 -> 169.9
A29: =A23 -> Жилищно-коммунальное хозяйство | B29: 10 | C29: 1 | D29: 07 | E29: 43040 | F29: 240 | G29: 05 | J29: =J30 -> 169.9
A30: =A24 -> Благоустройство | B30: 10 | C30: 1 | D30: 07 | E30: 43040 | F30: 240 | G30: 05 | H30: 03 | J30: =J31 -> 169.9
A31: =A25 -> Администрация Набережного сельского поселения Ромодановского муниципального района Республики Мордовия | B31: 10 | C31: 1 | D31: 07 | E31: 43040 | F31: 240 | G31: 05 | H31: 03 | I31: 919 | J31: ='Приложение 2'!J95 -> 169.9
A32: ='Приложение 2'!A80 -> Муниципальная программа "Энергосбережение и повышение энергетической эффетивности в Ромодановсом муниципальном районе" | B32: 12 | C32: 00 | J32: =J33 -> 57.4
A33: ='Приложение 2'!A81 -> Основное мероприятие"Субсидирование оформления прав собственности на бесхозяйные объекты инженерной инфраструктуры" | B33: 12 | C33: 00 | D33: 1 | J33: =J34 -> 57.4
A34: ='Приложение 2'!A82 -> Оформление прав собственности на бесхозяйные объекты недвижимого имущества, используемые для передачи энергетических ресурсов | B34: 12 | C34: 00 | D34: 1 | E34: S6140 | J34: =J35 -> 57.4
A35: ='Приложение 2'!A83 -> Закупка товаров, работ и услуг для государственных (муниципальных) нужд | B35: 12 | C35: 00 | D35: 1 | E35: S6140 | F35: 200 | J35: =J36 -> 57.4
A36: ='Приложение 2'!A84 -> Иные закупки товаров, работ и услуг для обеспечения государственных (муниципальных) нужд | B36: 12 | C36: 00 | D36: 1 | E36: S6140 | F36: 240 | J36: =J37 -> 57.4
A37: ='Приложение 2'!A78 -> Жилищно-коммунальное хозяйство | B37: 12 | C37: 00 | D37: 1 | E37: S6140 | F37: 240 | G37: 05 | J37: =J38 -> 57.4
A38: ='Приложение 2'!A79 -> Коммунальное хозяйство | B38: 12 | C38: 00 | D38: 1 | E38: S6140 | F38: 240 | G38: 05 | H38: 02 | J38: =J39 -> 57.4
A39: =A31 -> Администрация Набережного сельского поселения Ромодановского муниципального района Республики Мордовия | B39: 12 | C39: 00 | D39: 1 | E39: S6140 | F39: 240 | G39: 05 | H39: 02 | I39: 919 | J39: ='Приложение 2'!J84 -> 57.4
A40: ='Приложение 2'!A52 -> Государственная программа повышения эффективности управления государственными финансами в Республике Мордовия | B40: 17 | C40: 0 | J40: =J41 -> 95.3 | K40: =K41 -> 92.8 | L40: =L41 -> 96
...

Sheet прил 5
C1: Приложение 6
C2: к решению Совета депутатов Набережного сельского поселения Ромодановского муниципального района Республики Мордовия"О бюджете Набережного сельского поселения Ромодановского муниципального района Республики Мордовия на 2022 год и на плановый период 2023 и 2024 годов"от 29.12.2021г.№ 2
A3: ИСТОЧНИКИ ВНУТРЕННЕГО ФИНАНСИРОВАНИЯ ДЕФИЦИТА БЮДЖЕТА НАБЕРЕЖНОГО СЕЛЬСКОГО ПОСЕЛЕНИЯ РОМОДАНОВСКОГО МУНИЦИПАЛЬНОГО РАЙОНА РЕСПУБЛИКИ МОРДОВИЯ НА 2022 ГОД И НА ПЛАНОВЫЙ ПЕРИОД 2023 и 2024 ГОДОВ
A7: Код | B7: Наименование кода группы, подгруппы, статьи, вида источника финансирования дефицитов бюджетов, кода классификации операций сектора государственного управления, относящихся к источникам финансирования дефицитов бюджетов Российской Федерации | C7: Сумма (тыс. руб.)
C8: 2022 год | D8: 2023 год | E8: 2024 год
A9: 1 | B9: 2 | C9: 3 | D9: 4 | E9: 5
A10: 000 01 00 00 00 00 0000 000 | B10: ИСТОЧНИКИ ВНУТРЕННЕГО ФИНАНСИРОВАНИЯ ДЕФИЦИТОВ БЮДЖЕТОВ | C10: =C11+C22+C14+C18 -> 143.9 | D10: =D11+D22+D14+D18 -> -4.2632564e-14 | E10: =E11+E22+E14+E18 -> -4.2632564e-14
A11: 000 01 02 00 00 00 0000 000 | B11: Кредиты кредитных организаций в валюте Российской Федерации | C11: =SUM(C12) -> 0 | D11: =SUM(D12) -> 0 | E11: =SUM(E12) -> 0
A12: 000 01 02 00 00 00 0000 700 | B12: Привлечение кредитов от кредитных организаций в валюте Российской Федерации | C12: =SUM(C13) -> 0 | D12: =SUM(D13) -> 0 | E12: =SUM(E13) -> 0
A13: 000 01 02 00 00 05 0000 710 | B13: Привлечение муниципальными районами кредитов от кредитных организаций в валюте Российской Федерации
A14: 000 01 03 00 00 00 0000 000 | B14: Бюджетные кредиты из других бюджетов бюджетной системы Российской Федерации | C14: =C15 -> -61.9 | D14: =D15 -> -92.8 | E14: =E15 -> -123.8
A15: 000 01 03 01 00 00 0000 000 | B15: Бюджетные кредиты из других бюджетов бюджетной системы Российской Федерации в валюте Российской Федерации | C15: =C16 -> -61.9 | D15: =D16 -> -92.8 | E15: =E16 -> -123.8
A16: 000 01 03 01 00 00 0000 800 | B16: Погашение бюджетных кредитов, полученных из других бюджетов бюджетной системы Российской Федерации в валюте Российской Федерации | C16: =SUM(C17) -> -61.9 | D16: =SUM(D17) -> -92.8 | E16: =SUM(E17) -> -123.8
A17: 000 01 03 01 00 10 0000 810 | B17: Погашение бюджетами сельских поселений кредитов из других бюджетов бюджетной системы Российской Федерации в валюте Российской Федерации | C17: -61.9 | D17: -92.8 | E17: -123.8
A18: 000 01 06 00 00 00 0000 000 | B18: Иные источники внутреннего финансирования дефицитов бюджетов | C18: =C19 -> 0 | D18: =D19 -> 0 | E18: =E19 -> 0
A19: 000 01 06 05 00 00 0000 000 | B19: Бюджетные кредиты, предоставленные внутри страны в валюте Российской Федерации | C19: =C20 -> 0 | D19: =D20 -> 0 | E19: =E20 -> 0
A20: 000 01 06 05 02 00 0000 600 | B20: Возврат бюджетных кредитов, предоставленных другим бюджетам бюджетной системы Российской Федерации в валюте Российской Федерации | C20: =C21 -> 0 | D20: =D21 -> 0 | E20: =E21 -> 0
A21: 000 01 06 05 02 05 0000 640 | B21: Возврат бюджетных кредитов, предоставленных другим бюджетам бюджетной системы Российской Федерации из бюджетов муниципальных районов в валюте Российской Федерации
A22: 000 01 05 00 00 00 0000 000 | B22: Изменения остатков средств на счетах по учету средств бюджета | C22: =C25+C26 -> 205.8 | D22: =D25+D26 -> 92.8 | E22: =E25+E26 -> 123.8
A23: 000 01 05 02 00 00 0000 500 | B23: Увеличение прочих остатков средств бюджетов | C23: =SUM(C24) -> -2518.7 | D23: =SUM(D24) -> -1279.2 | E23: =SUM(E24) -> -1326.1
A24: 000 01 05 02 01 00 0000 510 | B24: Увеличение прочих остатков денежных средств бюджетов | C24: =SUM(C25) -> -2518.7 | D24: =SUM(D25) -> -1279.2 | E24: =SUM(E25) -> -1326.1
A25: 000 01 05 02 01 10 0000 510 | B25: Увеличение прочих остатков денежных средств бюджетов сельских поселений | C25: =-'Приложение 1'!C11-C30 -> -2518.7 | D25: =-'Приложение 1'!D11-D30 -> -1279.2 | E25: =-'Приложение 1'!E11-E30 -> -1326.1
A26: 000 01 05 02 00 00 0000 600 | B26: Уменьшение прочих остатков средств бюджетов | C26: =SUM(C27) -> 2724.5 | D26: =SUM(D27) -> 1372 | E26: =SUM(E27) -> 1449.9
A27: 000 01 05 02 01 00 0000 610 | B27: Уменьшение прочих остатков денежных средств бюджетов | C27: =SUM(C28) -> 2724.5 | D27: =SUM(D28) -> 1372 | E27: =SUM(E28) -> 1449.9
A28: 000 01 05 02 01 05 0000 610 | B28: Уменьшение прочих остатков денежных средств бюджетов муниципальных районов | C28: =-C17+'Приложение 2'!J7 -> 2724.5 | D28: =-D17+'Приложение 2'!K7 -> 1372 | E28: =-E17+'Приложение 2'!L7 -> 1449.9
A29: 000 01 00 00 00 00 0000 000 | B29: Итого источников внутреннего финансирования дефицита бюджета Набережного сельского поселения Ромодановского муниципального района Республики Мордовия | C29: =C10 -> 143.9 | D29: =D10 -> -4.2632564e-14 | E29: =E10 -> -4.2632564e-14
B30: собственные доходы | C30: 648.6 | D30: 614.6 | E30: 625.1

Sheet Лист1

Sheet Лист2
