Workbook

Sheet Приложение 1
C1: Приложение 1 к решению Совета депутатов Пятинского сельского поселения Ромодановского муниципального района Республики Мордовия №20 от 04.12.2023г.«О внесении изменений в решение Совета депутатов Пятинского сельского поселения Ромодановского муниципального района Республики Мордовия от 29 декабря 2022 г № 76 «О бюджете Пятинского сельского поселения Ромодановского муниципального района Республики Мордовия на 2023 год и на плановый период 2024 и 2025 годов»
A6: ОБЪЕМ БЕЗВОЗМЕЗДНЫХ ПОСТУПЛЕНИЙ В БЮДЖЕТ ПЯТИНСКОГО СЕЛЬСКОГО ПОСЕЛЕНИЯ РОМОДАНОВСКОГО МУНИЦИПАЛЬНОГО РАЙОНА РЕСПУБЛИКИ МОРДОВИЯ НА 2023 ГОД И НА ПЛАНОВЫЙ ПЕРИОД 2024 И 2025 ГОДОВ
E7: (тыс. рублей)
A8: Код | B8: Наименование | C8: Сумма
C9: 2023 год | D9: 2024 год | E9: 2025 год
A10: 1 | B10: 2 | C10: 3 | D10: 4 | E10: 5
A11: 2 00 00000 00 0000 000 | B11: БЕЗВОЗМЕЗДНЫЕ ПОСТУПЛЕНИЯ | C11: =C12 -> 3340.8 | D11: =D19+D24 -> 381.5 | E11: =E19+E24 -> 385.9
A12: 2 02 00000 00 0000 000 | B12: Безвозмездные поступления от других бюджетов бюджетной системы Российской Федерации | C12: =C13+C19+C24+C16+C29 -> 3340.8 | D12: =D11 -> 381.5 | E12: =E11 -> 385.9
A13: 2 02 10000 00 0000 150 | B13: Дотации бюджетам бюджетной системы Российской Федерации | C13: =C14 -> 483.2
A14: 2 02 15002 00 0000 150 | B14: Дотация бюджетам на поддержку мер по обеспечению сбалансированности бюджетов | C14: =C15 -> 483.2
A15: 2 02 15002 10 0000 150 | B15: Дотации бюджетам сельских поселений на поддержку мер по обеспечению сбалансированности бюджетов | C15: 483.2
A16: 2 02 20000 00 0000 150 | B16: Субсидии бюджетам бюджетной системы Российской Федерации (межбюджетные субсидии) | C16: =C17 -> 1868.3
A17: 2 02 25576 00 0000 150 | B17: Субсидии бюджетам на обеспечение комплексного развития сельских территорий | C17: =C18 -> 1868.3
A18: 2 02 25576 10 0000 150 | B18: Субсидии бюджетам сельских поселений на обеспечение комплексного развития сельских территорий | C18: 1868.3
A19: 2 02 30000 00 0000 150 | B19: Субвенции бюджетам бюджетной системы Российской Федерации | C19: =C20+C22 -> 109.9 | D19: =D20+D22 -> 115 | E19: =E20+E22 -> 119.4
A20: 2 02 30024 00 0000 150 | B20: Субвенции местным бюджетам на выполнение передаваемых полномочий субъектов Российской Федерации | C20: =C21 -> 0.6 | D20: =D21 -> 0.6 | E20: =E21 -> 0.7
A21: 2 02 30024 10 0000 150 | B21: Субвенции бюджетам сельских поселений на выполнение передаваемых полномочий субъектов Российской Федерации | C21: 0.6 | D21: 0.6 | E21: 0.7
A22: 2 02 35118 00 0000 150 | B22: Субвенции бюджетам на осуществление первичного воинского учета органами местного самоуправления поселений,муниципальных и городских округов | C22: =C23 -> 109.3 | D22: =D23 -> 114.4 | E22: =E23 -> 118.7
A23: 2 02 35118 10 0000 150 | B23: Субвенции бюджетам сельских поселений на осуществление первичного воинского учета органами местного самоуправления поселений,муниципальных и городских округов | C23: 109.3 | D23: 114.4 | E23: 118.7
A24: 2 02 40000 00 0000 150 | B24: Иные межбюджетные трансферты | C24: =C25+C27 -> 363.7 | D24: =D25 -> 266.5 | E24: =E25 -> 266.5
A25: 2 02 40014 00 0000 150 | B25: Межбюджетные трансферты, передаваемые бюджетам муниципальных образований на осуществление части полномочий по решению вопросов местного значения в соответствии с заключенными соглашениями | C25: =C26 -> 326.5 | D25: =D26 -> 266.5 | E25: =E26 -> 266.5
A26: 2 02 40014 10 0000 150 | B26: Межбюджетные трансферты, передаваемые бюджетам сельских поселений из бюджетов муниципальных районов на осуществление части полномочий по решению вопросов местного значения в соответствии с заключенными соглашениями | C26: 326.5 | D26: 266.5 | E26: 266.5
A27: 2 02 49999 00 0000 150 | B27: Прочие межбюджетные трансферты, передаваемые бюджетам | C27: =C28 -> 37.2
A28: 2 02 49999 10 0000 150 | B28: Прочие межбюджетные трансферты, передаваемые бюджетам сельских поселений | C28: 37.2
A29: 2 07 00000 00 0000 000 | B29: ПРОЧИЕ БЕЗВОЗМЕЗДНЫЕ ПОСТУПЛЕНИЯ | C29: =C30 -> 515.7 | D29: =D30 -> 0 | E29: =E30 -> 0
A30: 2 07 05000 05 0000 150 | B30: Прочие безвозмездные поступления в бюджеты муниципальных районов | C30: =C31 -> 515.7 | D30: =D31 -> 0 | E30: =E31 -> 0
A31: 2 07 05030 05 0000 150 | B31: Прочие безвозмездные поступления в бюджеты муниципальных районов | C31: 515.7 | D31: 0 | E31: 0

Sheet Приложение 2
I1: Приложение 2 к решению Совета депутатов Пятинского сельского поселения Ромодановского муниципального района Республики Мордовия №20 от 04.12.2023г.«О внесении изменений в решение Совета депутатов Пятинского сельского поселения Ромодановского муниципального района Республики Мордовия от 29 декабря 2022 г № 76 «О бюджете Пятинского сельского поселения Ромодановского муниципального района Республики Мордовия на 2023 год и на плановый период 2024 и 2025 годов»
A3: ВЕДОМСТВЕННАЯ СТРУКТУРА РАСХОДОВ БЮДЖЕТА ПЯТИНСКОГО СЕЛЬСКОГО ПОСЕЛЕНИЯ РОМОДАНОВСКОГО МУНИЦИПАЛЬНОГО РАЙОНА РЕСПУБЛИКИ МОРДОВИЯ НА 2023 ГОД И НА ПЛАНОВЫЙ ПЕРИОД 2024 И 2025 ГОДОВ
I4: (тыс. рублей)
A5: Наименование | B5: Адм | C5: Рз | D5: Прз | E5: Цср | I5: Вр | J5: Сумма
J6: 2023 год | K6: 2024 год | L6: 2025 год
A7: 1 | B7: 2 | C7: 3 | D7: 4 | E7: 5 | F7: 6 | G7: 7 | H7: 8 | I7: 9 | J7: 10 | K7: 11 | L7: 12
A8: Администрация Пятинского сельского поселения Ромодановского муниципального района Республики Мордовия | B8: 920 | J8: =J9+J46+J63+J79+J105+J56 -> 7520.6 | K8: =K9+K46+K63+K79+K105+K112 -> 1741.7 | L8: =L9+L46+L63+L79+L105+L112 -> 1760.8
A9: Общегосударственные вопросы | B9: 920 | C9: 01 | J9: =J10+J16+J32+J38 -> 2774 | K9: =K10+K16+K32 -> 1063.9 | L9: =L10+L16+L32 -> 1038.1
A10: Функционирование высшего должностного лица субъекта Российской Федерации и муниципального образования | B10: 920 | C10: 01 | D10: 02 | J10: =J11 -> 715.6 | K10: =K11 -> 349.9 | L10: =L11 -> 374.4
A11: Обеспечение деятельности Администрации Пятинского сельского поселения Ромодановского муниципального района Республики Мордовия | B11: 920 | C11: 01 | D11: 02 | E11: 65 | J11: =J12 -> 715.6 | K11: =K12 -> 349.9 | L11: =L12 -> 374.4
A12: Высшее должностное лицо | B12: 920 | C12: 01 | D12: 02 | E12: 65 | F12: 1 | J12: =J13 -> 715.6 | K12: =K13 -> 349.9 | L12: =L13 -> 374.4
A13: Расходы на выплаты по оплате труда высшего должностного лица | B13: 920 | C13: 01 | D13: 02 | E13: 65 | F13: 1 | G13: 00 | H13: 41150 | J13: =J14 -> 715.6 | K13: =K14 -> 349.9 | L13: =L14 -> 374.4
A14: Расходы на выплаты персоналу в целях обеспечения выполнения функций государственными (муниципальными) органами, казенными учреждениями, органами управления государственными внебюджетными фондами | B14: 920 | C14: 01 | D14: 02 | E14: 65 | F14: 1 | G14: 00 | H14: 41150 | I14: 100 | J14: =J15 -> 715.6 | K14: =K15 -> 349.9 | L14: =L15 -> 374.4
A15: Расходы на выплаты персоналу государственных (муниципальных) органов | B15: 920 | C15: 01 | D15: 02 | E15: 65 | F15: 1 | G15: 00 | H15: 41150 | I15: 120 | J15: 715.6 | K15: 349.9 | L15: 374.4
A16: Функционирование Правительства Российской Федерации, высших исполнительных органов государственной власти субъектов Российской Федерации, местных администраций | B16: 920 | C16: 01 | D16: 04 | J16: =J17+J27 -> 2020.6 | K16: =K17+K27 -> 709 | L16: =L17+L27 -> 658.7
A17: =A11 -> Обеспечение деятельности Администрации Пятинского сельского поселения Ромодановского муниципального района Республики Мордовия | B17: 920 | C17: 01 | D17: 04 | E17: 65 | J17: =J18 -> 2020 | K17: =K18 -> 708.4 | L17: =L18 -> 658
A18: Расходы в рамках обеспечения деятельности Администрации Пятинского сельского поселения | B18: 920 | C18: 01 | D18: 04 | E18: 65 | F18: 2 | J18: =J19+J22 -> 2020 | K18: =K19+K22 -> 708.4 | L18: =L19+L22 -> 658
A19: Расходы на выплаты по оплате труда работников органов местного самоуправления | B19: 920 | C19: 01 | D19: 04 | E19: 65 | F19: 2 | G19: 00 | H19: 41110 | J19: =J20 -> 1059.1 | K19: =K20 -> 507.8 | L19: =L20 -> 455.7
A20: Расходы на выплаты персоналу в целях обеспечения выполнения функций государственными (муниципальными) органами, казенными учреждениями, органами управления государственными внебюджетными фондами | B20: 920 | C20: 01 | D20: 04 | E20: 65 | F20: 2 | G20: 00 | H20: 41110 | I20: 100 | J20: =J21 -> 1059.1 | K20: =K21 -> 507.8 | L20: =L21 -> 455.7
A21: Расходы на выплаты персоналу государственных (муниципальных) органов | B21: 920 | C21: 01 | D21: 04 | E21: 65 | F21: 2 | G21: 00 | H21: 41110 | I21: 120 | J21: 1059.1 | K21: 507.8 | L21: 455.7
A22: Расходы на обеспечение функций органов местного самоуправления | B22: 920 | C22: 01 | D22: 04 | E22: 65 | F22: 2 | G22: 00 | H22: 41120 | J22: =+J23+J25 -> 960.9 | K22: =K23+K25 -> 200.6 | L22: =+L23+L25 -> 202.3
A23: Закупка товаров, работ и услуг для обеспечения государственных (муниципальных) нужд | B23: 920 | C23: 01 | D23: 04 | E23: 65 | F23: 2 | G23: 00 | H23: 41120 | I23: 200 | J23: =J24 -> 954.6 | K23: =K24 -> 199 | L23: =L24 -> 200.7
A24: Иные закупки товаров, работ и услуг для обеспечения государственных (муниципальных) нужд | B24: 920 | C24: 01 | D24: 04 | E24: 65 | F24: 2 | G24: 00 | H24: 41120 | I24: 240 | J24: 954.6 | K24: 199 | L24: 200.7
A25: Иные бюджетные ассигнования | B25: 920 | C25: 01 | D25: 04 | E25: 65 | F25: 2 | G25: 00 | H25: 41120 | I25: 800 | J25: =J26 -> 6.3 | K25: =K26 -> 1.6 | L25: =L26 -> 1.6
A26: Уплата налогов, сборов и иных платежей | B26: 920 | C26: 01 | D26: 04 | E26: 65 | F26: 2 | G26: 00 | H26: 41120 | I26: 850 | J26: 6.3 | K26: 1.6 | L26: 1.6
A27: Непрограммные расходы главных распорядителей средств бюджета Пятинского сельского поселения Ромодановского муниципального района Республики Мордовия | B27: 920 | C27: 01 | D27: 04 | E27: 89 | J27: =J28 -> 0.6 | K27: =K28 -> 0.6 | L27: =L28 -> 0.7
A28: Непрограммные расходы в рамках обеспечения деятельности главных распорядителей средств бюджета Пятинского сельского поселения Ромодановского муниципального района Республики Мордовия | B28: 920 | C28: 01 | D28: 04 | E28: 89 | F28: 1 | J28: =J29 -> 0.6 | K28: =K29 -> 0.6 | L28: =L29 -> 0.7
A29: Осуществление государственных полномочий Республики Мордовия по определению перечня должностных лиц, уполномоченных составлять протоколы об административных правонарушениях, предусмотренных Законом Республики Мордовия от 15 июня 2015 года № 38-З "Об административной ответственности на территории Республики Мордовия" | B29: 920 | C29: 01 | D29: 04 | E29: 89 | F29: 1 | G29: 00 | H29: 77150 | J29: =J30 -> 0.6 | K29: =K30 -> 0.6 | L29: =L30 -> 0.7
A30: Закупка товаров, работ и услуг для обеспечения государственных (муниципальных) нужд | B30: 920 | C30: 01 | D30: 04 | E30: 89 | F30: 1 | G30: 00 | H30: 77150 | I30: 200 | J30: =J31 -> 0.6 | K30: =K31 -> 0.6 | L30: =L31 -> 0.7
A31: Иные закупки товаров, работ и услуг для обеспечения государственных (муниципальных) нужд | B31: 920 | C31: 01 | D31: 04 | E31: 89 | F31: 1 | G31: 00 | H31: 77150 | I31: 240 | J31: 0.6 | K31: 0.6 | L31: 0.7
A32: Резервные фонды | B32: 920 | C32: 01 | D32: 11 | J32: =J33 -> 5 | K32: =K33 -> 5 | L32: =L33 -> 5
A33: =A27 -> Непрограммные расходы главных распорядителей средств бюджета Пятинского сельского поселения Ромодановского муниципального района Республики Мордовия | B33: 920 | C33: 01 | D33: 11 | E33: 89 | J33: =J34 -> 5 | K33: =K34 -> 5 | L33: =L34 -> 5
A34: =A28 -> Непрограммные расходы в рамках обеспечения деятельности главных распорядителей средств бюджета Пятинского сельского поселения Ромодановского муниципального района Республики Мордовия | B34: 920 | C34: 01 | D34: 11 | E34: 89 | F34: 1 | J34: =J35 -> 5 | K34: =K35 -> 5 | L34: =L35 -> 5
A35: Резервный фонд Администрации Пятинского сельского поселени Ромодановского муниципального района Республики Мордовия | B35: 920 | C35: 01 | D35: 11 | E35: 89 | F35: 1 | G35: 00 | H35: 41180 | J35: =J37 -> 5 | K35: =K37 -> 5 | L35: =L37 -> 5
A36: Иные бюджетные ассигнования | B36: 920 | C36: 01 | D36: 11 | E36: 89 | F36: 1 | G36: 00 | H36: 41180 | I36: 800 | J36: =J37 -> 5 | K36: =K37 -> 5 | L36: =L37 -> 5
A37: Резервные средства | B37: 920 | C37: 01 | D37: 11 | E37: 89 | F37: 1 | G37: 00 | H37: 41180 | I37: 870 | J37: 5 | K37: 5 | L37: 5
A38: Другие общегосударственные вопрсы | B38: 920 | C38: 01 | D38: 13 | J38: =J39 -> 32.8
A39: =A33 -> Непрограммные расходы главных распорядителей средств бюджета Пятинского сельского поселения Ромодановского муниципального района Республики Мордовия | B39: 920 | C39: 01 | D39: 13 | E39: 89 | J39: =J40 -> 32.8
A40: =A34 -> Непрограммные расходы в рамках обеспечения деятельности главных распорядителей средств бюджета Пятинского сельского поселения Ромодановского муниципального района Республики Мордовия | B40: 920 | C40: 01 | D40: 13 | E40: 89 | F40: 1 | J40: =J41 -> 32.8
A41: Мероприятия,связанные с муниципальным управлением | B41: 920 | C41: 01 | D41: 13 | E41: 89 | F41: 1 | G41: 00 | H41: 41210 | J41: =J42+J44 -> 32.8
...

Sheet Приложение3
H1: Приложение 3 к решению Совета депутатов Пятинского сельского поселения Ромодановского муниципального района Республики Мордовия №20 от 04.12.2023г.«О внесении изменений в решение Совета депутатов Пятинского сельского поселения Ромодановского муниципального района Республики Мордовия от 29 декабря 2022 г № 76 «О бюджете Пятинского сельского поселения Ромодановского муниципального района Республики Мордовия на 2023 год и на плановый период 2024 и 2025 годов»
A3: РАСПРЕДЕЛЕНИЕ БЮДЖЕТНЫХ АССИГНОВАНИЙ БЮДЖЕТА ПЯТИНСКОГО СЕЛЬСКОГО ПОСЕЛЕНИЯ РОМОДАНОВСКОГО МУНИЦИПАЛЬНОГО РАЙОНА РЕСПУБЛИКИ МОРДОВИЯ ПО РАЗДЕЛАМ, ПОДРАЗДЕЛАМ, ЦЕЛЕВЫМ СТАТЬЯМ (МУНИЦИПАЛЬНЫМ ПРОГРАММАМ И НЕПРОГРАММНЫМ НАПРАВЛЕНИЯМ ДЕЯТЕЛЬНОСТИ), ГРУППАМ И ПОДГРУППАМ ВИДОВ РАСХОДОВ КЛАССИФИКАЦИИ РАСХОДОВ БЮДЖЕТОВ НА 2023 ГОД И НА ПЛАНОВЫЙ ПЕРИОД 2024 И 2025 ГОДОВ
A4: Наименование | H4: (тыс. рублей)
B5: Рз | C5: Прз | D5: Цср | H5: Вр | I5: Сумма
A6: 1 | I6: 2023 год | J6: 2024 год | K6: 2025 год
B7: 2 | C7: 3 | D7: 4 | E7: 5 | F7: 6 | G7: 7 | H7: 8 | I7: 9 | J7: 10 | K7: 11
A8: ВСЕГО | I8: =I9+I46+I63+I79+I105+I56 -> 7520.6 | J8: =J9+J46+J63+J79+J105+J112 -> 1741.7 | K8: =K9+K46+K63+K79+K105+K112 -> 1760.8
A9: Общегосударственные вопросы | B9: 01 | I9: =I10+I16+I32+I38 -> 2774 | J9: =J10+J16+J32 -> 1063.9 | K9: =K10+K16+K32 -> 1038.1
A10: Функционирование высшего должностного лица субъекта Российской Федерации и муниципального образования | B10: 01 | C10: 02 | I10: =I11 -> 715.6 | J10: =J11 -> 349.9 | K10: =K11 -> 374.4
A11: ='Приложение 2'!A11 -> Обеспечение деятельности Администрации Пятинского сельского поселения Ромодановского муниципального района Республики Мордовия | B11: 01 | C11: 02 | D11: 65 | I11: =I12 -> 715.6 | J11: =J12 -> 349.9 | K11: =K12 -> 374.4
A12: Высшее должностное лицо | B12: 01 | C12: 02 | D12: 65 | E12: 1 | I12: =I13 -> 715.6 | J12: =J13 -> 349.9 | K12: =K13 -> 374.4
A13: Расходы на выплаты по оплате труда высшего должностного лица | B13: 01 | C13: 02 | D13: 65 | E13: 1 | F13: 00 | G13: 41150 | I13: =I14 -> 715.6 | J13: =J14 -> 349.9 | K13: =K14 -> 374.4
A14: Расходы на выплаты персоналу в целях обеспечения выполнения функций государственными (муниципальными) органами, казенными учреждениями, органами управления государственными внебюджетными фондами | B14: 01 | C14: 02 | D14: 65 | E14: 1 | F14: 00 | G14: 41150 | H14: 100 | I14: =I15 -> 715.6 | J14: =J15 -> 349.9 | K14: =K15 -> 374.4
A15: Расходы на выплаты персоналу государственных (муниципальных) органов | B15: 01 | C15: 02 | D15: 65 | E15: 1 | F15: 00 | G15: 41150 | H15: 120 | I15: ='Приложение 2'!J15 -> 715.6 | J15: ='Приложение 2'!K15 -> 349.9 | K15: ='Приложение 2'!L15 -> 374.4
A16: Функционирование Правительства Российской Федерации, высших исполнительных органов государственной власти субъектов Российской Федерации, местных администраций | B16: 01 | C16: 04 | I16: =I17+I27 -> 2020.6 | J16: =J17+J27 -> 709 | K16: =K17+K27 -> 658.7
A17: ='Приложение 2'!A17 -> Обеспечение деятельности Администрации Пятинского сельского поселения Ромодановского муниципального района Республики Мордовия | B17: 01 | C17: 04 | D17: 65 | I17: =I18 -> 2020 | J17: =J18 -> 708.4 | K17: =K18 -> 658
A18: ='Приложение 2'!A18 -> Расходы в рамках обеспечения деятельности Администрации Пятинского сельского поселения | B18: 01 | C18: 04 | D18: 65 | E18: 2 | I18: =I19+I22 -> 2020 | J18: =J19+J22 -> 708.4 | K18: =K19+K22 -> 658
A19: Расходы на выплаты по оплате труда работников органов местного самоуправления | B19: 01 | C19: 04 | D19: 65 | E19: 2 | F19: 00 | G19: 41110 | I19: =I20 -> 1059.1 | J19: =J20 -> 507.8 | K19: =K20 -> 455.7
A20: Расходы на выплаты персоналу в целях обеспечения выполнения функций государственными (муниципальными) органами, казенными учреждениями, органами управления государственными внебюджетными фондами | B20: 01 | C20: 04 | D20: 65 | E20: 2 | F20: 00 | G20: 41110 | H20: 100 | I20: =I21 -> 1059.1 | J20: =J21 -> 507.8 | K20: =K21 -> 455.7
A21: Расходы на выплаты персоналу государственных (муниципальных) органов | B21: 01 | C21: 04 | D21: 65 | E21: 2 | F21: 00 | G21: 41110 | H21: 120 | I21: ='Приложение 2'!J21 -> 1059.1 | J21: ='Приложение 2'!K21 -> 507.8 | K21: ='Приложение 2'!L21 -> 455.7
A22: Расходы на обеспечение функций органов местного самоуправления | B22: 01 | C22: 04 | D22: 65 | E22: 2 | F22: 00 | G22: 41120 | I22: =+I23+I25 -> 960.9 | J22: =+J23+J25 -> 200.6 | K22: =+K23+K25 -> 202.3
A23: Закупка товаров, работ и услуг для обеспечения государственных (муниципальных) нужд | B23: 01 | C23: 04 | D23: 65 | E23: 2 | F23: 00 | G23: 41120 | H23: 200 | I23: =I24 -> 954.6 | J23: =J24 -> 199 | K23: =K24 -> 200.7
A24: Иные закупки товаров, работ и услуг для обеспечения государственных (муниципальных) нужд | B24: 01 | C24: 04 | D24: 65 | E24: 2 | F24: 00 | G24: 41120 | H24: 240 | I24: ='Приложение 2'!J24 -> 954.6 | J24: ='Приложение 2'!K24 -> 199 | K24: ='Приложение 2'!L24 -> 200.7
A25: Иные бюджетные ассигнования | B25: 01 | C25: 04 | D25: 65 | E25: 2 | F25: 00 | G25: 41120 | H25: 800 | I25: =I26 -> 6.3 | J25: =J26 -> 1.6 | K25: =K26 -> 1.6
A26: Уплата налогов, сборов и иных платежей | B26: 01 | C26: 04 | D26: 65 | E26: 2 | F26: 00 | G26: 41120 | H26: 850 | I26: ='Приложение 2'!J26 -> 6.3 | J26: ='Приложение 2'!K26 -> 1.6 | K26: ='Приложение 2'!L26 -> 1.6
A27: Непрограммные расходы главных распорядителей средств бюджета Пятинского сельского поселения Ромодановского муниципального района Республики Мордовия | B27: 01 | C27: 04 | D27: 89 | I27: =I28 -> 0.6 | J27: =J28 -> 0.6 | K27: =K28 -> 0.7
A28: Непрограммные расходы в рамках обеспечения деятельности главных распорядителей средств бюджета Пятинского сельского поселения Ромодановского муниципального района Республики Мордовия | B28: 01 | C28: 04 | D28: 89 | E28: 1 | I28: =I29 -> 0.6 | J28: =J29 -> 0.6 | K28: =K29 -> 0.7
A29: Осуществление государственных полномочий Республики Мордовия по определению перечня должностных лиц, уполномоченных составлять протоколы об административных правонарушениях, предусмотренных Законом Республики Мордовия от 15 июня 2015 года № 38-З "Об административной ответственности на территории Республики Мордовия" | B29: 01 | C29: 04 | D29: 89 | E29: 1 | F29: 00 | G29: 77150 | I29: =I30 -> 0.6 | J29: =J30 -> 0.6 | K29: =K30 -> 0.7
A30: Закупка товаров, работ и услуг для обеспечения государственных (муниципальных) нужд | B30: 01 | C30: 04 | D30: 89 | E30: 1 | F30: 00 | G30: 77150 | H30: 200 | I30: =I31 -> 0.6 | J30: =J31 -> 0.6 | K30: =K31 -> 0.7
A31: Иные закупки товаров, работ и услуг для обеспечения государственных (муниципальных) нужд | B31: 01 | C31: 04 | D31: 89 | E31: 1 | F31: 00 | G31: 77150 | H31: 240 | I31: ='Приложение 2'!J31 -> 0.6 | J31: ='Приложение 2'!K31 -> 0.6 | K31: ='Приложение 2'!L31 -> 0.7
A32: Резервные фонды | B32: 01 | C32: 11 | I32: =I33 -> 5 | J32: =J33 -> 5 | K32: =K33 -> 5
A33: =A27 -> Непрограммные расходы главных распорядителей средств бюджета Пятинского сельского поселения Ромодановского муниципального района Республики Мордовия | B33: 01 | C33: 11 | D33: 89 | I33: =I34 -> 5 | J33: =J34 -> 5 | K33: =K34 -> 5
A34: =A28 -> Непрограммные расходы в рамках обеспечения деятельности главных распорядителей средств бюджета Пятинского сельского поселения Ромодановского муниципального района Республики Мордовия | B34: 01 | C34: 11 | D34: 89 | E34: 1 | I34: =I35 -> 5 | J34: =J35 -> 5 | K34: =K35 -> 5
A35: Резервный фонд Администрации Пятинского сельского поселения Ромодановского муниципального района Республики Мордовия | B35: 01 | C35: 11 | D35: 89 | E35: 1 | F35: 00 | G35: 41180 | I35: =I37 -> 5 | J35: =J37 -> 5 | K35: =K37 -> 5
A36: Иные бюджетные ассигнования | B36: 01 | C36: 11 | D36: 89 | E36: 1 | F36: 00 | G36: 41180 | H36: 800 | I36: =I37 -> 5 | J36: =J37 -> 5 | K36: =K37 -> 5
A37: Резервные средства | B37: 01 | C37: 11 | D37: 89 | E37: 1 | F37: 00 | G37: 41180 | H37: 870 | I37: ='Приложение 2'!J37 -> 5 | J37: ='Приложение 2'!K37 -> 5 | K37: ='Приложение 2'!L37 -> 5
A38: ='Приложение 2'!A38 -> Другие общегосударственные вопрсы | B38: 01 | C38: 13 | I38: =I39 -> 32.8
A39: ='Приложение 2'!A39 -> Непрограммные расходы главных распорядителей средств бюджета Пятинского сельского поселения Ромодановского муниципального района Республики Мордовия | B39: 01 | C39: 13 | D39: 89 | I39: =I40 -> 32.8
A40: ='Приложение 2'!A40 -> Непрограммные расходы в рамках обеспечения деятельности главных распорядителей средств бюджета Пятинского сельского поселения Ромодановского муниципального района Республики Мордовия | B40: 01 | C40: 13 | D40: 89 | E40: 1 | I40: =I41 -> 32.8
A41: ='Приложение 2'!A41 -> Мероприятия,связанные с муниципальным управлением | B41: 01 | C41: 13 | D41: 89 | E41: 1 | F41: 00 | G41: 41210 | I41: =I42+I44 -> 32.8
...

Sheet Приложение 4
I1: Приложение 4 к решению Совета депутатов Пятинского сельского поселения Ромодановского муниципального района Республики Мордовия №20 от 04.12.2023г.«О внесении изменений в решение Совета депутатов Пятинского сельского поселения Ромодановского муниципального района Республики Мордовия от 29 декабря 2022 г № 76 «О бюджете Пятинского сельского поселения Ромодановского муниципального района Республики Мордовия на 2023 год и на плановый период 2024 и 2025 годов»
A3: РАСПРЕДЕЛЕНИЕ БЮДЖЕТНЫХ АССИГНОВАНИЙ БЮДЖЕТА ПЯТИНСКОГО СЕЛЬСКОГО ПОСЕЛЕНИЯ РОМОДАНОВСКОГО МУНИЦИПАЛЬНОГО РАЙОНА РЕСПУБЛИКИ МОРДОВИЯ ПО ЦЕЛЕВЫМ СТАТЬЯМ (МУНИЦИПАЛЬНЫМ ПРОГРАММАМ И НЕПРОГРАММНЫМ НАПРАВЛЕНИЯМ ДЕЯТЕЛЬНОСТИ), ГРУППАМ И ПОДГРУППАМ ВИДОВ РАСХОДОВ, РАЗДЕЛАМ И ПОДРАЗДЕЛАМ КЛАССИФИКАЦИИ РАСХОДОВ БЮДЖЕТОВ НА 2023 ГОД И НА ПЛАНОВЫЙ ПЕРИОД 2024 И 2025 ГОДОВ
I4: (тыс. рублей)
A5: Наименование | B5: Цср | F5: ВР | G5: Рз | H5: Прз | I5: Адм | J5: Сумма
J6: 2023 год | K6: 2024 год | L6: 2025 год
A7: 1 | B7: 2 | C7: 3 | D7: 4 | E7: 5 | F7: 6 | G7: 7 | H7: 8 | I7: 9 | J7: 10 | K7: 11 | L7: 12
A8: ВСЕГО | J8: =J9+J24+J32+J61+J93+J46 -> 7520.6 | K8: =K24+K9+K32+K61+K93 -> 1741.1 | L8: =L24+L9+L32+L61+L93 -> 1760.8
A9: ='Приложение 2'!A87 -> Муниципальная программа "Комплексного развития социальной инфраструктуры Пятинского сельского поселения Ромодановского муниципального района Республики Мордовия на 2018-2030 года" | B9: 10 | J9: =J17+J10 -> 1276.7 | K9: =K17+K10 -> 90 | L9: =+L17+L10 -> 90
A10: ='Приложение 2'!A88 -> Основное мероприятие "Благоустройство территории " | B10: 10 | C10: 0 | D10: 07 | J10: =J11 -> 1052.7 | K10: =K11 -> 52 | L10: =L11 -> 52
A11: ='Приложение 2'!A89 -> Прочие мероприятия по благоустройству | B11: 10 | C11: 0 | D11: 07 | E11: 43040 | J11: =J12 -> 1052.7 | K11: =K12 -> 52 | L11: =L12 -> 52
A12: Закупка товаров, работ и услуг для обеспечения государственных (муниципальных) нужд | B12: 10 | C12: 0 | D12: 07 | E12: 43040 | F12: 200 | J12: =J13 -> 1052.7 | K12: =K13 -> 52 | L12: =L13 -> 52
A13: Иные закупки товаров, работ и услуг для обеспечения государственных (муниципальных) нужд | B13: 10 | C13: 0 | D13: 07 | E13: 43040 | F13: 240 | J13: =J14 -> 1052.7 | K13: =K14 -> 52 | L13: =L14 -> 52
A14: Жилищно-коммунальное хозяйство | B14: 10 | C14: 0 | D14: 07 | E14: 43040 | F14: 240 | G14: 05 | J14: =J15 -> 1052.7 | K14: =K15 -> 52 | L14: =L15 -> 52
A15: Благоустройство | B15: 10 | C15: 0 | D15: 07 | E15: 43040 | F15: 240 | G15: 05 | H15: 03 | J15: =J16 -> 1052.7 | K15: =K16 -> 52 | L15: =L16 -> 52
A16: Администрация Пятинского сельского поселения Ромодановского муниципального района Республики Мордовия | B16: 10 | C16: 0 | D16: 07 | E16: 43040 | F16: 240 | G16: 05 | H16: 03 | I16: 920 | J16: ='Приложение 2'!J91 -> 1052.7 | K16: ='Приложение 2'!K91 -> 52 | L16: ='Приложение 2'!L91 -> 52
A17: ='Приложение 2'!A92 -> Основное мероприятие "Освещение территории сельского поселения" | B17: 10 | C17: 0 | D17: 08 | J17: =J18 -> 224 | K17: =K18 -> 38 | L17: =L18 -> 38
A18: Уличное освещение | B18: 10 | C18: 0 | D18: 08 | E18: 43010 | J18: =J19 -> 224 | K18: =K19 -> 38 | L18: =L19 -> 38
A19: Закупка товаров, работ и услуг для обеспечения государственных (муниципальных) нужд | B19: 10 | C19: 0 | D19: 08 | E19: 43010 | F19: 200 | J19: =J20 -> 224 | K19: =K20 -> 38 | L19: =L20 -> 38
A20: Иные закупки товаров, работ и услуг для обеспечения государственных (муниципальных) нужд | B20: 10 | C20: 0 | D20: 08 | E20: 43010 | F20: 240 | J20: =J21 -> 224 | K20: =K21 -> 38 | L20: =L21 -> 38
A21: Жилищно-коммунальное хозяйство | B21: 10 | C21: 0 | D21: 08 | E21: 43010 | F21: 240 | G21: 05 | J21: =J22 -> 224 | K21: =K22 -> 38 | L21: =L22 -> 38
A22: Благоустройство | B22: 10 | C22: 0 | D22: 08 | E22: 43010 | F22: 240 | G22: 05 | H22: 03 | J22: =J23 -> 224 | K22: =K23 -> 38 | L22: =L23 -> 38
A23: Администрация Пятинского сельского поселения Ромодановского муниципального района Республики Мордовия | B23: 10 | C23: 0 | D23: 08 | E23: 43010 | F23: 240 | G23: 05 | H23: 03 | I23: 920 | J23: ='Приложение 2'!J95 -> 224 | K23: ='Приложение 2'!K95 -> 38 | L23: ='Приложение 2'!L95 -> 38
A24: ='Приложение 2'!A65 -> Муниципальная программа "Комплексного развития транспортной инфраструктуры Пятинского сельского поселения Ромодановского муниципального района Республики Мордовия на 2018- 2030 года" | B24: 13 | J24: =J25 -> 266.5 | K24: =K25 -> 266.5 | L24: =L25 -> 266.5
A25: ='Приложение 2'!A66 -> Основное мероприятие "Ремонт и содержание дорог в границах поселения, поддержание дорожного полотна в работоспособном состоянии " | B25: 13 | C25: 0 | D25: 01 | J25: =J26 -> 266.5 | K25: =K26 -> 266.5 | L25: =L26 -> 266.5
A26: Иные межбюджетные трансферты на осуществление полномочий по дорожной деятельности в отношении автомобильных дорог местного значения в границах населенных пунктов поселения и обеспечению безопасности дорожного движения на них, включая создание и обеспечение функционирования парковок (парковочных мест), осуществлению муниципального контроля за сохранностью автомобильных дорог местного значения в границах населенных пунктов поселения, организации дорожного движения, а также осуществлению иных полномочий в области использования автомобильных дорог и осуществления дорожной деятельности в соответствии с законодательством Российской Федерации | B26: 13 | C26: 0 | D26: 01 | E26: 44102 | J26: =J27 -> 266.5 | K26: =K27 -> 266.5 | L26: =L27 -> 266.5
A27: Закупка товаров, работ и услуг для обеспечения государственных (муниципальных) нужд | B27: 13 | C27: 0 | D27: 01 | E27: 44102 | F27: 200 | J27: =J28 -> 266.5 | K27: =K28 -> 266.5 | L27: =L28 -> 266.5
A28: Иные закупки товаров, работ и услуг для обеспечения государственных (муниципальных) нужд | B28: 13 | C28: 0 | D28: 01 | E28: 44102 | F28: 240 | J28: =J29 -> 266.5 | K28: =K29 -> 266.5 | L28: =L29 -> 266.5
A29: Национальная экономика | B29: 13 | C29: 0 | D29: 01 | E29: 44102 | F29: 240 | G29: 04 | J29: =J30 -> 266.5 | K29: =K30 -> 266.5 | L29: =L30 -> 266.5
A30: ='Приложение 2'!A64 -> Дорожное хозяйство (дорожные фонды) | B30: 13 | C30: 0 | D30: 01 | E30: 44102 | F30: 240 | G30: 04 | H30: 09 | J30: =J31 -> 266.5 | K30: =K31 -> 266.5 | L30: =L31 -> 266.5
A31: Администрация Пятинского сельского поселения Ромодановского муниципального района Республики Мордовия | B31: 13 | C31: 0 | D31: 01 | E31: 44102 | F31: 240 | G31: 04 | H31: 09 | I31: 920 | J31: ='Приложение 2'!J69 -> 266.5 | K31: ='Приложение 2'!K69 -> 266.5 | L31: ='Приложение 2'!L69 -> 266.5
A32: ='Приложение 2'!A48 -> Государственная программа повышения эффективности управления государственными финансами в Республике Мордовия | B32: 17 | J32: =J33 -> 109.3 | K32: =K33 -> 114.4 | L32: =L33 -> 118.7
A33: Подпрограмма "Повышения эффективности межбюджетных отношений" | B33: 17 | C33: 3 | J33: =J34 -> 109.3 | K33: =K34 -> 114.4 | L33: =L34 -> 118.7
A34: ='Приложение 2'!A50 -> Основное мероприятие "Обеспечение и осуществления органами местного самоуправления отдельных государственных полномочий" | B34: 17 | C34: 3 | D34: 02 | J34: =J35 -> 109.3 | K34: =K35 -> 114.4 | L34: =L35 -> 118.7
A35: ='Приложение 2'!A51 -> Осуществление государственных полномочий Российской Федерации по первичному воинскому учету на территориях, где отсуствуют военные комиссариаты | B35: 17 | C35: 3 | D35: 02 | E35: 51180 | J35: =J41+J36 -> 109.3 | K35: =K41+K36 -> 114.4 | L35: =L41+L36 -> 118.7
A36: Расходы на выплаты персоналу в целях обеспечения выполнения функций государственными (муниципальными) органами, казенными учреждениями, органами управления государственными внебюджетными фондами | B36: 17 | C36: 3 | D36: 02 | E36: 51180 | F36: 100 | J36: =J37 -> 104.3 | K36: =K37 -> 109.4 | L36: =L37 -> 113.7
A37: Расходы на выплаты персоналу государственных (муниципальных) органов | B37: 17 | C37: 3 | D37: 02 | E37: 51180 | F37: 120 | J37: =J38 -> 104.3 | K37: =K38 -> 109.4 | L37: =L38 -> 113.7
A38: Национальная оборона | B38: 17 | C38: 3 | D38: 02 | E38: 51180 | F38: 120 | G38: 02 | J38: =J39 -> 104.3 | K38: =K39 -> 109.4 | L38: =L39 -> 113.7
A39: Мобилизационная и вневойсковая подготовка | B39: 17 | C39: 3 | D39: 02 | E39: 51180 | F39: 120 | G39: 02 | H39: 03 | J39: =J40 -> 104.3 | K39: =K40 -> 109.4 | L39: =L40 -> 113.7
A40: Администрация Пятинского сельского поселения Ромодановского муниципального района Республики Мордовия | B40: 17 | C40: 3 | D40: 02 | E40: 51180 | F40: 120 | G40: 02 | H40: 03 | I40: 920 | J40: ='Приложение 2'!J53 -> 104.3 | K40: ='Приложение 2'!K53 -> 109.4 | L40: ='Приложение 2'!L53 -> 113.7
A41: Закупка товаров, работ и услуг для обеспечения государственных (муниципальных) нужд | B41: 17 | C41: 3 | D41: 02 | E41: 51180 | F41: 200 | J41: =J42 -> 5 | K41: =K42 -> 5 | L41: =L42 -> 5
...

Sheet прил5
C1: Приложение 5 к решению Совета депутатов Пятинского сельского поселения Ромодановского муниципального района Республики Мордовия №20 от 04.12.2023г.«О внесении изменений в решение Совета депутатов Пятинского сельского поселения Ромодановского муниципального района Республики Мордовия от 29 декабря 2022 г № 76 «О бюджете Пятинского сельского поселения Ромодановского муниципального района Республики Мордовия на 2023 год и на плановый период 2024 и 2025 годов»
C2: Приложение 6 к решению Совета депутатов Пятинского сельского поселения Ромодановского муниципального района Республики Мордовия «О бюджете Пятинского сельского поселения Ромодановского муниципального района Республики Мордовия на 2023 год и на плановый период 2024 и 2025 годов»
A3: ИСТОЧНИКИ ВНУТРЕННЕГО ФИНАНСИРОВАНИЯ ДЕФИЦИТА БЮДЖЕТА ПЯТИНСКОГО СЕЛЬСКОГО ПОСЕЛЕНИЯ РОМОДАНОВСКОГО МУНИЦИПАЛЬНОГО РАЙОНА РЕСПУБЛИКИ МОРДОВИЯ НА 2023 ГОД И НА ПЛАНОВЫЙ ПЕРИОД 2024 и 2025 ГОДОВ
A7: Код | B7: Наименование кода группы, подгруппы, статьи, вида источника финансирования дефицитов бюджетов, кода классификации операций сектора государственного управления, относящихся к источникам финансирования дефицитов бюджетов Российской Федерации | C7: Сумма (тыс. руб.)
C8: 2023 год | D8: 2024 год | E8: 2025 год
A9: 1 | B9: 2 | C9: 3 | D9: 4 | E9: 5
A10: 000 01 00 00 00 00 0000 000 | B10: ИСТОЧНИКИ ВНУТРЕННЕГО ФИНАНСИРОВАНИЯ ДЕФИЦИТОВ БЮДЖЕТОВ | C10: =C11+C22+C14+C18 -> 2831.1 | D10: =D11+D22+D14+D18 -> 0 | E10: =E11+E22+E14+E18 -> 0
A11: 000 01 02 00 00 00 0000 000 | B11: Кредиты кредитных организаций в валюте Российской Федерации | C11: =SUM(C12) -> 0 | D11: =SUM(D12) -> 0 | E11: =SUM(E12) -> 0
A12: 000 01 02 00 00 00 0000 700 | B12: Привлечение кредитов от кредитных организаций в валюте Российской Федерации | C12: =SUM(C13) -> 0 | D12: =SUM(D13) -> 0 | E12: =SUM(E13) -> 0
A13: 000 01 02 00 00 05 0000 710 | B13: Привлечение кредитов от кредитных организаций бюджетами муниципальных районов в валюте Российской Федерации | C13: 0 | D13: 0 | E13: 0
A14: 000 01 03 00 00 00 0000 000 | B14: Бюджетные кредиты из других бюджетов бюджетной системы Российской Федерации | C14: =C15 -> 0 | D14: =D15 -> 0 | E14: =E15 -> 0
A15: 000 01 03 01 00 00 0000 000 | B15: Бюджетные кредиты из других бюджетов бюджетной системы Российской Федерации в валюте Российской Федерации | C15: =C16 -> 0 | D15: =D16 -> 0 | E15: =E16 -> 0
A16: 000 01 03 01 00 00 0000 800 | B16: Погашение бюджетных кредитов, полученных из других бюджетов бюджетной системы Российской Федерации в валюте Российской Федерации | C16: =SUM(C17) -> 0 | D16: =SUM(D17) -> 0 | E16: =SUM(E17) -> 0
A17: 000 01 03 01 00 05 0000 810 | B17: Погашение бюджетами муниципальных районов кредитов из других бюджетов бюджетной системы Российской Федерации в валюте Российской Федерации | C17: 0 | D17: 0 | E17: 0
A18: 000 01 06 00 00 00 0000 000 | B18: Иные источники внутреннего финансирования дефицитов бюджетов | C18: =C19 -> 0 | D18: =D19 -> 0 | E18: =E19 -> 0
A19: 000 01 06 05 00 00 0000 000 | B19: Бюджетные кредиты, предоставленные внутри страны в валюте Российской Федерации | C19: =C20 -> 0 | D19: =D20 -> 0 | E19: =E20 -> 0
A20: 000 01 06 05 02 00 0000 600 | B20: Возврат бюджетных кредитов, предоставленных другим бюджетам бюджетной системы Российской Федерации в валюте Российской Федерации | C20: =C21 -> 0 | D20: =D21 -> 0 | E20: =E21 -> 0
A21: 000 01 06 05 02 05 0000 640 | B21: Возврат бюджетных кредитов, предоставленных другим бюджетам бюджетной системы Российской Федерации из бюджетов муниципальных районов в валюте Российской Федерации | C21: 0 | D21: 0 | E21: 0
A22: 000 01 05 00 00 00 0000 000 | B22: Изменения остатков средств на счетах по учету средств бюджета | C22: =C25+C26 -> 2831.1 | D22: =D25+D26 -> 0 | E22: =E25+E26 -> 0
A23: 000 01 05 02 00 00 0000 500 | B23: Увеличение прочих остатков средств бюджетов | C23: =SUM(C24) -> -4689.5 | D23: =SUM(D24) -> -1741.7 | E23: =SUM(E24) -> -1760.8
A24: 000 01 05 02 01 00 0000 510 | B24: Увеличение прочих остатков денежных средств бюджетов | C24: =SUM(C25) -> -4689.5 | D24: =SUM(D25) -> -1741.7 | E24: =SUM(E25) -> -1760.8
A25: 000 01 05 02 01 10 0000 510 | B25: Увеличение прочих остатков денежных средств бюджетов сельских поселений | C25: -4689.5 | D25: -1741.7 | E25: -1760.8
A26: 000 01 05 02 00 00 0000 600 | B26: Уменьшение прочих остатков средств бюджетов | C26: =SUM(C27) -> 7520.6 | D26: =SUM(D27) -> 1741.7 | E26: =SUM(E27) -> 1760.8
A27: 000 01 05 02 01 00 0000 610 | B27: Уменьшение прочих остатков денежных средств бюджетов | C27: =SUM(C28) -> 7520.6 | D27: =SUM(D28) -> 1741.7 | E27: =SUM(E28) -> 1760.8
A28: 000 01 05 02 01 05 0000 610 | B28: Уменьшение прочих остатков денежных средств бюджетов муниципальных районов | C28: 7520.6 | D28: ='Приложение 2'!K8 -> 1741.7 | E28: ='Приложение 2'!L8 -> 1760.8
A29: 000 01 00 00 00 00 0000 000 | B29: Итого источников внутреннего финансирования дефицита бюджета Пятинского сельского поселения Ромодановского муниципального района Республики Мордовия
B30: собственные доходы | C30: 1348.7 | D30: 1360.2 | E30: 1374.9
