Workbook

Sheet Приложение1
C1: Приложение 1 к решению Совета депутатов Пятинского сельского поселения Ромодановского муниципального района Республики Мордовия «О внесении изменений в решение Совета депутатов Пятинского сельского поселения Ромодановского муниципального района Республики Мордовия от 26 декабря 2023 г № 22 «О бюджете Пятинского сельского поселения Ромодановского муниципального района Республики Мордовия на 2024 год и на плановый период 2025 и 2026 годов» Приложение 2 к решению Совета депутатов Пятинского сельского поселения Ромодановского муниципального района Республики Мордовия «О бюджете Пятинского сельского поселения Ромодановского муниципального района Республики Мордовия на 2024 год и на плановый период 2025 и 2026 годов»
E7: (тыс. рублей)
A8: Код | B8: Наименование | C8: Сумма
C9: 2024 год | D9: 2025 год | E9: 2026 год
A10: 1 | B10: 2 | C10: 3 | D10: 4 | E10: 5
A11: 2 00 00000 00 0000 000 | B11: БЕЗВОЗМЕЗДНЫЕ ПОСТУПЛЕНИЯ | C11: =C12 -> 1002.5 | D11: =D12 -> 584.8 | E11: =E12 -> 556
A12: 2 02 00000 00 0000 000 | B12: Безвозмездные поступления от других бюджетов бюджетной системы Российской Федерации | C12: =C23+C18+C13 -> 1002.5 | D12: =D23+D18+D13 -> 584.8 | E12: =E23+E18+E13 -> 556
A13: 2 02 10000 00 0000 150 | B13: Дотации бюджетам бюджетной системы Российской Федерации | C13: =C14+C16 -> 603.4 | D13: =D14 -> 171.9 | E13: =E14 -> 128.9
A14: 2 02 15001 00 0000 150 | B14: Дотации на выравнивание бюджетной обеспеченности | C14: =C15 -> 233.6 | D14: =D15 -> 171.9 | E14: =E15 -> 128.9
A15: 2 02 15001 10 0000 150 | B15: Дотации бюджетам сельских поселений на выравнивание бюджетной обеспеченности из бюджета субъекта Российской Федерации | C15: 233.6 | D15: 171.9 | E15: 128.9
A16: 2 02 15002 00 0000 150 | B16: Дотация бюджетам на поддержку мер по обеспечению сбалансированности бюджетов | C16: =C17 -> 369.8
A17: 2 02 15002 10 0000 150 | B17: Дотации бюджетам сельских поселений на поддержку мер по обеспечению сбалансированности бюджетов | C17: 369.8
A18: 2 02 30000 00 0000 150 | B18: Субвенции бюджетам бюджетной системы Российской Федерации | C18: =C19+C21 -> 132.6 | D18: =D19+D21 -> 146.4 | E18: =E19+E21 -> 160.6
A19: 2 02 30024 00 0000 150 | B19: Субвенции местным бюджетам на выполнение передаваемых полномочий субъектов Российской Федерации | C19: =C20 -> 0.7 | D19: =D20 -> 0.7 | E19: =E20 -> 0.8
A20: 2 02 30024 10 0000 150 | B20: Субвенции бюджетам сельских поселений на выполнение передаваемых полномочий субъектов Российской Федерации | C20: 0.7 | D20: 0.7 | E20: 0.8
A21: 2 02 35118 00 0000 150 | B21: Субвенции бюджетам на осуществление первичного воинского учета органами местного самоуправления поселений,муниципальных и городских округов | C21: =C22 -> 131.9 | D21: =D22 -> 145.7 | E21: =E22 -> 159.8
A22: 2 02 35118 10 0000 150 | B22: Субвенции бюджетам сельских поселений на осуществление первичного воинского учета органами местного самоуправления поселений,муниципальных и городских округов | C22: 131.9 | D22: 145.7 | E22: 159.8
A23: 2 02 40000 00 0000 150 | B23: Иные межбюджетные трансферты | C23: =C24 -> 266.5 | D23: =D24 -> 266.5 | E23: =E24 -> 266.5
A24: 2 02 40014 00 0000 150 | B24: Межбюджетные трансферты, передаваемые бюджетам муниципальных образований на осуществление части полномочий по решению вопросов местного значения в соответствии с заключенными соглашениями | C24: =C25 -> 266.5 | D24: =D25 -> 266.5 | E24: =E25 -> 266.5
A25: 2 02 40014 10 0000 150 | B25: Межбюджетные трансферты, передаваемые бюджетам сельских поселений из бюджетов муниципальных районов на осуществление части полномочий по решению вопросов местного значения в соответствии с заключенными соглашениями | C25: 266.5 | D25: 266.5 | E25: 266.5

Sheet Приложение 2
I1: Приложение 2 к решению Совета депутатов Пятинского сельского поселения Ромодановского муниципального района Республики Мордовия «О внесении изменений в решение Совета депутатов Пятинского сельского поселения Ромодановского муниципального района Республики Мордовия от 26 декабря 2023 г № 22 «О бюджете Пятинского сельского поселения Ромодановского муниципального района Республики Мордовия на 2024 год и на плановый период 2025 и 2026 годов» Приложение 3 к решению Совета депутатов Пятинского сельского поселения Ромодановского муниципального района Республики Мордовия «О бюджете Пятинского сельского поселения Ромодановского муниципального района Республики Мордовия на 2024 год и на плановый период 2025 и 2026 годов»
A2: ВЕДОМСТВЕННАЯ СТРУКТУРА РАСХОДОВ БЮДЖЕТА ПЯТИНСКОГО СЕЛЬСКОГО ПОСЕЛЕНИЯ РОМОДАНОВСКОГО МУНИЦИПАЛЬНОГО РАЙОНА РЕСПУБЛИКИ МОРДОВИЯ НА 2024 ГОД И НА ПЛАНОВЫЙ ПЕРИОД 2025 И 2026 ГОДОВ
I3: (тыс. рублей)
A4: Наименование | B4: Адм | C4: Рз | D4: Прз | E4: Цср | I4: Вр | J4: Сумма
J5: 2024 год | K5: 2025 год | L5: 2026 год
A6: 1 | B6: 2 | C6: 3 | D6: 4 | E6: 5 | F6: 6 | G6: 7 | H6: 8 | I6: 9 | J6: 10 | K6: 11 | L6: 12
A7: Администрация Пятинского сельского поселения Ромодановского муниципального района Республики Мордовия | B7: 920 | J7: =J8+J37+J47+J54+J71+J78 -> 3603.3 | K7: =K8+K37+K47+K54+K71+K78 -> 2099.8 | L7: =L8+L37+L47+L54+L71+L78 -> 2127.4
A8: Общегосударственные вопросы | B8: 920 | C8: 01 | J8: =J9+J15+J31 -> 2468.2 | K8: =K9+K15+K31 -> 1202.6 | L8: =L9+L15+L31 -> 1153.2
A9: Функционирование высшего должностного лица субъекта Российской Федерации и муниципального образования | B9: 920 | C9: 01 | D9: 02 | J9: =J10 -> 607 | K9: =K10 -> 361.2 | L9: =L10 -> 311.7
A10: Обеспечение деятельности Администрации Пятинского сельского поселения Ромодановского муниципального района Республики Мордовия | B10: 920 | C10: 01 | D10: 02 | E10: 65 | J10: =J11 -> 607 | K10: =K11 -> 361.2 | L10: =L11 -> 311.7
A11: Высшее должностное лицо | B11: 920 | C11: 01 | D11: 02 | E11: 65 | F11: 1 | J11: =J12 -> 607 | K11: =K12 -> 361.2 | L11: =L12 -> 311.7
A12: Расходы на выплаты по оплате труда высшего должностного лица | B12: 920 | C12: 01 | D12: 02 | E12: 65 | F12: 1 | G12: 00 | H12: 41150 | J12: 607 | K12: =K13 -> 361.2 | L12: =L13 -> 311.7
A13: Расходы на выплаты персоналу в целях обеспечения выполнения функций государственными (муниципальными) органами, казенными учреждениями, органами управления государственными внебюджетными фондами | B13: 920 | C13: 01 | D13: 02 | E13: 65 | F13: 1 | G13: 00 | H13: 41150 | I13: 100 | J13: =J14 -> 607 | K13: =K14 -> 361.2 | L13: =L14 -> 311.7
A14: Расходы на выплаты персоналу государственных (муниципальных) органов | B14: 920 | C14: 01 | D14: 02 | E14: 65 | F14: 1 | G14: 00 | H14: 41150 | I14: 120 | J14: 607 | K14: 361.2 | L14: 311.7
A15: Функционирование Правительства Российской Федерации, высших исполнительных органов государственной власти субъектов Российской Федерации, местных администраций | B15: 920 | C15: 01 | D15: 04 | J15: =J16+J26 -> 1856.2 | K15: =K16+K26 -> 836.4 | L15: =L16+L26 -> 836.5
A16: =A10 -> Обеспечение деятельности Администрации Пятинского сельского поселения Ромодановского муниципального района Республики Мордовия | B16: 920 | C16: 01 | D16: 04 | E16: 65 | J16: =J17 -> 1855.5 | K16: =K17 -> 835.7 | L16: =L17 -> 835.8
A17: Расходы в рамках обеспечения деятельности Администрации Пятинского сельского поселения | B17: 920 | C17: 01 | D17: 04 | E17: 65 | F17: 2 | J17: =J18+J21 -> 1855.5 | K17: =K18+K21 -> 835.7 | L17: =L18+L21 -> 835.8
A18: Расходы на выплаты по оплате труда работников органов местного самоуправления | B18: 920 | C18: 01 | D18: 04 | E18: 65 | F18: 2 | G18: 00 | H18: 41110 | J18: =J19 -> 881.1 | K18: =K19 -> 540.7 | L18: =L19 -> 540.8
A19: Расходы на выплаты персоналу в целях обеспечения выполнения функций государственными (муниципальными) органами, казенными учреждениями, органами управления государственными внебюджетными фондами | B19: 920 | C19: 01 | D19: 04 | E19: 65 | F19: 2 | G19: 00 | H19: 41110 | I19: 100 | J19: =J20 -> 881.1 | K19: =K20 -> 540.7 | L19: =L20 -> 540.8
A20: Расходы на выплаты персоналу государственных (муниципальных) органов | B20: 920 | C20: 01 | D20: 04 | E20: 65 | F20: 2 | G20: 00 | H20: 41110 | I20: 120 | J20: 881.1 | K20: 540.7 | L20: 540.8
A21: Расходы на обеспечение функций органов местного самоуправления | B21: 920 | C21: 01 | D21: 04 | E21: 65 | F21: 2 | G21: 00 | H21: 41120 | J21: =+J22+J24 -> 974.4 | K21: =+K22+K24 -> 295 | L21: =+L22+L24 -> 295
A22: Закупка товаров, работ и услуг для обеспечения государственных (муниципальных) нужд | B22: 920 | C22: 01 | D22: 04 | E22: 65 | F22: 2 | G22: 00 | H22: 41120 | I22: 200 | J22: =J23 -> 959.4 | K22: =K23 -> 280 | L22: =L23 -> 280
A23: Иные закупки товаров, работ и услуг для обеспечения государственных (муниципальных) нужд | B23: 920 | C23: 01 | D23: 04 | E23: 65 | F23: 2 | G23: 00 | H23: 41120 | I23: 240 | J23: 959.4 | K23: 280 | L23: 280
A24: Иные бюджетные ассигнования | B24: 920 | C24: 01 | D24: 04 | E24: 65 | F24: 2 | G24: 00 | H24: 41120 | I24: 800 | J24: =J25 -> 15 | K24: =K25 -> 15 | L24: =L25 -> 15
A25: Уплата налогов, сборов и иных платежей | B25: 920 | C25: 01 | D25: 04 | E25: 65 | F25: 2 | G25: 00 | H25: 41120 | I25: 850 | J25: 15 | K25: 15 | L25: 15
A26: Непрограммные расходы главных распорядителей средств бюджета Пятинского сельского поселения Ромодановского муниципального района Республики Мордовия | B26: 920 | C26: 01 | D26: 04 | E26: 89 | J26: =J27 -> 0.7 | K26: =K27 -> 0.7 | L26: =L27 -> 0.7
A27: Непрограммные расходы в рамках обеспечения деятельности главных распорядителей средств бюджета Пятинского сельского поселения Ромодановского муниципального района Республики Мордовия | B27: 920 | C27: 01 | D27: 04 | E27: 89 | F27: 1 | J27: =J28 -> 0.7 | K27: =K28 -> 0.7 | L27: =L28 -> 0.7
A28: Осуществление государственных полномочий Республики Мордовия по определению перечня должностных лиц, уполномоченных составлять протоколы об административных правонарушениях, предусмотренных Законом Республики Мордовия от 15 июня 2015 года № 38-З "Об административной ответственности на территории Республики Мордовия" | B28: 920 | C28: 01 | D28: 04 | E28: 89 | F28: 1 | G28: 00 | H28: 77150 | J28: =J29 -> 0.7 | K28: =K29 -> 0.7 | L28: =L29 -> 0.7
A29: Закупка товаров, работ и услуг для обеспечения государственных (муниципальных) нужд | B29: 920 | C29: 01 | D29: 04 | E29: 89 | F29: 1 | G29: 00 | H29: 77150 | I29: 200 | J29: =J30 -> 0.7 | K29: =K30 -> 0.7 | L29: =L30 -> 0.7
A30: Иные закупки товаров, работ и услуг для обеспечения государственных (муниципальных) нужд | B30: 920 | C30: 01 | D30: 04 | E30: 89 | F30: 1 | G30: 00 | H30: 77150 | I30: 240 | J30: 0.7 | K30: 0.7 | L30: 0.7
A31: Резервные фонды | B31: 920 | C31: 01 | D31: 11 | J31: =J32 -> 5 | K31: =K32 -> 5 | L31: =L32 -> 5
A32: =A26 -> Непрограммные расходы главных распорядителей средств бюджета Пятинского сельского поселения Ромодановского муниципального района Республики Мордовия | B32: 920 | C32: 01 | D32: 11 | E32: 89 | J32: =J33 -> 5 | K32: =K33 -> 5 | L32: =L33 -> 5
A33: =A27 -> Непрограммные расходы в рамках обеспечения деятельности главных распорядителей средств бюджета Пятинского сельского поселения Ромодановского муниципального района Республики Мордовия | B33: 920 | C33: 01 | D33: 11 | E33: 89 | F33: 1 | J33: =J34 -> 5 | K33: =K34 -> 5 | L33: =L34 -> 5
A34: Резервный фонд администрации Пятинского сельского поселени Ромодановского муниципального района Республики Мордовия | B34: 920 | C34: 01 | D34: 11 | E34: 89 | F34: 1 | G34: 00 | H34: 41180 | J34: =J36 -> 5 | K34: =K36 -> 5 | L34: =L36 -> 5
A35: Иные бюджетные ассигнования | B35: 920 | C35: 01 | D35: 11 | E35: 89 | F35: 1 | G35: 00 | H35: 41180 | I35: 800 | J35: =J36 -> 5 | K35: =K36 -> 5 | L35: =L36 -> 5
A36: Резервные средства | B36: 920 | C36: 01 | D36: 11 | E36: 89 | F36: 1 | G36: 00 | H36: 41180 | I36: 870 | J36: 5 | K36: 5 | L36: 5
A37: Национальная оборона | B37: 920 | C37: 02 | J37: =J38 -> 131.9 | K37: =K38 -> 145.7 | L37: =L38 -> 159.8
A38: Мобилизационная и вневойсковая подготовка | B38: 920 | C38: 02 | D38: 03 | J38: =J39 -> 131.9 | K38: =K39 -> 145.7 | L38: =L39 -> 159.8
A39: Государственная программа повышения эффективности управления государственными финансами в Республике Мордовия | B39: 920 | C39: 02 | D39: 03 | E39: 17 | J39: =J40 -> 131.9 | K39: =K40 -> 145.7 | L39: =L40 -> 159.8
A40: Подпрограмма "Повышения эффективности межбюджетных отношений" | B40: 920 | C40: 02 | D40: 03 | E40: 17 | F40: 3 | J40: =J41 -> 131.9 | K40: =K41 -> 145.7 | L40: =L41 -> 159.8
...

Sheet Приложение 3
H1: Приложение 3 к решению Совета депутатов Пятинского сельского поселения Ромодановского муниципального района Республики Мордовия «О внесении изменений в решение Совета депутатов Пятинского сельского поселения Ромодановского муниципального района Республики Мордовия от 26 декабря 2023 г № 22 «О бюджете Пятинского сельского поселения Ромодановского муниципального района Республики Мордовия на 2024 год и на плановый период 2025 и 2026 годов» Приложение 4 к решению Совета депутатов Пятинского сельского поселения Ромодановского муниципального района Республики Мордовия «О бюджете Пятинского сельского поселения Ромодановского муниципального района Республики Мордовия на 2024 год и на плановый период 2025 и 2026 годов»
A2: РАСПРЕДЕЛЕНИЕ БЮДЖЕТНЫХ АССИГНОВАНИЙ БЮДЖЕТА ПЯТИНСКОГО СЕЛЬСКОГО ПОСЕЛЕНИЯ РОМОДАНОВСКОГО МУНИЦИПАЛЬНОГО РАЙОНА РЕСПУБЛИКИ МОРДОВИЯ ПО РАЗДЕЛАМ, ПОДРАЗДЕЛАМ, ЦЕЛЕВЫМ СТАТЬЯМ (МУНИЦИПАЛЬНЫМ ПРОГРАММАМ И НЕПРОГРАММНЫМ НАПРАВЛЕНИЯМ ДЕЯТЕЛЬНОСТИ), ГРУППАМ И ПОДГРУППАМ ВИДОВ РАСХОДОВ КЛАССИФИКАЦИИ РАСХОДОВ БЮДЖЕТОВ НА 2024 ГОД И НА ПЛАНОВЫЙ ПЕРИОД 2025 И 2026 ГОДОВ
A3: Наименование | B3: Рз | C3: Прз | D3: Цср | H3: Вр | I3: Сумма
I4: 2024 год | J4: 2025 год | K4: 2026 год
A5: 1 | B5: 2 | C5: 3 | D5: 4 | E5: 5 | F5: 6 | G5: 7 | H5: 8 | I5: 9 | J5: 10 | K5: 11
A6: ВСЕГО | I6: =I7+I36+I46+I53+I70 -> 3603.3 | J6: =J7+J36+J46+J53+J70+J77 -> 2099.8 | K6: =K7+K36+K46+K53+K70+K77 -> 2127.4
A7: Общегосударственные вопросы | B7: 01 | I7: =I8+I14+I30 -> 2468.2 | J7: =J8+J14+J30 -> 1202.6 | K7: =K8+K14+K30 -> 1153.2
A8: Функционирование высшего должностного лица субъекта Российской Федерации и муниципального образования | B8: 01 | C8: 02 | I8: =I9 -> 607 | J8: =J9 -> 361.2 | K8: =K9 -> 311.7
A9: ='Приложение 2'!A10 -> Обеспечение деятельности Администрации Пятинского сельского поселения Ромодановского муниципального района Республики Мордовия | B9: 01 | C9: 02 | D9: 65 | I9: =I10 -> 607 | J9: =J10 -> 361.2 | K9: =K10 -> 311.7
A10: Высшее должностное лицо | B10: 01 | C10: 02 | D10: 65 | E10: 1 | I10: =I11 -> 607 | J10: =J11 -> 361.2 | K10: =K11 -> 311.7
A11: Расходы на выплаты по оплате труда высшего должностного лица | B11: 01 | C11: 02 | D11: 65 | E11: 1 | F11: 00 | G11: 41150 | I11: =I12 -> 607 | J11: =J12 -> 361.2 | K11: =K12 -> 311.7
A12: Расходы на выплаты персоналу в целях обеспечения выполнения функций государственными (муниципальными) органами, казенными учреждениями, органами управления государственными внебюджетными фондами | B12: 01 | C12: 02 | D12: 65 | E12: 1 | F12: 00 | G12: 41150 | H12: 100 | I12: =I13 -> 607 | J12: =J13 -> 361.2 | K12: =K13 -> 311.7
A13: Расходы на выплаты персоналу государственных (муниципальных) органов | B13: 01 | C13: 02 | D13: 65 | E13: 1 | F13: 00 | G13: 41150 | H13: 120 | I13: ='Приложение 2'!J14 -> 607 | J13: ='Приложение 2'!K14 -> 361.2 | K13: ='Приложение 2'!L14 -> 311.7
A14: Функционирование Правительства Российской Федерации, высших исполнительных органов государственной власти субъектов Российской Федерации, местных администраций | B14: 01 | C14: 04 | I14: =I15+I25 -> 1856.2 | J14: =J15+J25 -> 836.4 | K14: =K15+K25 -> 836.5
A15: ='Приложение 2'!A16 -> Обеспечение деятельности Администрации Пятинского сельского поселения Ромодановского муниципального района Республики Мордовия | B15: 01 | C15: 04 | D15: 65 | I15: =I16 -> 1855.5 | J15: =J16 -> 835.7 | K15: =K16 -> 835.8
A16: ='Приложение 2'!A17 -> Расходы в рамках обеспечения деятельности Администрации Пятинского сельского поселения | B16: 01 | C16: 04 | D16: 65 | E16: 2 | I16: =I17+I20 -> 1855.5 | J16: =J17+J20 -> 835.7 | K16: =K17+K20 -> 835.8
A17: Расходы на выплаты по оплате труда работников органов местного самоуправления | B17: 01 | C17: 04 | D17: 65 | E17: 2 | F17: 00 | G17: 41110 | I17: =I18 -> 881.1 | J17: =J18 -> 540.7 | K17: =K18 -> 540.8
A18: Расходы на выплаты персоналу в целях обеспечения выполнения функций государственными (муниципальными) органами, казенными учреждениями, органами управления государственными внебюджетными фондами | B18: 01 | C18: 04 | D18: 65 | E18: 2 | F18: 00 | G18: 41110 | H18: 100 | I18: =I19 -> 881.1 | J18: =J19 -> 540.7 | K18: =K19 -> 540.8
A19: Расходы на выплаты персоналу государственных (муниципальных) органов | B19: 01 | C19: 04 | D19: 65 | E19: 2 | F19: 00 | G19: 41110 | H19: 120 | I19: ='Приложение 2'!J20 -> 881.1 | J19: ='Приложение 2'!K20 -> 540.7 | K19: ='Приложение 2'!L20 -> 540.8
A20: Расходы на обеспечение функций органов местного самоуправления | B20: 01 | C20: 04 | D20: 65 | E20: 2 | F20: 00 | G20: 41120 | I20: =+I21+I23 -> 974.4 | J20: =+J21+J23 -> 295 | K20: =+K21+K23 -> 295
A21: Закупка товаров, работ и услуг для обеспечения государственных (муниципальных) нужд | B21: 01 | C21: 04 | D21: 65 | E21: 2 | F21: 00 | G21: 41120 | H21: 200 | I21: =I22 -> 959.4 | J21: =J22 -> 280 | K21: =K22 -> 280
A22: Иные закупки товаров, работ и услуг для обеспечения государственных (муниципальных) нужд | B22: 01 | C22: 04 | D22: 65 | E22: 2 | F22: 00 | G22: 41120 | H22: 240 | I22: ='Приложение 2'!J23 -> 959.4 | J22: ='Приложение 2'!K23 -> 280 | K22: ='Приложение 2'!L23 -> 280
A23: Иные бюджетные ассигнования | B23: 01 | C23: 04 | D23: 65 | E23: 2 | F23: 00 | G23: 41120 | H23: 800 | I23: =I24 -> 15 | J23: =J24 -> 15 | K23: =K24 -> 15
A24: Уплата налогов, сборов и иных платежей | B24: 01 | C24: 04 | D24: 65 | E24: 2 | F24: 00 | G24: 41120 | H24: 850 | I24: ='Приложение 2'!J25 -> 15 | J24: ='Приложение 2'!K25 -> 15 | K24: ='Приложение 2'!L25 -> 15
A25: Непрограммные расходы главных распорядителей средств бюджета Пятинского сельского поселения Ромодановского муниципального района Республики Мордовия | B25: 01 | C25: 04 | D25: 89 | I25: =I26 -> 0.7 | J25: =J26 -> 0.7 | K25: =K26 -> 0.7
A26: Непрограммные расходы в рамках обеспечения деятельности главных распорядителей средств бюджета Пятинского сельского поселения Ромодановского муниципального района Республики Мордовия | B26: 01 | C26: 04 | D26: 89 | E26: 1 | I26: =I27 -> 0.7 | J26: =J27 -> 0.7 | K26: =K27 -> 0.7
A27: Осуществление государственных полномочий Республики Мордовия по определению перечня должностных лиц, уполномоченных составлять протоколы об административных правонарушениях, предусмотренных Законом Республики Мордовия от 15 июня 2015 года № 38-З "Об административной ответственности на территории Республики Мордовия" | B27: 01 | C27: 04 | D27: 89 | E27: 1 | F27: 00 | G27: 77150 | I27: =I28 -> 0.7 | J27: =J28 -> 0.7 | K27: =K28 -> 0.7
A28: Закупка товаров, работ и услуг для обеспечения государственных (муниципальных) нужд | B28: 01 | C28: 04 | D28: 89 | E28: 1 | F28: 00 | G28: 77150 | H28: 200 | I28: =I29 -> 0.7 | J28: =J29 -> 0.7 | K28: =K29 -> 0.7
A29: Иные закупки товаров, работ и услуг для обеспечения государственных (муниципальных) нужд | B29: 01 | C29: 04 | D29: 89 | E29: 1 | F29: 00 | G29: 77150 | H29: 240 | I29: ='Приложение 2'!J30 -> 0.7 | J29: ='Приложение 2'!K30 -> 0.7 | K29: ='Приложение 2'!L30 -> 0.7
A30: Резервные фонды | B30: 01 | C30: 11 | I30: =I31 -> 5 | J30: =J31 -> 5 | K30: =K31 -> 5
A31: =A25 -> Непрограммные расходы главных распорядителей средств бюджета Пятинского сельского поселения Ромодановского муниципального района Республики Мордовия | B31: 01 | C31: 11 | D31: 89 | I31: =I32 -> 5 | J31: =J32 -> 5 | K31: =K32 -> 5
A32: =A26 -> Непрограммные расходы в рамках обеспечения деятельности главных распорядителей средств бюджета Пятинского сельского поселения Ромодановского муниципального района Республики Мордовия | B32: 01 | C32: 11 | D32: 89 | E32: 1 | I32: =I33 -> 5 | J32: =J33 -> 5 | K32: =K33 -> 5
A33: ='Приложение 2'!A34 -> Резервный фонд администрации Пятинского сельского поселени Ромодановского муниципального района Республики Мордовия | B33: 01 | C33: 11 | D33: 89 | E33: 1 | F33: 00 | G33: 41180 | I33: =I35 -> 5 | J33: =J35 -> 5 | K33: =K35 -> 5
A34: Иные бюджетные ассигнования | B34: 01 | C34: 11 | D34: 89 | E34: 1 | F34: 00 | G34: 41180 | H34: 800 | I34: =I35 -> 5 | J34: =J35 -> 5 | K34: =K35 -> 5
A35: Резервные средства | B35: 01 | C35: 11 | D35: 89 | E35: 1 | F35: 00 | G35: 41180 | H35: 870 | I35: ='Приложение 2'!J36 -> 5 | J35: ='Приложение 2'!K36 -> 5 | K35: ='Приложение 2'!L36 -> 5
A36: Национальная оборона | B36: 02 | I36: =I37 -> 131.9 | J36: =J37 -> 145.7 | K36: =K37 -> 159.8
A37: Мобилизационная и вневойсковая подготовка | B37: 02 | C37: 03 | I37: =I38 -> 131.9 | J37: =J38 -> 145.7 | K37: =K38 -> 159.8
A38: ='Приложение 2'!A39 -> Государственная программа повышения эффективности управления государственными финансами в Республике Мордовия | B38: 02 | C38: 03 | D38: 17 | I38: =I39 -> 131.9 | J38: =J39 -> 145.7 | K38: =K39 -> 159.8
A39: Подпрограмма "Повышения эффективности межбюджетных отношений" | B39: 02 | C39: 03 | D39: 17 | E39: 3 | I39: =I40 -> 131.9 | J39: =J40 -> 145.7 | K39: =K40 -> 159.8
A40: ='Приложение 2'!A41 -> Основное мероприятие "Обеспечение и осуществления органами местного самоуправления отдельных государственных полномочий" | B40: 02 | C40: 03 | D40: 17 | E40: 3 | F40: 02 | I40: =I41 -> 131.9 | J40: =J41 -> 145.7 | K40: =K41 -> 159.8
...

Sheet Приложение 4
I1: Приложение 4 к решению Совета депутатов Пятинского сельского поселения Ромодановского муниципального района Республики Мордовия «О внесении изменений в решение Совета депутатов Пятинского сельского поселения Ромодановского муниципального района Республики Мордовия от 26 декабря 2023 г № 22 «О бюджете Пятинского сельского поселения Ромодановского муниципального района Республики Мордовия на 2024 год и на плановый период 2025 и 2026 годов» Приложение 5 к решению Совета депутатов Пятинского сельского поселения Ромодановского муниципального района Республики Мордовия «О бюджете Пятинского сельского поселения Ромодановского муниципального района Республики Мордовия на 2024 год и на плановый период 2025 и 2026 годов»
A2: РАСПРЕДЕЛЕНИЕ БЮДЖЕТНЫХ АССИГНОВАНИЙ БЮДЖЕТА ПЯТИНСКОГО СЕЛЬСКОГО ПОСЕЛЕНИЯ РОМОДАНОВСКОГО МУНИЦИПАЛЬНОГО РАЙОНА РЕСПУБЛИКИ МОРДОВИЯ ПО ЦЕЛЕВЫМ СТАТЬЯМ (МУНИЦИПАЛЬНЫМ ПРОГРАММАМ И НЕПРОГРАММНЫМ НАПРАВЛЕНИЯМ ДЕЯТЕЛЬНОСТИ), ГРУППАМ И ПОДГРУППАМ ВИДОВ РАСХОДОВ, РАЗДЕЛАМ И ПОДРАЗДЕЛАМ КЛАССИФИКАЦИИ РАСХОДОВ БЮДЖЕТОВ НА 2024 ГОД И НА ПЛАНОВЫЙ ПЕРИОД 2025 И 2026 ГОДОВ
I3: (тыс. рублей)
A4: Наименование | B4: Цср | F4: ВР | G4: Рз | H4: Прз | I4: Адм | J4: Сумма
J5: 2024 год | K5: 2025 год | L5: 2026 год
A6: 1 | B6: 2 | C6: 3 | D6: 4 | E6: 5 | F6: 6 | G6: 7 | H6: 8 | I6: 9 | J6: 10 | K6: 11 | L6: 12
A7: ВСЕГО | J7: =J8+J23+J31+J45+J77 -> 3603.3 | K7: =K23+K8+K31+K45+K77 -> 2099.8 | L7: =L23+L8+L31+L45+L77 -> 2127.4
A8: ='Приложение 2'!A62 -> Муниципальная программа "Комплексного развития социальной инфраструктуры Пятинского сельского поселения Ромодановского муниципального района Республики Мордовия на 2018-2030 года" | B8: 10 | J8: =J16+J9 -> 495.3 | K8: =K16+K9 -> 221.6 | L8: =+L16+L9 -> 235
A9: ='Приложение 2'!A63 -> Основное мероприятие "Благоустройство территории " | B9: 10 | C9: 0 | D9: 07 | J9: =J10 -> 330.3 | K9: =K10 -> 110.8 | L9: =L10 -> 117.5
A10: ='Приложение 2'!A64 -> Прочие мероприятия по благоустройству | B10: 10 | C10: 0 | D10: 07 | E10: 43040 | J10: =J11 -> 330.3 | K10: =K11 -> 110.8 | L10: =L11 -> 117.5
A11: Закупка товаров, работ и услуг для обеспечения государственных (муниципальных) нужд | B11: 10 | C11: 0 | D11: 07 | E11: 43040 | F11: 200 | J11: =J12 -> 330.3 | K11: =K12 -> 110.8 | L11: =L12 -> 117.5
A12: Иные закупки товаров, работ и услуг для обеспечения государственных (муниципальных) нужд | B12: 10 | C12: 0 | D12: 07 | E12: 43040 | F12: 240 | J12: =J13 -> 330.3 | K12: =K13 -> 110.8 | L12: =L13 -> 117.5
A13: Жилищно-коммунальное хозяйство | B13: 10 | C13: 0 | D13: 07 | E13: 43040 | F13: 240 | G13: 05 | J13: =J14 -> 330.3 | K13: =K14 -> 110.8 | L13: =L14 -> 117.5
A14: Благоустройство | B14: 10 | C14: 0 | D14: 07 | E14: 43040 | F14: 240 | G14: 05 | H14: 03 | J14: =J15 -> 330.3 | K14: =K15 -> 110.8 | L14: =L15 -> 117.5
A15: Администрация Пятинского сельского поселения Ромодановского муниципального района Республики Мордовия | B15: 10 | C15: 0 | D15: 07 | E15: 43040 | F15: 240 | G15: 05 | H15: 03 | I15: 920 | J15: ='Приложение 2'!J66 -> 330.3 | K15: ='Приложение 2'!K66 -> 110.8 | L15: ='Приложение 2'!L66 -> 117.5
A16: ='Приложение 2'!A67 -> Основное мероприятие "Освещение территории сельского поселения" | B16: 10 | C16: 0 | D16: 08 | J16: =J17 -> 165 | K16: =K17 -> 110.8 | L16: =L17 -> 117.5
A17: Уличное освещение | B17: 10 | C17: 0 | D17: 08 | E17: 43010 | J17: =J18 -> 165 | K17: =K18 -> 110.8 | L17: =L18 -> 117.5
A18: Закупка товаров, работ и услуг для обеспечения государственных (муниципальных) нужд | B18: 10 | C18: 0 | D18: 08 | E18: 43010 | F18: 200 | J18: =J19 -> 165 | K18: =K19 -> 110.8 | L18: =L19 -> 117.5
A19: Иные закупки товаров, работ и услуг для обеспечения государственных (муниципальных) нужд | B19: 10 | C19: 0 | D19: 08 | E19: 43010 | F19: 240 | J19: =J20 -> 165 | K19: =K20 -> 110.8 | L19: =L20 -> 117.5
A20: Жилищно-коммунальное хозяйство | B20: 10 | C20: 0 | D20: 08 | E20: 43010 | F20: 240 | G20: 05 | J20: =J21 -> 165 | K20: =K21 -> 110.8 | L20: =L21 -> 117.5
A21: Благоустройство | B21: 10 | C21: 0 | D21: 08 | E21: 43010 | F21: 240 | G21: 05 | H21: 03 | J21: =J22 -> 165 | K21: =K22 -> 110.8 | L21: =L22 -> 117.5
A22: Администрация Пятинского сельского поселения Ромодановского муниципального района Республики Мордовия | B22: 10 | C22: 0 | D22: 08 | E22: 43010 | F22: 240 | G22: 05 | H22: 03 | I22: 920 | J22: ='Приложение 2'!J70 -> 165 | K22: ='Приложение 2'!K70 -> 110.8 | L22: ='Приложение 2'!L70 -> 117.5
A23: ='Приложение 2'!A49 -> Муниципальная программа "Комплексного развития транспортной инфраструктуры Пятинского сельского поселения Ромодановского муниципального района Республики Мордовия на 2018- 2030 года" | B23: 13 | J23: =J24 -> 266.5 | K23: =K24 -> 266.5 | L23: =L24 -> 266.5
A24: ='Приложение 2'!A50 -> Основное мероприятие "Ремонт и содержание дорог в границах поселения, поддержание дорожного полотна в работоспособном состоянии " | B24: 13 | C24: 0 | D24: 01 | J24: =J25 -> 266.5 | K24: =K25 -> 266.5 | L24: =L25 -> 266.5
A25: ='Приложение 2'!A51 -> Иные межбюджетные трансферты на осуществление полномочий по дорожной деятельности в отношении автомобильных дорог местного значения в границах населенных пунктов поселения и обеспечению безопасности дорожного движения на них, включая создание и обеспечение функционирования парковок (парковочных мест), осуществлению муниципального контроля на автомобильном транспорте, городском наземном электрическом транспорте и в дорожном хозяйстве в границах населенных пунктов поселения, организации дорожного движения, а также осуществлению иных полномочий в области использования автомобильных дорог и осуществления дорожной деятельности в соответствии с законодательством Российской Федерации | B25: 13 | C25: 0 | D25: 01 | E25: 44102 | J25: =J26 -> 266.5 | K25: =K26 -> 266.5 | L25: =L26 -> 266.5
A26: Закупка товаров, работ и услуг для обеспечения государственных (муниципальных) нужд | B26: 13 | C26: 0 | D26: 01 | E26: 44102 | F26: 200 | J26: =J27 -> 266.5 | K26: =K27 -> 266.5 | L26: =L27 -> 266.5
A27: Иные закупки товаров, работ и услуг для обеспечения государственных (муниципальных) нужд | B27: 13 | C27: 0 | D27: 01 | E27: 44102 | F27: 240 | J27: =J28 -> 266.5 | K27: =K28 -> 266.5 | L27: =L28 -> 266.5
A28: Национальная экономика | B28: 13 | C28: 0 | D28: 01 | E28: 44102 | F28: 240 | G28: 04 | J28: =J29 -> 266.5 | K28: =K29 -> 266.5 | L28: =L29 -> 266.5
A29: ='Приложение 2'!A48 -> Дорожное хозяйство (дорожные фонды) | B29: 13 | C29: 0 | D29: 01 | E29: 44102 | F29: 240 | G29: 04 | H29: 09 | J29: =J30 -> 266.5 | K29: =K30 -> 266.5 | L29: =L30 -> 266.5
A30: Администрация Пятинского сельского поселения Ромодановского муниципального района Республики Мордовия | B30: 13 | C30: 0 | D30: 01 | E30: 44102 | F30: 240 | G30: 04 | H30: 09 | I30: 920 | J30: ='Приложение 2'!J53 -> 266.5 | K30: ='Приложение 2'!K53 -> 266.5 | L30: ='Приложение 2'!L53 -> 266.5
A31: ='Приложение 2'!A39 -> Государственная программа повышения эффективности управления государственными финансами в Республике Мордовия | B31: 17 | J31: =J32 -> 131.9 | K31: =K32 -> 145.7 | L31: =L32 -> 159.8
A32: Подпрограмма "Повышения эффективности межбюджетных отношений" | B32: 17 | C32: 3 | J32: =J33 -> 131.9 | K32: =K33 -> 145.7 | L32: =L33 -> 159.8
A33: ='Приложение 2'!A41 -> Основное мероприятие "Обеспечение и осуществления органами местного самоуправления отдельных государственных полномочий" | B33: 17 | C33: 3 | D33: 02 | J33: =J34 -> 131.9 | K33: =K34 -> 145.7 | L33: =L34 -> 159.8
A34: ='Приложение 2'!A42 -> Осуществление государственных полномочий Российской Федерации по воинскому учету в поселениях, на территориях которых отсутствуют структурные подразделения военных комиссариатов | B34: 17 | C34: 3 | D34: 02 | E34: 51180 | J34: =J40+J35 -> 131.9 | K34: =K40+K35 -> 145.7 | L34: =L40+L35 -> 159.8
A35: Расходы на выплаты персоналу в целях обеспечения выполнения функций государственными (муниципальными) органами, казенными учреждениями, органами управления государственными внебюджетными фондами | B35: 17 | C35: 3 | D35: 02 | E35: 51180 | F35: 100 | J35: =J36 -> 126.9 | K35: =K36 -> 140.7 | L35: =L36 -> 154.8
A36: Расходы на выплаты персоналу государственных (муниципальных) органов | B36: 17 | C36: 3 | D36: 02 | E36: 51180 | F36: 120 | J36: =J37 -> 126.9 | K36: =K37 -> 140.7 | L36: =L37 -> 154.8
A37: Национальная оборона | B37: 17 | C37: 3 | D37: 02 | E37: 51180 | F37: 120 | G37: 02 | J37: =J38 -> 126.9 | K37: =K38 -> 140.7 | L37: =L38 -> 154.8
A38: Мобилизационная и вневойсковая подготовка | B38: 17 | C38: 3 | D38: 02 | E38: 51180 | F38: 120 | G38: 02 | H38: 03 | J38: =J39 -> 126.9 | K38: =K39 -> 140.7 | L38: =L39 -> 154.8
A39: Администрация Пятинского сельского поселения Ромодановского муниципального района Республики Мордовия | B39: 17 | C39: 3 | D39: 02 | E39: 51180 | F39: 120 | G39: 02 | H39: 03 | I39: 920 | J39: ='Приложение 2'!J44 -> 126.9 | K39: ='Приложение 2'!K44 -> 140.7 | L39: ='Приложение 2'!L44 -> 154.8
A40: Закупка товаров, работ и услуг для обеспечения государственных (муниципальных) нужд | B40: 17 | C40: 3 | D40: 02 | E40: 51180 | F40: 200 | J40: =J41 -> 5 | K40: =K41 -> 5 | L40: =L41 -> 5
...

Sheet прил5
C2: Приложение5 к решению Совета депутатов Пятинского сельского поселения Ромодановского муниципального района Республики Мордовия «О внесении изменений в решение Совета депутатов Пятинского сельского поселения Ромодановского муниципального района Республики Мордовия от 26 декабря 2023 г № 22 «О бюджете Пятинского сельского поселения Ромодановского муниципального района Республики Мордовия на 2024 год и на плановый период 2025 и 2026 годов» Приложение 6 к решению Совета депутатов Пятинского сельского поселения Ромодановского муниципального района Республики Мордовия «О бюджете Пятинского сельского поселения Ромодановского муниципального района Республики Мордовия на 2024 год и на плановый период 2025 и 2026 годов»
A3: ИСТОЧНИКИ ВНУТРЕННЕГО ФИНАНСИРОВАНИЯ ДЕФИЦИТА БЮДЖЕТА ПЯТИНСКОГО СЕЛЬСКОГО ПОСЕЛЕНИЯ РОМОДАНОВСКОГО МУНИЦИПАЛЬНОГО РАЙОНА РЕСПУБЛИКИ МОРДОВИЯ НА 2024 ГОД И НА ПЛАНОВЫЙ ПЕРИОД 2025 и 2026 ГОДОВ
A7: Код | B7: Наименование кода группы, подгруппы, статьи, вида источника финансирования дефицитов бюджетов, кода классификации операций сектора государственного управления, относящихся к источникам финансирования дефицитов бюджетов Российской Федерации | C7: Сумма (тыс. руб.)
C8: 2024 год | D8: 2025 год | E8: 2026 год
A9: 1 | B9: 2 | C9: 3 | D9: 4 | E9: 5
A10: 000 01 00 00 00 00 0000 000 | B10: ИСТОЧНИКИ ВНУТРЕННЕГО ФИНАНСИРОВАНИЯ ДЕФИЦИТОВ БЮДЖЕТОВ | C10: =C11+C22+C14+C18 -> 1126 | D10: =D11+D22+D14+D18 -> 0 | E10: =E11+E22+E14+E18 -> 0
A11: 000 01 02 00 00 00 0000 000 | B11: Кредиты кредитных организаций в валюте Российской Федерации | C11: =SUM(C12) -> 0 | D11: =SUM(D12) -> 0 | E11: =SUM(E12) -> 0
A12: 000 01 02 00 00 00 0000 700 | B12: Привлечение кредитов от кредитных организаций в валюте Российской Федерации | C12: =SUM(C13) -> 0 | D12: =SUM(D13) -> 0 | E12: =SUM(E13) -> 0
A13: 000 01 02 00 00 05 0000 710 | B13: Привлечение кредитов от кредитных организаций бюджетами муниципальных районов в валюте Российской Федерации | C13: 0 | D13: 0 | E13: 0
A14: 000 01 03 00 00 00 0000 000 | B14: Бюджетные кредиты из других бюджетов бюджетной системы Российской Федерации | C14: =C15 -> 0 | D14: =D15 -> 0 | E14: =E15 -> 0
A15: 000 01 03 01 00 00 0000 000 | B15: Бюджетные кредиты из других бюджетов бюджетной системы Российской Федерации в валюте Российской Федерации | C15: =C16 -> 0 | D15: =D16 -> 0 | E15: =E16 -> 0
A16: 000 01 03 01 00 00 0000 800 | B16: Погашение бюджетных кредитов, полученных из других бюджетов бюджетной системы Российской Федерации в валюте Российской Федерации | C16: =SUM(C17) -> 0 | D16: =SUM(D17) -> 0 | E16: =SUM(E17) -> 0
A17: 000 01 03 01 00 05 0000 810 | B17: Погашение бюджетами муниципальных районов кредитов из других бюджетов бюджетной системы Российской Федерации в валюте Российской Федерации | C17: 0 | D17: 0 | E17: 0
A18: 000 01 06 00 00 00 0000 000 | B18: Иные источники внутреннего финансирования дефицитов бюджетов | C18: =C19 -> 0 | D18: =D19 -> 0 | E18: =E19 -> 0
A19: 000 01 06 05 00 00 0000 000 | B19: Бюджетные кредиты, предоставленные внутри страны в валюте Российской Федерации | C19: =C20 -> 0 | D19: =D20 -> 0 | E19: =E20 -> 0
A20: 000 01 06 05 02 00 0000 600 | B20: Возврат бюджетных кредитов, предоставленных другим бюджетам бюджетной системы Российской Федерации в валюте Российской Федерации | C20: =C21 -> 0 | D20: =D21 -> 0 | E20: =E21 -> 0
A21: 000 01 06 05 02 05 0000 640 | B21: Возврат бюджетных кредитов, предоставленных другим бюджетам бюджетной системы Российской Федерации из бюджетов муниципальных районов в валюте Российской Федерации | C21: 0 | D21: 0 | E21: 0
A22: 000 01 05 00 00 00 0000 000 | B22: Изменения остатков средств на счетах по учету средств бюджета | C22: =C25+C26 -> 1126 | D22: =D25+D26 -> 0 | E22: =E25+E26 -> 0
A23: 000 01 05 02 00 00 0000 500 | B23: Увеличение прочих остатков средств бюджетов | C23: =SUM(C24) -> -2477.3 | D23: =SUM(D24) -> -2099.8 | E23: =SUM(E24) -> -2127.4
A24: 000 01 05 02 01 00 0000 510 | B24: Увеличение прочих остатков денежных средств бюджетов | C24: =SUM(C25) -> -2477.3 | D24: =SUM(D25) -> -2099.8 | E24: =SUM(E25) -> -2127.4
A25: 000 01 05 02 01 10 0000 510 | B25: Увеличение прочих остатков денежных средств бюджетов сельских поселений | C25: -2477.3 | D25: -2099.8 | E25: -2127.4
A26: 000 01 05 02 00 00 0000 600 | B26: Уменьшение прочих остатков средств бюджетов | C26: =SUM(C27) -> 3603.3 | D26: =SUM(D27) -> 2099.8 | E26: =SUM(E27) -> 2127.4
A27: 000 01 05 02 01 00 0000 610 | B27: Уменьшение прочих остатков денежных средств бюджетов | C27: =SUM(C28) -> 3603.3 | D27: =SUM(D28) -> 2099.8 | E27: =SUM(E28) -> 2127.4
A28: 000 01 05 02 01 05 0000 610 | B28: Уменьшение прочих остатков денежных средств бюджетов муниципальных районов | C28: 3603.3 | D28: 2099.8 | E28: 2127.4
A29: 000 01 00 00 00 00 0000 000 | B29: Итого источников внутреннего финансирования дефицита бюджета Пятинского сельского поселения Ромодановского муниципального района Республики Мордовия
B30: собственные доходы | C30: 1474.8 | D30: 1515 | E30: 1571.4
