Workbook

Sheet Приложение 1
C1: Приложение 1 к решению Совета депутатов Константиновского сельского поселения Ромодановского муниципального района Республики Мордовия «О внесении изменений в решение Совета депутатов Константиновского сельского поселения Ромодановского муниципального района Республики Мордовия от 26 декабря 2023 г № 19 «О бюджете Константиновского сельского поселения Ромодановского муниципального района Республики Мордовия на 2024 год и на плановый период 2025 и 2026 годов» Приложение 2 к решению Совета депутатов Константиновского сельского поселения Ромодановского муниципального района Республики Мордовия «О бюджете Константиновского сельского поселения Ромодановского муниципального района Республики Мордовия на 2024 год и на плановый период 2025 и 2026 годов»
A6: ОБЪЕМ БЕЗВОЗМЕЗДНЫХ ПОСТУПЛЕНИЙ В БЮДЖЕТ КОНСТАНТИНОВСКОГО СЕЛЬСКОГО ПОСЕЛЕНИЯ РОМОДАНОВСКОГО МУНИЦИПАЛЬНОГО РАЙОНА РЕСПУБЛИКИ МОРДОВИЯ НА 2024 ГОД И НА ПЛАНОВЫЙ ПЕРИОД 2025 И 2026 ГОДОВ
E7: (тыс. рублей)
A8: Код | B8: Наименование | C8: Сумма
C9: 2024 год | D9: 2025 год | E9: 2026 год
A10: 1 | B10: 2 | C10: 3 | D10: 4 | E10: 5
A11: 2 00 00000 00 0000 000 | B11: БЕЗВОЗМЕЗДНЫЕ ПОСТУПЛЕНИЯ | C11: =C12 -> 1182.2 | D11: =D12 -> 835.9 | E11: =E12 -> 858.6
A12: 2 02 00000 00 0000 000 | B12: Безвозмездные поступления от других бюджетов бюджетной системы Российской Федерации | C12: =C13+C21+C26+C19 -> 1182.2 | D12: =D13+D21+D26 -> 835.9 | E12: =E13+E21+E26 -> 858.6
A13: 2 02 10000 00 0000 150 | B13: Дотации бюджетам бюджетной системы Российской Федерации | C13: =C14+C16 -> 754.3 | D13: =D14 -> 563.6 | E13: =E14 -> 572.2
A14: 2 02 15001 00 0000 150 | B14: Дотации на выравнивание бюджетной обеспеченности | C14: =C15 -> 664.3 | D14: =D15 -> 563.6 | E14: =E15 -> 572.2
A15: 2 02 15001 10 0000 150 | B15: Дотации бюджетам сельских поселений на выравнивание бюджетной обеспеченности из бюджета субъекта Российской Федерации | C15: 664.3 | D15: 563.6 | E15: 572.2
A16: 2 02 15002 00 0000 150 | B16: Датация бюджетам на поддержку мер по обеспечению сбалансированности бюджетов | C16: =C17 -> 90
A17: 2 02 15002 10 0000 150 | B17: Дотации бюджетамсельских поселений на поддержку мер по обеспечению сбалансированности бюджетов | C17: 90
A18: 2 02 20000 00 0000 150 | B18: Субсидии бюджетам бюджетной системы Российской Федерации (межбюджетные субсидии) | C18: =C19 -> 34.3
A19: 2 02 29999 00 0000 150 | B19: Прочие субсидии | C19: =C20 -> 34.3
A20: 2 02 29999 10 0000 150 | B20: Прочие субсидии бюджетам сельских поселений | C20: 34.3
A21: 2 02 30000 00 0000 150 | B21: Субвенции бюджетам бюджетной системы Российской Федерации | C21: =C22+C24 -> 132.4 | D21: =D22+D24 -> 146.1 | E21: =E22+E24 -> 160.2
A22: 2 02 30024 00 0000 150 | B22: Субвенции местным бюджетам на выполнение передаваемых полномочий субъектов Российской Федерации | C22: =C23 -> 0.3 | D22: =D23 -> 0.4 | E22: =E23 -> 0.4
A23: 2 02 30024 10 0000 150 | B23: Субвенции бюджетам сельских поселений на выполнение передаваемых полномочий субъектов Российской Федерации | C23: 0.3 | D23: 0.4 | E23: 0.4
A24: 2 02 35118 00 0000 150 | B24: Субвенции бюджетам на осуществление первичного воинского учета органами местного самоуправления поселений,муниципальных и городских округов | C24: =C25 -> 132.1 | D24: =D25 -> 145.7 | E24: =E25 -> 159.8
A25: 2 02 35118 10 0000 150 | B25: Субвенции бюджетам сельских поселений на осуществление первичного воинского учета органами местного самоуправления поселений,муниципальных и городских округов | C25: 132.1 | D25: 145.7 | E25: 159.8
A26: 2 02 40000 00 0000 150 | B26: Иные межбюджетные трансферты | C26: =C27 -> 261.2 | D26: =D27 -> 126.2 | E26: =E27 -> 126.2
A27: 2 02 40014 00 0000 150 | B27: Межбюджетные трансферты, передаваемые бюджетам муниципальных образований на осуществление части полномочий по решению вопросов местного значения в соответствии с заключенными соглашениями | C27: =C28 -> 261.2 | D27: =D28 -> 126.2 | E27: =E28 -> 126.2
A28: 2 02 40014 10 0000 150 | B28: Межбюджетные трансферты, передаваемые бюджетам сельских поселений из бюджетов муниципальных районов на осуществление части полномочий по решению вопросов местного значения в соответствии с заключенными соглашениями | C28: 261.2 | D28: 126.2 | E28: 126.2

Sheet Приложение 2
I1: Приложение 2 к решению Совета депутатов Константиновского сельского поселения Ромодановского муниципального района Республики Мордовия «О внесении изменений в решение Совета депутатов Константиновского сельского поселения Ромодановского муниципального района Республики Мордовия от 26 декабря 2023 г № 19 «О бюджете Константиновского сельского поселения Ромодановского муниципального района Республики Мордовия на 2024 год и на плановый период 2025 и 2026 годов» Приложение 3 к решению Совета депутатов Константиновского сельского поселения Ромодановского муниципального района Республики Мордовия «О бюджете Константиновского сельского поселения Ромодановского муниципального района Республики Мордовия на 2024 год и на плановый период 2025 и 2026 годов»
A2: ВЕДОМСТВЕННАЯ СТРУКТУРА РАСХОДОВ БЮДЖЕТА КОНСТАНТИНОВСКОГО СЕЛЬСКОГО ПОСЕЛЕНИЯ РОМОДАНОВСКОГО МУНИЦИПАЛЬНОГО РАЙОНА РЕСПУБЛИКИ МОРДОВИЯ НА 2024 ГОД И НА ПЛАНОВЫЙ ПЕРИОД 2025 И 2026 ГОДОВ
I3: (тыс. рублей)
A4: Наименование | B4: Адм | C4: Рз | D4: Прз | E4: Цср | I4: Вр | J4: Сумма
J5: 2024 год | K5: 2025 год | L5: 2026 год
A6: 1 | B6: 2 | C6: 3 | D6: 4 | E6: 5 | F6: 6 | G6: 7 | H6: 8 | I6: 9 | J6: 10 | K6: 11 | L6: 12
A7: Администрация Константиновского сельского поселения Ромодановского муниципального района Республики Мордовия | B7: 914 | J7: =J8+J43+J53+J60+J77+J91+J84 -> 1845.5 | K7: =K8+K43+K53+K60+K77+K91+K84 -> 1277.8 | L7: =L8+L43+L53+L60+L77+L84+L91 -> 1307.5
A8: Общегосударственные вопросы | B8: 914 | C8: 01 | J8: =J9+J15+J37+J31 -> 1293.3 | K8: =K9+K15+K37 -> 782.3 | L8: =L9+L15+L37 -> 739.2
A9: Функционирование высшего должностного лица субъекта Российской Федерации и муниципального образования | B9: 914 | C9: 01 | D9: 02 | J9: =J10 -> 522.5 | K9: =K10 -> 339.5 | L9: =L10 -> 308.6
A10: Обеспечение деятельности Администрации Константиновского сельского поселения Ромодановского муниципального района Республики Мордовия | B10: 914 | C10: 01 | D10: 02 | E10: 65 | J10: =J11 -> 522.5 | K10: =K11 -> 339.5 | L10: =L11 -> 308.6
A11: Высшее должностное лицо | B11: 914 | C11: 01 | D11: 02 | E11: 65 | F11: 1 | J11: =J12 -> 522.5 | K11: =K12 -> 339.5 | L11: =L12 -> 308.6
A12: Расходы на выплаты по оплате труда высшего должностного лица | B12: 914 | C12: 01 | D12: 02 | E12: 65 | F12: 1 | G12: 00 | H12: 41150 | J12: =J13 -> 522.5 | K12: =K13 -> 339.5 | L12: =L13 -> 308.6
A13: Расходы на выплаты персоналу в целях обеспечения выполнения функций государственными (муниципальными) органами, казенными учреждениями, органами управления государственными внебюджетными фондами | B13: 914 | C13: 01 | D13: 02 | E13: 65 | F13: 1 | G13: 00 | H13: 41150 | I13: 100 | J13: =J14 -> 522.5 | K13: =K14 -> 339.5 | L13: =L14 -> 308.6
A14: Расходы на выплаты персоналу государственных (муниципальных) органов | B14: 914 | C14: 01 | D14: 02 | E14: 65 | F14: 1 | G14: 00 | H14: 41150 | I14: 120 | J14: 522.5 | K14: 339.5 | L14: 308.6
A15: Функционирование Правительства Российской Федерации, высших исполнительных органов государственной власти субъектов Российской Федерации, местных администраций | B15: 914 | C15: 01 | D15: 04 | J15: =J16+J26 -> 750.8 | K15: =K16+K26 -> 437.8 | L15: =L16+L26 -> 425.6
A16: =A10 -> Обеспечение деятельности Администрации Константиновского сельского поселения Ромодановского муниципального района Республики Мордовия | B16: 914 | C16: 01 | D16: 04 | E16: 65 | J16: =J17 -> 750.5 | K16: =K17 -> 437.4 | L16: =L17 -> 425.2
A17: Расходы в рамках обеспечения деятельности Администрации Константиновского сельского поселения | B17: 914 | C17: 01 | D17: 04 | E17: 65 | F17: 2 | J17: =J18+J21 -> 750.5 | K17: =K21+K18 -> 437.4 | L17: =L18+L21 -> 425.2
A18: Расходы на выплаты по оплате труда работников органов местного самоуправления | B18: 914 | C18: 01 | D18: 04 | E18: 65 | F18: 2 | G18: 00 | H18: 41100 | J18: =J19 -> 366.6 | K18: =K19 -> 299 | L18: =L19 -> 299
A19: Расходы на выплаты персоналу в целях обеспечения выполнения функций государственными (муниципальными) органами, казенными учреждениями, органами управления государственными внебюджетными фондами | B19: 914 | C19: 01 | D19: 04 | E19: 65 | F19: 2 | G19: 00 | H19: 41100 | I19: 100 | J19: =J20 -> 366.6 | K19: =K20 -> 299 | L19: =L20 -> 299
A20: Расходы на выплаты персоналу государственных (муниципальных) органов | B20: 914 | C20: 01 | D20: 04 | E20: 65 | F20: 2 | G20: 00 | H20: 41100 | I20: 120 | J20: 366.6 | K20: 299 | L20: 299
A21: Расходы на обеспечение функций органов местного самоуправления | B21: 914 | C21: 01 | D21: 04 | E21: 65 | F21: 2 | G21: 00 | H21: 41120 | J21: =+J22+J24 -> 383.9 | K21: =+K22+K24 -> 138.4 | L21: =L22+L24 -> 126.2
A22: Закупка товаров, работ и услуг для обеспечения государственных (муниципальных) нужд | B22: 914 | C22: 01 | D22: 04 | E22: 65 | F22: 2 | G22: 00 | H22: 41120 | I22: 200 | J22: =J23 -> 378.9 | K22: =K23 -> 133.4 | L22: =L23 -> 121.2
A23: Иные закупки товаров, работ и услуг для обеспечения государственных (муниципальных) нужд | B23: 914 | C23: 01 | D23: 04 | E23: 65 | F23: 2 | G23: 00 | H23: 41120 | I23: 240 | J23: 378.9 | K23: 133.4 | L23: 121.2
A24: Иные бюджетные ассигнования | B24: 914 | C24: 01 | D24: 04 | E24: 65 | F24: 2 | G24: 00 | H24: 41120 | I24: 800 | J24: =J25 -> 5 | K24: =K25 -> 5 | L24: =L25 -> 5
A25: Уплата налогов, сборов и иных платежей | B25: 914 | C25: 01 | D25: 04 | E25: 65 | F25: 2 | G25: 00 | H25: 41120 | I25: 850 | J25: 5 | K25: 5 | L25: 5
A26: Непрограммные расходы главных распорядителей средств бюджетаКонстантиновского сельского поселения Ромодановского муниципального района Республики Мордовия | B26: 914 | C26: 01 | D26: 04 | E26: 89 | J26: =J27 -> 0.3 | K26: =K27 -> 0.4 | L26: =L27 -> 0.4
A27: Непрограммные расходы в рамках обеспечения деятельности главных распорядителей средств бюджетаКонстантиновского сельского поселения Ромодановского муниципального района Республики Мордовия | B27: 914 | C27: 01 | D27: 04 | E27: 89 | F27: 1 | J27: =J28 -> 0.3 | K27: =K28 -> 0.4 | L27: =L28 -> 0.4
A28: Осуществление государственных полномочий Республики Мордовия по определению перечня должностных лиц, уполномоченных составлять протоколы об административных правонарушениях, предусмотренных Законом Республики Мордовия от 15 июня 2015 года № 38-З "Об административной ответственности на территории Республики Мордовия" | B28: 914 | C28: 01 | D28: 04 | E28: 89 | F28: 1 | G28: 00 | H28: 77150 | J28: =J29 -> 0.3 | K28: =K29 -> 0.4 | L28: =L29 -> 0.4
A29: Закупка товаров, работ и услуг для обеспечения государственных (муниципальных) нужд | B29: 914 | C29: 01 | D29: 04 | E29: 89 | F29: 1 | G29: 00 | H29: 77150 | I29: 200 | J29: =J30 -> 0.3 | K29: =K30 -> 0.4 | L29: =L30 -> 0.4
A30: Иные закупки товаров, работ и услуг для обеспечения государственных (муниципальных) нужд | B30: 914 | C30: 01 | D30: 04 | E30: 89 | F30: 1 | G30: 00 | H30: 77150 | I30: 240 | J30: 0.3 | K30: 0.4 | L30: 0.4
A31: Обеспечение проведения выборов и референдумов | B31: 914 | C31: 01 | D31: 07 | J31: =J32 -> 15
A32: =A26 -> Непрограммные расходы главных распорядителей средств бюджетаКонстантиновского сельского поселения Ромодановского муниципального района Республики Мордовия | B32: 914 | C32: 01 | D32: 07 | E32: 89 | J32: =J33 -> 15
A33: =A27 -> Непрограммные расходы в рамках обеспечения деятельности главных распорядителей средств бюджетаКонстантиновского сельского поселения Ромодановского муниципального района Республики Мордовия | B33: 914 | C33: 01 | D33: 07 | E33: 89 | F33: 1 | J33: =J34 -> 15
A34: Проведение выборов депутатов Константиновского сельского поселения Ромодановского муниципального района Республики Мордовия | B34: 914 | C34: 01 | D34: 07 | E34: 89 | F34: 1 | G34: 00 | H34: 41130 | J34: =J35 -> 15
A35: Иные бюджетные ассигнования | B35: 914 | C35: 01 | D35: 07 | E35: 89 | F35: 1 | G35: 00 | H35: 41130 | I35: 800 | J35: =J36 -> 15
A36: Специальные расхода | B36: 914 | C36: 01 | D36: 07 | E36: 89 | F36: 1 | G36: 00 | H36: 41130 | I36: 880 | J36: 15
A37: Резервные фонды | B37: 914 | C37: 01 | D37: 11 | J37: =J38 -> 5 | K37: =K38 -> 5 | L37: =L38 -> 5
A38: Непрограммные расходы главных распорядителей средств бюджета Константиновского сельского поселения Ромодановского муниципального района Республики Мордовия | B38: 914 | C38: 01 | D38: 11 | E38: 89 | J38: =J39 -> 5 | K38: =K39 -> 5 | L38: =L39 -> 5
A39: Непрограммные расходы в рамках обеспечения деятельности главных распорядителей средств бюджета Константиновского сельского поселения Ромодановского муниципального района Республики Мордовия | B39: 914 | C39: 01 | D39: 11 | E39: 89 | F39: 1 | J39: =J40 -> 5 | K39: =K40 -> 5 | L39: =L40 -> 5
A40: Резервный фонд администрации Константиновского сельского поселения Ромодановского муниципального района Республики Мордовия | B40: 914 | C40: 01 | D40: 11 | E40: 89 | F40: 1 | G40: 00 | H40: 41180 | J40: =J42 -> 5 | K40: =K42 -> 5 | L40: =L41 -> 5
...

Sheet Приложение 3
H1: Приложение 3 к решению Совета депутатов Константиновского сельского поселения Ромодановского муниципального района Республики Мордовия «О внесении изменений в решение Совета депутатов Константиновского сельского поселения Ромодановского муниципального района Республики Мордовия от 26 декабря 2023 г № 19 «О бюджете Константиновского сельского поселения Ромодановского муниципального района Республики Мордовия на 2024 год и на плановый период 2025 и 2026 годов» Приложение 4 к решению Совета депутатов Константиновского сельского поселения Ромодановского муниципального района Республики Мордовия «О бюджете Константиновского сельского поселения Ромодановского муниципального района Республики Мордовия на 2024 год и на плановый период 2025 и 2026 годов»
A2: РАСПРЕДЕЛЕНИЕ БЮДЖЕТНЫХ АССИГНОВАНИЙ БЮДЖЕТА КОНСТАНТИНОВСКОГО СЕЛЬСКОГО ПОСЕЛЕНИЯ РОМОДАНОВСКОГО МУНИЦИПАЛЬНОГО РАЙОНА РЕСПУБЛИКИ МОРДОВИЯ ПО РАЗДЕЛАМ, ПОДРАЗДЕЛАМ, ЦЕЛЕВЫМ СТАТЬЯМ (МУНИЦИПАЛЬНЫМ ПРОГРАММАМ И НЕПРОГРАММНЫМ НАПРАВЛЕНИЯМ ДЕЯТЕЛЬНОСТИ), ГРУППАМ И ПОДГРУППАМ ВИДОВ РАСХОДОВ КЛАССИФИКАЦИИ РАСХОДОВ БЮДЖЕТОВ НА 2024 ГОД И НА ПЛАНОВЫЙ ПЕРИОД 2025 И 2026 ГОДОВ
H3: (тыс. рублей)
A4: Наименование | B4: Рз | C4: Прз | D4: Цср | H4: Вр | I4: Сумма
I5: 2024 год | J5: 2025 год | K5: 2026 год
A6: ВСЕГО | B6: 2 | C6: 3 | D6: 4 | E6: 5 | F6: 6 | G6: 7 | H6: 8 | I6: 9 | J6: 10 | K6: 11
A7: Администрация Константиновского сельского поселения Ромодановского муниципального района Республики Мордовия | I7: =I8+I43+I53+I60+I77+I84 -> 1845.5 | J7: =J8+J43+J53+J60+J77+J91+J84 -> 1277.8 | K7: =K8+K43+K53+K60+K77+K91+K84 -> 1307.5
A8: Общегосударственные вопросы | B8: 01 | I8: =I9+I15+I37+I31 -> 1293.3 | J8: =J9+J15+J37 -> 782.3 | K8: =K9+K15+K37 -> 739.2
A9: Функционирование высшего должностного лица субъекта Российской Федерации и муниципального образования | B9: 01 | C9: 02 | I9: =I10 -> 522.5 | J9: =J10 -> 339.5 | K9: =K10 -> 308.6
A10: ='Приложение 2'!A10 -> Обеспечение деятельности Администрации Константиновского сельского поселения Ромодановского муниципального района Республики Мордовия | B10: 01 | C10: 02 | D10: 65 | I10: =I11 -> 522.5 | J10: =J11 -> 339.5 | K10: =K11 -> 308.6
A11: Высшее должностное лицо | B11: 01 | C11: 02 | D11: 65 | E11: 1 | I11: =I12 -> 522.5 | J11: =J12 -> 339.5 | K11: =K12 -> 308.6
A12: Расходы на выплаты по оплате труда высшего должностного лица | B12: 01 | C12: 02 | D12: 65 | E12: 1 | F12: 00 | G12: 41150 | I12: =I13 -> 522.5 | J12: =J13 -> 339.5 | K12: =K13 -> 308.6
A13: Расходы на выплаты персоналу в целях обеспечения выполнения функций государственными (муниципальными) органами, казенными учреждениями, органами управления государственными внебюджетными фондами | B13: 01 | C13: 02 | D13: 65 | E13: 1 | F13: 00 | G13: 41150 | H13: 100 | I13: =I14 -> 522.5 | J13: =J14 -> 339.5 | K13: =K14 -> 308.6
A14: Расходы на выплаты персоналу государственных (муниципальных) органов | B14: 01 | C14: 02 | D14: 65 | E14: 1 | F14: 00 | G14: 41150 | H14: 120 | I14: ='Приложение 2'!J14 -> 522.5 | J14: ='Приложение 2'!K14 -> 339.5 | K14: ='Приложение 2'!L12 -> 308.6
A15: ='Приложение 2'!A15 -> Функционирование Правительства Российской Федерации, высших исполнительных органов государственной власти субъектов Российской Федерации, местных администраций | B15: 01 | C15: 04 | I15: =I16+I26 -> 750.8 | J15: =J16+J26 -> 437.8 | K15: =K16+K26 -> 425.6
A16: ='Приложение 2'!A16 -> Обеспечение деятельности Администрации Константиновского сельского поселения Ромодановского муниципального района Республики Мордовия | B16: 01 | C16: 04 | D16: 65 | I16: =I17 -> 750.5 | J16: =J17 -> 437.4 | K16: =K17 -> 425.2
A17: ='Приложение 2'!A17 -> Расходы в рамках обеспечения деятельности Администрации Константиновского сельского поселения | B17: 01 | C17: 04 | D17: 65 | E17: 2 | I17: =I18+I21 -> 750.5 | J17: =J21+J18 -> 437.4 | K17: =K21+K18 -> 425.2
A18: ='Приложение 2'!A18 -> Расходы на выплаты по оплате труда работников органов местного самоуправления | B18: 01 | C18: 04 | D18: 65 | E18: 2 | F18: 00 | G18: 41100 | I18: =I19 -> 366.6 | J18: =J19 -> 299 | K18: =K19 -> 299
A19: ='Приложение 2'!A19 -> Расходы на выплаты персоналу в целях обеспечения выполнения функций государственными (муниципальными) органами, казенными учреждениями, органами управления государственными внебюджетными фондами | B19: 01 | C19: 04 | D19: 65 | E19: 2 | F19: 00 | G19: 41100 | H19: 100 | I19: =I20 -> 366.6 | J19: =J20 -> 299 | K19: =K20 -> 299
A20: ='Приложение 2'!A20 -> Расходы на выплаты персоналу государственных (муниципальных) органов | B20: 01 | C20: 04 | D20: 65 | E20: 2 | F20: 00 | G20: 41100 | H20: 120 | I20: ='Приложение 2'!J20 -> 366.6 | J20: ='Приложение 2'!K20 -> 299 | K20: ='Приложение 2'!L20 -> 299
A21: Расходы на обеспечение функций органов местного самоуправления | B21: 01 | C21: 04 | D21: 65 | E21: 2 | F21: 00 | G21: 41120 | I21: =+I22+I24 -> 383.9 | J21: =J22+J24 -> 138.4 | K21: =+K22+K24 -> 126.2
A22: Закупка товаров, работ и услуг для обеспечения государственных (муниципальных) нужд | B22: 01 | C22: 04 | D22: 65 | E22: 2 | F22: 00 | G22: 41120 | H22: 200 | I22: =I23 -> 378.9 | J22: =J23 -> 133.4 | K22: =K23 -> 121.2
A23: Иные закупки товаров, работ и услуг для обеспечения государственных (муниципальных) нужд | B23: 01 | C23: 04 | D23: 65 | E23: 2 | F23: 00 | G23: 41120 | H23: 240 | I23: ='Приложение 2'!J23 -> 378.9 | J23: ='Приложение 2'!K23 -> 133.4 | K23: ='Приложение 2'!L23 -> 121.2
A24: Иные бюджетные ассигнования | B24: 01 | C24: 04 | D24: 65 | E24: 2 | F24: 00 | G24: 41120 | H24: 800 | I24: =I25 -> 5 | J24: =J25 -> 5 | K24: =K25 -> 5
A25: Уплата налогов, сборов и иных платежей | B25: 01 | C25: 04 | D25: 65 | E25: 2 | F25: 00 | G25: 41120 | H25: 850 | I25: ='Приложение 2'!J25 -> 5 | J25: ='Приложение 2'!K25 -> 5 | K25: ='Приложение 2'!L25 -> 5
A26: Непрограммные расходы главных распорядителей средств бюджета Константиновского сельского поселения Ромодановского муниципального района Республики Мордовия | B26: 01 | C26: 04 | D26: 89 | I26: =I27 -> 0.3 | J26: =J27 -> 0.4 | K26: =K27 -> 0.4
A27: Непрограммные расходы в рамках обеспечения деятельности главных распорядителей средств бюджета Константиновского сельского поселения Ромодановского муниципального района Республики Мордовия | B27: 01 | C27: 04 | D27: 89 | E27: 1 | I27: =I28 -> 0.3 | J27: =J28 -> 0.4 | K27: =K28 -> 0.4
A28: Осуществление государственных полномочий Республики Мордовия по определению перечня должностных лиц, уполномоченных составлять протоколы об административных правонарушениях, предусмотренных Законом Республики Мордовия от 15 июня 2015 года № 38-З "Об административной ответственности на территории Республики Мордовия" | B28: 01 | C28: 04 | D28: 89 | E28: 1 | F28: 00 | G28: 77150 | I28: =I29 -> 0.3 | J28: =J29 -> 0.4 | K28: =K29 -> 0.4
A29: Закупка товаров, работ и услуг для обеспечения государственных (муниципальных) нужд | B29: 01 | C29: 04 | D29: 89 | E29: 1 | F29: 00 | G29: 77150 | H29: 200 | I29: =I30 -> 0.3 | J29: =J30 -> 0.4 | K29: =K30 -> 0.4
A30: Иные закупки товаров, работ и услуг для обеспечения государственных (муниципальных) нужд | B30: 01 | C30: 04 | D30: 89 | E30: 1 | F30: 00 | G30: 77150 | H30: 240 | I30: ='Приложение 2'!J30 -> 0.3 | J30: ='Приложение 2'!K30 -> 0.4 | K30: ='Приложение 2'!L30 -> 0.4
A31: ='Приложение 2'!A31 -> Обеспечение проведения выборов и референдумов | B31: 01 | C31: 07 | I31: =I32 -> 15
A32: ='Приложение 2'!A32 -> Непрограммные расходы главных распорядителей средств бюджетаКонстантиновского сельского поселения Ромодановского муниципального района Республики Мордовия | B32: 01 | C32: 07 | D32: 89 | I32: =I33 -> 15
A33: ='Приложение 2'!A33 -> Непрограммные расходы в рамках обеспечения деятельности главных распорядителей средств бюджетаКонстантиновского сельского поселения Ромодановского муниципального района Республики Мордовия | B33: 01 | C33: 07 | D33: 89 | E33: 1 | I33: =I34 -> 15
A34: ='Приложение 2'!A34 -> Проведение выборов депутатов Константиновского сельского поселения Ромодановского муниципального района Республики Мордовия | B34: 01 | C34: 07 | D34: 89 | E34: 1 | F34: 00 | G34: 41130 | I34: =I35 -> 15
A35: ='Приложение 2'!A35 -> Иные бюджетные ассигнования | B35: 01 | C35: 07 | D35: 89 | E35: 1 | F35: 00 | G35: 41130 | H35: 800 | I35: =I36 -> 15
A36: ='Приложение 2'!A36 -> Специальные расхода | B36: 01 | C36: 07 | D36: 89 | E36: 1 | F36: 00 | G36: 41130 | H36: 880 | I36: ='Приложение 2'!J36 -> 15
A37: Резервные фонды | B37: 01 | C37: 11 | I37: =I38 -> 5 | J37: =J38 -> 5 | K37: =K38 -> 5
A38: Непрограммные расходы главных распорядителей средств бюджета Константиновского сельского поселения Ромодановского муниципального района Республики Мордовия | B38: 01 | C38: 11 | D38: 89 | I38: =I39 -> 5 | J38: =J39 -> 5 | K38: =K39 -> 5
A39: Непрограммные расходы в рамках обеспечения деятельности главных распорядителей средств бюджета Константиновского сельского поселения Ромодановского муниципального района Республики Мордовия | B39: 01 | C39: 11 | D39: 89 | E39: 1 | I39: =I40 -> 5 | J39: =J40 -> 5 | K39: =K40 -> 5
A40: ='Приложение 2'!A40 -> Резервный фонд администрации Константиновского сельского поселения Ромодановского муниципального района Республики Мордовия | B40: 01 | C40: 11 | D40: 89 | E40: 1 | F40: 00 | G40: 41180 | I40: =I42 -> 5 | J40: =J42 -> 5 | K40: =K42 -> 5
...

Sheet Приложение4 
I1: Приложение 4 к решению Совета депутатов Константиновского сельского поселения Ромодановского муниципального района Республики Мордовия «О внесении изменений в решение Совета депутатов Константиновского сельского поселения Ромодановского муниципального района Республики Мордовия от 26 декабря 2023 г № 19 «О бюджете Константиновского сельского поселения Ромодановского муниципального района Республики Мордовия на 2024 год и на плановый период 2025 и 2026 годов» Приложение 5 к решению Совета депутатов Константиновского сельского поселения Ромодановского муниципального района Республики Мордовия «О бюджете Константиновского сельского поселения Ромодановского муниципального района Республики Мордовия на 2024 год и на плановый период 2025 и 2026 годов»
A2: РАСПРЕДЕЛЕНИЕ БЮДЖЕТНЫХ АССИГНОВАНИЙ БЮДЖЕТА КОНСТАНТИНОВСКОГО СЕЛЬСКОГО ПОСЕЛЕНИЯ РОМОДАНОВСКОГО МУНИЦИПАЛЬНОГО РАЙОНА РЕСПУБЛИКИ МОРДОВИЯ ПО ЦЕЛЕВЫМ СТАТЬЯМ (МУНИЦИПАЛЬНЫМ ПРОГРАММАМ И НЕПРОГРАММНЫМ НАПРАВЛЕНИЯМ ДЕЯТЕЛЬНОСТИ), ГРУППАМ И ПОДГРУППАМ ВИДОВ РАСХОДОВ, РАЗДЕЛАМ И ПОДРАЗДЕЛАМ КЛАССИФИКАЦИИ РАСХОДОВ БЮДЖЕТОВ НА 2024 ГОД И НА ПЛАНОВЫЙ ПЕРИОД 2025 И 2026 ГОДОВ
I3: (тыс. рублей)
A4: Наименование | B4: Цср | F4: ВР | G4: Рз | H4: Прз | I4: Адм | J4: Сумма
J5: 2024 год | K5: 2025 год | L5: 2026 год
A6: 1 | B6: 2 | C6: 3 | D6: 4 | E6: 5 | F6: 6 | G6: 7 | H6: 8 | I6: 9 | J6: 10 | K6: 11 | L6: 12
A7: ВСЕГО | J7: =J8+J23+J31+J45+J77 -> 1845.5 | K7: =K8+K23+K31+K45+K77 -> 1277.8 | L7: =L8+L23+L31+L45+L77 -> 1307.5
A8: ='Приложение 3'!A68 -> Муниципальная программа "Комплексного развития социальной инфраструктуры Константиновского сельского поселения Ромодановского муниципального района Республики Мордовия на 2018-2030 года" | B8: 10 | J8: =J9+J16 -> 76.8 | K8: =K9+K16 -> 150 | L8: =L9+L16 -> 177.8
A9: Основное мероприятия "Благоустройство территории"" | B9: 10 | C9: 0 | D9: 07 | J9: =J10 -> 76.8 | K9: =K10 -> 100 | L9: =L10 -> 127.8
A10: ='Приложение 2'!A70 -> Прочие мероприятия по благоустройству | B10: 10 | C10: 0 | D10: 07 | E10: 43040 | J10: =J11 -> 76.8 | K10: =K11 -> 100 | L10: =L11 -> 127.8
A11: Закупка товаров, работ и услуг для обеспечения государственных (муниципальных) нужд | B11: 10 | C11: 0 | D11: 07 | E11: 43040 | F11: 200 | J11: =J12 -> 76.8 | K11: =K12 -> 100 | L11: =L12 -> 127.8
A12: Иные закупки товаров, работ и услуг для обеспечения государственных (муниципальных) нужд | B12: 10 | C12: 0 | D12: 07 | E12: 43040 | F12: 240 | J12: =J13 -> 76.8 | K12: ='Приложение 2'!K72 -> 100 | L12: =L13 -> 127.8
A13: Жилищно-коммунальное хозяйство | B13: 10 | C13: 0 | D13: 07 | E13: 43040 | F13: 240 | G13: 05 | J13: =J14 -> 76.8 | K13: =K14 -> 100 | L13: =L14 -> 127.8
A14: Благоустройство | B14: 10 | C14: 0 | D14: 07 | E14: 43040 | F14: 240 | G14: 05 | H14: 03 | J14: =J15 -> 76.8 | K14: =K15 -> 100 | L14: =L15 -> 127.8
A15: Администрация Константиновского сельского поселения Ромодановского муниципального района Республики Мордовия | B15: 10 | C15: 0 | D15: 07 | E15: 43040 | F15: 240 | G15: 05 | H15: 03 | I15: 914 | J15: ='Приложение 2'!J72 -> 76.8 | K15: ='Приложение 2'!K72 -> 100 | L15: ='Приложение 2'!L72 -> 127.8
A16: ='Приложение 2'!A73 -> Основное мероприятие "Освещение территории сельского поселения" | B16: 10 | C16: 0 | D16: 08 | J16: =J17 -> 0 | K16: =K17 -> 50 | L16: =L17 -> 50
A17: ='Приложение 2'!A74 -> Уличное освещение | B17: 10 | C17: 0 | D17: 08 | E17: 43010 | J17: =J18 -> 0 | K17: =K18 -> 50 | L17: =L18 -> 50
A18: Закупка товаров, работ и услуг для обеспечения государственных (муниципальных) нужд | B18: 10 | C18: 0 | D18: 08 | E18: 43010 | F18: 200 | J18: =J19 -> 0 | K18: =K19 -> 50 | L18: =L19 -> 50
A19: Иные закупки товаров, работ и услуг для обеспечения государственных (муниципальных) нужд | B19: 10 | C19: 0 | D19: 08 | E19: 43010 | F19: 240 | J19: =J20 -> 0 | K19: =K20 -> 50 | L19: =L20 -> 50
A20: Жилищно-коммунальное хозяйство | B20: 10 | C20: 0 | D20: 08 | E20: 43010 | F20: 240 | G20: 05 | J20: =J21 -> 0 | K20: =K21 -> 50 | L20: =L21 -> 50
A21: Благоустройство | B21: 10 | C21: 0 | D21: 08 | E21: 43010 | F21: 240 | G21: 05 | H21: 03 | J21: =J22 -> 0 | K21: =K22 -> 50 | L21: =L22 -> 50
A22: Администрация Константиновского сельского поселения Ромодановского муниципального района Республики Мордовия | B22: 10 | C22: 0 | D22: 08 | E22: 43010 | F22: 240 | G22: 05 | H22: 03 | I22: 914 | J22: ='Приложение 2'!J76 -> 0 | K22: ='Приложение 2'!K76 -> 50 | L22: ='Приложение 2'!L76 -> 50
A23: ='Приложение 2'!A55 -> Муниципальная программа «Комплексного развития транспортной инфраструктуры Константиновского сельского поселения Ромодановского муниципального района Республики Мордовия на 2017- 2027 года" | B23: 13 | J23: =J24 -> 261.2 | K23: =K24 -> 126.2 | L23: =L24 -> 126.2
A24: Основное мероприятие "Ремонт и содержание дорог в границах поселения, поддержание дорожного полотна в работоспособном состоянии" | B24: 13 | C24: 0 | D24: 01 | J24: =J25 -> 261.2 | K24: =K25 -> 126.2 | L24: =L25 -> 126.2
A25: ='Приложение 2'!A57 -> Иные межбюджетные трансферты на осуществление полномочий по дорожной деятельности в отношении автомобильных дорог местного значения в границах населенных пунктов поселения и обеспечению безопасности дорожного движения на них, включая создание и обеспечение функционирования парковок (парковочных мест), осуществлению муниципального контроля на автомобильном транспорте, городском наземном электрическом транспорте и в дорожном хозяйстве в границах населенных пунктов поселения, организации дорожного движения, а также осуществлению иных полномочий в области использования автомобильных дорог и осуществления дорожной деятельности в соответствии с законодательством Российской Федерации | B25: 13 | C25: 0 | D25: 01 | E25: 44102 | J25: =J26 -> 261.2 | K25: =K26 -> 126.2 | L25: =L26 -> 126.2
A26: Закупка товаров, работ и услуг для обеспечения государственных (муниципальных) нужд | B26: 13 | C26: 0 | D26: 01 | E26: 44102 | F26: 200 | J26: =J27 -> 261.2 | K26: =K27 -> 126.2 | L26: =L27 -> 126.2
A27: Иные закупки товаров, работ и услуг для обеспечения государственных (муниципальных) нужд | B27: 13 | C27: 0 | D27: 01 | E27: 44102 | F27: 240 | J27: =J28 -> 261.2 | K27: =K28 -> 126.2 | L27: =L28 -> 126.2
A28: Национальная экономика | B28: 13 | C28: 0 | D28: 01 | E28: 44102 | F28: 240 | G28: 04 | J28: =J29 -> 261.2 | K28: =K29 -> 126.2 | L28: =L29 -> 126.2
A29: ='Приложение 2'!A54 -> Дорожное хозяйство (дорожные фонды) | B29: 13 | C29: 0 | D29: 01 | E29: 44102 | F29: 240 | G29: 04 | H29: 09 | J29: =J30 -> 261.2 | K29: =K30 -> 126.2 | L29: =L30 -> 126.2
A30: Администрация Константиновского сельского поселения Ромодановского муниципального района Республики Мордовия | B30: 13 | C30: 0 | D30: 01 | E30: 44102 | F30: 240 | G30: 04 | H30: 09 | I30: 914 | J30: ='Приложение 2'!J59 -> 261.2 | K30: ='Приложение 2'!K59 -> 126.2 | L30: ='Приложение 2'!L59 -> 126.2
A31: ='Приложение 2'!A45 -> Государственная программа повышения эффективности управления государственными финансами в Республики Мордовия | B31: 17 | J31: =J32 -> 132.1 | K31: =K32 -> 145.7 | L31: =L32 -> 159.8
A32: Подпрограмма "Повышения эффективности межбюджетных отношений" | B32: 17 | C32: 3 | J32: =J33 -> 132.1 | K32: =K33 -> 145.7 | L32: =L33 -> 159.8
A33: Основное мероприятие "Обеспечение и осуществления органами местного самоуправления отдельных государственных полномочий" | B33: 17 | C33: 3 | D33: 02 | J33: =J34 -> 132.1 | K33: =K34 -> 145.7 | L33: =L34 -> 159.8
A34: ='Приложение 2'!A48 -> Осуществление государственных полномочий Российской Федерации по воинскому учету в поселениях, на территориях которых отсутствуют структурные подразделения военных комиссариатов | B34: 17 | C34: 3 | D34: 02 | E34: 51180 | J34: =J40+J35 -> 132.1 | K34: =K40+K35 -> 145.7 | L34: =L40+L35 -> 159.8
A35: Расходы на выплаты персоналу в целях обеспечения выполнения функций государственными (муниципальными) органами, казенными учреждениями, органами управления государственными внебюджетными фондами | B35: 17 | C35: 3 | D35: 02 | E35: 51180 | F35: 100 | J35: =J36 -> 127.1 | K35: =K36 -> 140.7 | L35: =L36 -> 154.8
A36: Расходы на выплаты персоналу государственных (муниципальных) органов | B36: 17 | C36: 3 | D36: 02 | E36: 51180 | F36: 120 | J36: =J37 -> 127.1 | K36: =K37 -> 140.7 | L36: =L37 -> 154.8
A37: Национальная оборона | B37: 17 | C37: 3 | D37: 02 | E37: 51180 | F37: 120 | G37: 02 | J37: =J38 -> 127.1 | K37: =K38 -> 140.7 | L37: =L38 -> 154.8
A38: Мобилизационная и вневойсковая подготовка | B38: 17 | C38: 3 | D38: 02 | E38: 51180 | F38: 120 | G38: 02 | H38: 03 | J38: =J39 -> 127.1 | K38: =K39 -> 140.7 | L38: =L39 -> 154.8
A39: Администрация Константиновского сельского поселения Ромодановского муниципального района Республики Мордовия | B39: 17 | C39: 3 | D39: 02 | E39: 51180 | F39: 120 | G39: 02 | H39: 03 | I39: 914 | J39: ='Приложение 2'!J50 -> 127.1 | K39: ='Приложение 2'!K50 -> 140.7 | L39: ='Приложение 2'!L50 -> 154.8
A40: Закупка товаров, работ и услуг для обеспечения государственных (муниципальных) нужд | B40: 17 | C40: 3 | D40: 02 | E40: 51180 | F40: 200 | J40: =J41 -> 5 | K40: =K41 -> 5 | L40: =L41 -> 5
...

Sheet прил 5
C2: Приложение 5 к решению Совета депутатов Константиновского сельского поселения Ромодановского муниципального района Республики Мордовия «О внесении изменений в решение Совета депутатов Константиновского сельского поселения Ромодановского муниципального района Республики Мордовия от 26 декабря 2023 г № 19 «О бюджете Константиновского сельского поселения Ромодановского муниципального района Республики Мордовия на 2024 год и на плановый период 2025 и 2026 годов» Приложение 6 к решению Совета депутатов Константиновского сельского поселения Ромодановского муниципального района Республики Мордовия «О бюджете Константиновского сельского поселения Ромодановского муниципального района Республики Мордовия на 2024 год и на плановый период 2025 и 2026 годов»
A3: ИСТОЧНИКИ ВНУТРЕННЕГО ФИНАНСИРОВАНИЯ ДЕФИЦИТА БЮДЖЕТА КОНСТАНТИНОВСКОГО СЕЛЬСКОГО ПОСЕЛЕНИЯ РОМОДАНОВСКОГО МУНИЦИПАЛЬНОГО РАЙОНА РЕСПУБЛИКИ МОРДОВИЯ НА 2024 ГОД И НА ПЛАНОВЫЙ ПЕРИОД 2025 и 2026 ГОДОВ
A7: Код | B7: Наименование кода группы, подгруппы, статьи, вида источника финансирования дефицитов бюджетов, кода классификации операций сектора государственного управления, относящихся к источникам финансирования дефицитов бюджетов Российской Федерации | C7: Сумма (тыс. руб.)
C8: 2024 год | D8: 2025 год | E8: 2026 год
A9: 1 | B9: 2 | C9: 3 | D9: 4 | E9: 5
A10: 000 01 00 00 00 00 0000 000 | B10: ИСТОЧНИКИ ВНУТРЕННЕГО ФИНАНСИРОВАНИЯ ДЕФИЦИТОВ БЮДЖЕТОВ | C10: =C11+C22+C14+C18 -> 145.9 | D10: =D11+D22+D14+D18 -> -48.6 | E10: =E11+E22+E14+E18 -> -60.8
A11: 000 01 02 00 00 00 0000 000 | B11: Кредиты кредитных организаций в валюте Российской Федерации | C11: =SUM(C12) -> 0 | D11: =SUM(D12) -> 0 | E11: =SUM(E12) -> 0
A12: 000 01 02 00 00 00 0000 700 | B12: Привлечение кредитов от кредитных организаций в валюте Российской Федерации | C12: =SUM(C13) -> 0 | D12: =SUM(D13) -> 0 | E12: =SUM(E13) -> 0
A13: 000 01 02 00 00 05 0000 710 | B13: Привлечение кредитов от кредитных организаций бюджетами муниципальных районов в валюте Российской Федерации | C13: 0 | D13: 0 | E13: 0
A14: 000 01 03 00 00 00 0000 000 | B14: Бюджетные кредиты из других бюджетов бюджетной системы Российской Федерации | C14: =C15 -> 0 | D14: =D15 -> -48.6 | E14: =E15 -> -60.8
A15: 000 01 03 01 00 00 0000 000 | B15: Бюджетные кредиты из других бюджетов бюджетной системы Российской Федерации в валюте Российской Федерации | C15: =C16 -> 0 | D15: =D16 -> -48.6 | E15: =E16 -> -60.8
A16: 000 01 03 01 00 00 0000 800 | B16: Погашение бюджетных кредитов, полученных из других бюджетов бюджетной системы Российской Федерации в валюте Российской Федерации | C16: 0 | D16: =SUM(D17) -> -48.6 | E16: =SUM(E17) -> -60.8
A17: 000 01 03 01 00 10 0000 810 | B17: Погашение бюджетами сельских поселений кредитов из других бюджетов бюджетной системы Российской Федерации в валюте Российской Федерации | C17: 0 | D17: -48.6 | E17: -60.8
A18: 000 01 06 00 00 00 0000 000 | B18: Иные источники внутреннего финансирования дефицитов бюджетов | C18: =C19 -> 0 | D18: =D19 -> 0 | E18: =E19 -> 0
A19: 000 01 06 05 00 00 0000 000 | B19: Бюджетные кредиты, предоставленные внутри страны в валюте Российской Федерации | C19: =C20 -> 0 | D19: =D20 -> 0 | E19: =E20 -> 0
A20: 000 01 06 05 02 00 0000 600 | B20: Возврат бюджетных кредитов, предоставленных другим бюджетам бюджетной системы Российской Федерации в валюте Российской Федерации | C20: =C21 -> 0 | D20: =D21 -> 0 | E20: =E21 -> 0
A21: 000 01 06 05 02 05 0000 640 | B21: Возврат бюджетных кредитов, предоставленных другим бюджетам бюджетной системы Российской Федерации из бюджетов муниципальных районов в валюте Российской Федерации | C21: 0 | D21: 0 | E21: 0
A22: 000 01 05 00 00 00 0000 000 | B22: Изменения остатков средств на счетах по учету средств бюджета | C22: =C23+C26 -> 145.9 | D22: =D23+D26 -> 0 | E22: =E23+E26 -> 0
A23: 000 01 05 02 00 00 0000 500 | B23: Увеличение прочих остатков средств бюджетов | C23: =SUM(C24) -> -1699.6 | D23: =SUM(D24) -> -1326.4 | E23: =SUM(E24) -> -1368.3
A24: 000 01 05 02 01 00 0000 510 | B24: Увеличение прочих остатков денежных средств бюджетов | C24: =SUM(C25) -> -1699.6 | D24: =SUM(D25) -> -1326.4 | E24: =SUM(E25) -> -1368.3
A25: 000 01 05 02 01 10 0000 510 | B25: Увеличение прочих остатков денежных средств бюджетов сельских поселений | C25: -1699.6 | D25: -1326.4 | E25: -1368.3
A26: 000 01 05 02 00 00 0000 600 | B26: Уменьшение прочих остатков средств бюджетов | C26: =SUM(C27) -> 1845.5 | D26: =SUM(D27) -> 1326.4 | E26: =SUM(E27) -> 1368.3
A27: 000 01 05 02 01 00 0000 610 | B27: Уменьшение прочих остатков денежных средств бюджетов | C27: =SUM(C28) -> 1845.5 | D27: =SUM(D28) -> 1326.4 | E27: =SUM(E28) -> 1368.3
A28: 000 01 05 02 01 05 0000 610 | B28: Уменьшение прочих остатков денежных средств бюджетов муниципальных районов | C28: 1845.5 | D28: 1326.4 | E28: 1368.3
A29: 000 01 00 00 00 00 0000 000 | B29: Итого источников внутреннего финансирования дефицита бюджета Константиновского сельского поселения Ромодановского муниципального района Республики Мордовия | C29: 0 | D29: 0 | E29: 0
B30: собственные доходы | C30: 517.4 | D30: 490.5 | E30: 509.7
