Workbook

Sheet Приложение 1
C1: Приложение 1 к решению Совета депутатов Набережного сельского поселения Ромодановского муниципального района Республики Мордовия «О внесении изменений в решение Совета депутатов Набережного сельского поселения Ромодановского муниципального района Республики Мордовия от 26 декабря 2024 г № 19 «О бюджете Набережного сельского поселения Ромодановского муниципального района Республики Мордовия на 2025 год и на плановый период 2026 и 2027 годов» Приложение 2 к решению Совета депутатов Набережного сельского поселения Ромодановского муниципального района Республики Мордовия «О бюджете Набережного сельского поселения Ромодановского муниципального района Республики Мордовия на 2025 год и на плановый период 2026 и 2027 годов»
A6: ОБЪЕМ БЕЗВОЗМЕЗДНЫХ ПОСТУПЛЕНИЙ В БЮДЖЕТ НАБЕРЕЖНОГО СЕЛЬСКОГО ПОСЕЛЕНИЯ РОМОДАНОВСКОГО МУНИЦИПАЛЬНОГО РАЙОНА РЕСПУБЛИКИ МОРДОВИЯ НА 2025 ГОД И НА ПЛАНОВЫЙ ПЕРИОД 2026 И 2027 ГОДОВ
E7: (тыс. рублей)
A8: Код | B8: Наименование | C8: Сумма
C9: 2025 год | D9: 2026 год | E9: 2027 год
A10: 1 | B10: 2 | C10: 3 | D10: 4 | E10: 5
A11: 2 00 00000 00 0000 000 | B11: БЕЗВОЗМЕЗДНЫЕ ПОСТУПЛЕНИЯ | C11: =C12 -> 3444.5 | D11: =D12 -> 1254.1 | E11: =E12 -> 1279.1
A12: 2 02 00000 00 0000 000 | B12: Безвозмездные поступления от других бюджетов бюджетной системы Российской Федерации | C12: =C13+C21+C26+C18 -> 3444.5 | D12: =D13+D21+D26 -> 1254.1 | E12: =E13+E21+E26 -> 1279.1
A13: 2 02 10000 00 0000 150 | B13: Дотации бюджетам бюджетной системы Российской Федерации | C13: =C14+C16 -> 1069.1 | D13: =D14 -> 724.7 | E13: =E14 -> 729.4
A14: 2 02 15001 00 0000 150 | B14: Дотации на выравнивание бюджетной обеспеченности | C14: =C15 -> 835.8 | D14: =D15 -> 724.7 | E14: =E15 -> 729.4
A15: 2 02 15001 10 0000 150 | B15: Дотации бюджетам сельских поселений на выравнивание бюджетной обеспеченности из бюджета субъекта Российской Федерации | C15: 835.8 | D15: 724.7 | E15: 729.4
A16: 2 02 15002 00 0000 150 | B16: Дотация бюджетам на поддержку мер по обеспечению сбалансированности бюджетов | C16: =C17 -> 233.3
A17: 2 02 15002 10 0000 150 | B17: Дотации бюджетам сельских поселений на поддержку мер по обеспечению сбалансированности бюджетов | C17: 233.3
A18: 2 02 20000 00 0000 150 | B18: Субсидии бюджетам бюджетной системы Российской Федерации (межбюджетные субсидии) | C18: =C20 -> 92.9
A19: 2 02 29999 00 0000 150 | B19: Прочие субсидии | C19: =C20 -> 92.9
A20: 2 02 29999 10 0000 150 | B20: Прочие субсидии бюджетам сельских поселений | C20: 92.9
A21: 2 02 30000 00 0000 150 | B21: Субвенции бюджетам бюджетной системы Российской Федерации | C21: =C22+C24 -> 159.5 | D21: =D22+D24 -> 174.4 | E21: =E22+E24 -> 180.7
A22: 2 02 30024 00 0000 150 | B22: Субвенции местным бюджетам на выполнение передаваемых полномочий субъектов Российской Федерации | C22: =C23 -> 0.5 | D22: =D23 -> 0.5 | E22: =E23 -> 0.5
A23: 2 02 30024 10 0000 150 | B23: Субвенции бюджетам сельских поселений на выполнение передаваемых полномочий субъектов Российской Федерации | C23: 0.5 | D23: 0.5 | E23: 0.5
A24: 2 02 35118 00 0000 150 | B24: Субвенции бюджетам на осуществление первичного воинского учета органами местного самоуправления поселений,муниципальных и городских округов | C24: =C25 -> 159 | D24: =D25 -> 173.9 | E24: =E25 -> 180.2
A25: 2 02 35118 10 0000 150 | B25: Субвенции бюджетам сельских поселений на осуществление первичного воинского учета органами местного самоуправления поселений,муниципальных и городских округов | C25: 159 | D25: 173.9 | E25: 180.2
A26: 2 02 40000 00 0000 150 | B26: Иные межбюджетные трансферты | C26: =C27+C29 -> 2123 | D26: =D27 -> 355 | E26: =E27 -> 369
A27: 2 02 40014 00 0000 150 | B27: Межбюджетные трансферты, передаваемые бюджетам муниципальных образований на осуществление части полномочий по решению вопросов местного значения в соответствии с заключенными соглашениями | C27: =C28 -> 335 | D27: =D28 -> 355 | E27: =E28 -> 369
A28: 2 02 40014 10 0000 150 | B28: Межбюджетные трансферты, передаваемые бюджетам сельских поселений из бюджетов муниципальных районов на осуществление части полномочий по решению вопросов местного значения в соответствии с заключенными соглашениями | C28: 335 | D28: 355 | E28: 369
A29: 2 02 49999 00 0000 150 | B29: Прочие межбюджетные трансферты, передаваемые бюджетам | C29: =C30 -> 1788
A30: 2 02 49999 10 0000 150 | B30: Прочие межбюджетные трансферты, передаваемые бюджетам сельских поселений | C30: 1788

Sheet Приложение 2
I1: Приложение 2 к решению Совета депутатов Набережного сельского поселения Ромодановского муниципального района Республики Мордовия «О внесении изменений в решение Совета депутатов Набережного сельского поселения Ромодановского муниципального района Республики Мордовия от 26 декабря 2024 г № 19 «О бюджете Набережного сельского поселения Ромодановского муниципального района Республики Мордовия на 2025 год и на плановый период 2026 и 2027 годов» Приложение 3 к решению Совета депутатов Набережного сельского поселения Ромодановского муниципального района Республики Мордовия «О бюджете Набережного сельского поселения Ромодановского муниципального района Республики Мордовия на 2025 год и на плановый период 2026 и 2027 годов»
A2: ВЕДОМСТВЕННАЯ СТРУКТУРА РАСХОДОВ БЮДЖЕТА НАБЕРЕЖНОГО СЕЛЬСКОГО ПОСЕЛЕНИЯ РОМОДАНОВСКОГО МУНИЦИПАЛЬНОГО РАЙОНА РЕСПУБЛИКИ МОРДОВИЯ НА 2025 ГОД И НА ПЛАНОВЫЙ ПЕРИОД 2026 И 2027 ГОДОВ
I3: (тыс. рублей)
A4: Наименование | B4: Адм | C4: Рз | D4: Прз | E4: Цср | I4: Вр | J4: Сумма
J5: 2025 год | K5: 2026 год | L5: 2027 год
A6: 1 | B6: 2 | C6: 3 | D6: 4 | E6: 5 | F6: 6 | G6: 7 | H6: 8 | I6: 9 | J6: 10 | K6: 11 | L6: 12
A7: Администрация Набережного сельского поселения Ромодановского муниципального района Республики Мордовия | B7: 919 | J7: =J8+J49+J58+J65+J84+J98+J91 -> 5026 | K7: =K8+K49+K58+K65+K84+K98+K91 -> 2066.5 | L7: =L8+L49+L58+L65+L84+L91+L98 -> 2117.9
A8: Общегосударственные вопросы | B8: 919 | C8: 01 | J8: =J9+J18+J34+J40 -> 1565.1 | K8: =K9+K18+K34 -> 1076.7 | L8: =L9+L18+L34 -> 1073.9
A9: Функционирование высшего должностного лица субъекта Российской Федерации и муниципального образования | B9: 919 | C9: 01 | D9: 02 | J9: =J10 -> 651.9 | K9: =K10 -> 600.6 | L9: =L10 -> 546.4
A10: Обеспечение деятельности Администрации Набережного сельского поселения Ромодановского муниципального района Республики Мордовия | B10: 919 | C10: 01 | D10: 02 | E10: 65 | J10: =J11 -> 651.9 | K10: =K11 -> 600.6 | L10: =L11 -> 546.4
A11: Высшее должностное лицо | B11: 919 | C11: 01 | D11: 02 | E11: 65 | F11: 1 | J11: =J12+J15 -> 651.9 | K11: =K12 -> 600.6 | L11: =L12 -> 546.4
A12: Расходы на выплаты по оплате труда высшего должностного лица | B12: 919 | C12: 01 | D12: 02 | E12: 65 | F12: 1 | G12: 00 | H12: 41150 | J12: =J13 -> 558.1 | K12: =K13 -> 600.6 | L12: =L13 -> 546.4
A13: Расходы на выплаты персоналу в целях обеспечения выполнения функций государственными (муниципальными) органами, казенными учреждениями, органами управления государственными внебюджетными фондами | B13: 919 | C13: 01 | D13: 02 | E13: 65 | F13: 1 | G13: 00 | H13: 41150 | I13: 100 | J13: =J14 -> 558.1 | K13: =K14 -> 600.6 | L13: =L14 -> 546.4
A14: Расходы на выплаты персоналу государственных (муниципальных) органов | B14: 919 | C14: 01 | D14: 02 | E14: 65 | F14: 1 | G14: 00 | H14: 41150 | I14: 120 | J14: 558.1 | K14: 600.6 | L14: 546.4
A15: Субсидии на со финансирование расходных обязательств по финансовому обеспечению деятельности органов местного самоуправления и муниципальных учреждений | B15: 919 | C15: 01 | D15: 02 | E15: 65 | F15: 1 | G15: 00 | H15: 44205 | J15: =J16 -> 93.8 | K15: =K16 -> 0 | L15: =L16 -> 0
A16: =A13 -> Расходы на выплаты персоналу в целях обеспечения выполнения функций государственными (муниципальными) органами, казенными учреждениями, органами управления государственными внебюджетными фондами | B16: 919 | C16: 01 | D16: 02 | E16: 65 | F16: 1 | G16: 00 | H16: 44205 | I16: 100 | J16: =J17 -> 93.8 | K16: =K17 -> 0 | L16: =L17 -> 0
A17: =A14 -> Расходы на выплаты персоналу государственных (муниципальных) органов | B17: 919 | C17: 01 | D17: 02 | E17: 65 | F17: 1 | G17: 00 | H17: 44205 | I17: 120 | J17: 93.8 | K17: 0 | L17: 0
A18: Функционирование Правительства Российской Федерации, высших исполнительных органов субъектов Российской Федерации, местных администраций | B18: 919 | C18: 01 | D18: 04 | J18: =J19+J29 -> 866.2 | K18: =K19+K29 -> 471.1 | L18: =L19+L29 -> 522.5
A19: =A10 -> Обеспечение деятельности Администрации Набережного сельского поселения Ромодановского муниципального района Республики Мордовия | B19: 919 | C19: 01 | D19: 04 | E19: 65 | J19: =J20 -> 865.7 | K19: =K20 -> 470.6 | L19: =L20 -> 522
A20: Расходы в рамках обеспечения деятельности администрации Набережного сельского поселения | B20: 919 | C20: 01 | D20: 04 | E20: 65 | F20: 2 | J20: =J21+J24 -> 865.7 | K20: =K21+K24 -> 470.6 | L20: =L21+L24 -> 522
A21: Расходы на выплаты по оплате труда работников органов местного самоуправления | B21: 919 | C21: 01 | D21: 04 | E21: 65 | F21: 2 | G21: 00 | H21: 41110 | J21: =J22 -> 260.4 | K21: =K22 -> 260.4 | L21: =L22 -> 260.4
A22: Расходы на выплаты персоналу в целях обеспечения выполнения функций государственными (муниципальными) органами, казенными учреждениями, органами управления государственными внебюджетными фондами | B22: 919 | C22: 01 | D22: 04 | E22: 65 | F22: 2 | G22: 00 | H22: 41110 | I22: 100 | J22: =J23 -> 260.4 | K22: =K23 -> 260.4 | L22: =L23 -> 260.4
A23: Расходы на выплаты персоналу государственных (муниципальных) органов | B23: 919 | C23: 01 | D23: 04 | E23: 65 | F23: 2 | G23: 00 | H23: 41110 | I23: 120 | J23: 260.4 | K23: 260.4 | L23: 260.4
A24: Расходы на обеспечение выполнения функций органов местного самоуправления | B24: 919 | C24: 01 | D24: 04 | E24: 65 | F24: 2 | G24: 00 | H24: 41120 | J24: =J25+J27 -> 605.3 | K24: =K25+K27 -> 210.2 | L24: =L25+L27 -> 261.6
A25: Закупка товаров, работ и услуг для обеспечения государственных (муниципальных) нужд | B25: 919 | C25: 01 | D25: 04 | E25: 65 | F25: 2 | G25: 00 | H25: 41120 | I25: 200 | J25: =J26 -> 603.3 | K25: =K26 -> 208.2 | L25: =L26 -> 259.6
A26: Иные закупки товаров, работ и услуг для обеспечения государственных (муниципальных) нужд | B26: 919 | C26: 01 | D26: 04 | E26: 65 | F26: 2 | G26: 00 | H26: 41120 | I26: 240 | J26: 603.3 | K26: 208.2 | L26: 259.6
A27: Иные бюджетные ассигнования | B27: 919 | C27: 01 | D27: 04 | E27: 65 | F27: 2 | G27: 00 | H27: 41120 | I27: 800 | J27: =J28 -> 2 | K27: =K28 -> 2 | L27: =L28 -> 2
A28: Уплата налогов, сборов и иных платежей | B28: 919 | C28: 01 | D28: 04 | E28: 65 | F28: 2 | G28: 00 | H28: 41120 | I28: 850 | J28: 2 | K28: 2 | L28: 2
A29: Непрограммные расходы главных распорядителей средств бюджета Набережного сельского поселения Ромодановского муниципального района Республики Мордовия | B29: 919 | C29: 01 | D29: 04 | E29: 89 | J29: =J30 -> 0.5 | K29: =K30 -> 0.5 | L29: =L30 -> 0.5
A30: Непрограммные расходы в рамках обеспечения деятельности главных распорядителей средств бюджета Набережного сельского поселения Ромодановского муниципального района Республики Мордовия | B30: 919 | C30: 01 | D30: 04 | E30: 89 | F30: 1 | J30: =J31 -> 0.5 | K30: =K31 -> 0.5 | L30: =L31 -> 0.5
A31: Осуществление государственных полномочий Республики Мордовия по определению перечня должностных лиц, уполномоченных составлять протоколы об административных правонарушениях, предусмотренных Законом Республики Мордовия от 15 июня 2015 года № 38-З "Об административной ответственности на территории Республики Мордовия" | B31: 919 | C31: 01 | D31: 04 | E31: 89 | F31: 1 | G31: 00 | H31: 77150 | J31: =J32 -> 0.5 | K31: =K32 -> 0.5 | L31: =L32 -> 0.5
A32: Закупка товаров, работ и услуг для обеспечения государственных (муниципальных) нужд | B32: 919 | C32: 01 | D32: 04 | E32: 89 | F32: 1 | G32: 00 | H32: 77150 | I32: 200 | J32: =J33 -> 0.5 | K32: =K33 -> 0.5 | L32: =L33 -> 0.5
A33: Иные закупки товаров, работ и услуг для обеспечения государственных (муниципальных) нужд | B33: 919 | C33: 01 | D33: 04 | E33: 89 | F33: 1 | G33: 00 | H33: 77150 | I33: 240 | J33: 0.5 | K33: 0.5 | L33: 0.5
A34: Резервные фонды | B34: 919 | C34: 01 | D34: 11 | J34: =J35 -> 5 | K34: =K35 -> 5 | L34: =L35 -> 5
A35: Непрограммные расходы главных распорядителей средств бюджета Набережного сельского поселения Ромодановского муниципального района Республики Мордовия | B35: 919 | C35: 01 | D35: 11 | E35: 89 | J35: =J36 -> 5 | K35: =K36 -> 5 | L35: =L36 -> 5
A36: Непрограммные расходы в рамках обеспечения деятельности главных распорядителей средств бюджетав Набережного сельского поселения Ромодановского муниципального района Республики Мордовия | B36: 919 | C36: 01 | D36: 11 | E36: 89 | F36: 1 | J36: =J37 -> 5 | K36: =K37 -> 5 | L36: =L37 -> 5
A37: Резервный фонд администрации Набережного сельского поселения Ромодановского муниципального района Республики Мордовия | B37: 919 | C37: 01 | D37: 11 | E37: 89 | F37: 1 | G37: 00 | H37: 41180 | J37: =J39 -> 5 | K37: =K39 -> 5 | L37: =L39 -> 5
A38: Иные бюджетные ассигнования | B38: 919 | C38: 01 | D38: 11 | E38: 89 | F38: 1 | G38: 00 | H38: 41180 | I38: 800 | J38: =J39 -> 5 | K38: =K39 -> 5 | L38: =L39 -> 5
A39: Резервные средства | B39: 919 | C39: 01 | D39: 11 | E39: 89 | F39: 1 | G39: 00 | H39: 41180 | I39: 870 | J39: 5 | K39: 5 | L39: 5
A40: Другие общегосударственные вопросы | B40: 919 | C40: 01 | D40: 13 | J40: =J41 -> 42
...

Sheet Приложение 3
H1: Приложение 3 к решению Совета депутатов Набережного сельского поселения Ромодановского муниципального района Республики Мордовия «О внесении изменений в решение Совета депутатов Набережного сельского поселения Ромодановского муниципального района Республики Мордовия от 26 декабря 2024 г № 19 «О бюджете Набережного сельского поселения Ромодановского муниципального района Республики Мордовия на 2025 год и на плановый период 2026 и 2027 годов» Приложение 4 к решению Совета депутатов Набережного сельского поселения Ромодановского муниципального района Республики Мордовия «О бюджете Набережного сельского поселения Ромодановского муниципального района Республики Мордовия на 2025 год и на плановый период 2026 и 2027 годов»
A2: РАСПРЕДЕЛЕНИЕ БЮДЖЕТНЫХ АССИГНОВАНИЙ БЮДЖЕТА НАБЕРЕЖНОГО СЕЛЬСКОГО ПОСЕЛЕНИЯ РОМОДАНОВСКОГО МУНИЦИПАЛЬНОГО РАЙОНА РЕСПУБЛИКИ МОРДОВИЯ ПО РАЗДЕЛАМ, ПОДРАЗДЕЛАМ, ЦЕЛЕВЫМ СТАТЬЯМ (МУНИЦИПАЛЬНЫМ ПРОГРАММАМ И НЕПРОГРАММНЫМ НАПРАВЛЕНИЯМ ДЕЯТЕЛЬНОСТИ), ГРУППАМ И ПОДГРУППАМ ВИДОВ РАСХОДОВ КЛАССИФИКАЦИИ РАСХОДОВ БЮДЖЕТОВ НА 2025 ГОД И НА ПЛАНОВЫЙ ПЕРИОД2026 И 2027 ГОДОВ
H3: (тыс. рублей)
A4: Наименование | B4: Рз | C4: Прз | D4: Цср | H4: Вр | I4: Сумма
I5: 2025 год | J5: 2026 год | K5: 2027 год
A6: 1 | B6: 2 | C6: 3 | D6: 4 | E6: 5 | F6: 6 | G6: 7 | H6: 8 | I6: 9 | J6: 10 | K6: 11
A7: ВСЕГО | I7: =I8+I49+I58+I65+I84+I91 -> 5026 | J7: =J8+J49+J58+J65+J84+J98+J91 -> 2066.5 | K7: =K8+K49+K58+K65+K84+K98+K91 -> 2117.9
A8: Общегосударственные вопросы | B8: 01 | I8: =I9+I18+I34+I40 -> 1565.1 | J8: =J9+J18+J34 -> 1076.7 | K8: =K9+K18+K34 -> 1073.9
A9: Функционирование высшего должностного лица субъекта Российской Федерации и муниципального образования | B9: 01 | C9: 02 | I9: =I10 -> 651.9 | J9: =J10 -> 600.6 | K9: =K10 -> 546.4
A10: ='Приложение 2'!A10 -> Обеспечение деятельности Администрации Набережного сельского поселения Ромодановского муниципального района Республики Мордовия | B10: 01 | C10: 02 | D10: 65 | I10: =I11 -> 651.9 | J10: =J11 -> 600.6 | K10: =K11 -> 546.4
A11: Высшее должностное лицо | B11: 01 | C11: 02 | D11: 65 | E11: 1 | I11: =I12+I15 -> 651.9 | J11: =J12 -> 600.6 | K11: =K12 -> 546.4
A12: Расходы на выплаты по оплате труда высшего должностного лица | B12: 01 | C12: 02 | D12: 65 | E12: 1 | F12: 00 | G12: 41150 | I12: =I13 -> 558.1 | J12: =J13 -> 600.6 | K12: =K13 -> 546.4
A13: Расходы на выплаты персоналу в целях обеспечения выполнения функций государственными (муниципальными) органами, казенными учреждениями, органами управления государственными внебюджетными фондами | B13: 01 | C13: 02 | D13: 65 | E13: 1 | F13: 00 | G13: 41150 | H13: 100 | I13: =I14 -> 558.1 | J13: =J14 -> 600.6 | K13: =K14 -> 546.4
A14: Расходы на выплаты персоналу государственных (муниципальных) органов | B14: 01 | C14: 02 | D14: 65 | E14: 1 | F14: 00 | G14: 41150 | H14: 120 | I14: ='Приложение 2'!J14 -> 558.1 | J14: ='Приложение 2'!K14 -> 600.6 | K14: ='Приложение 2'!L14 -> 546.4
A15: ='Приложение 2'!A15 -> Субсидии на со финансирование расходных обязательств по финансовому обеспечению деятельности органов местного самоуправления и муниципальных учреждений | B15: 01 | C15: 02 | D15: 65 | E15: 1 | F15: 00 | G15: 44205 | I15: =I16 -> 93.8
A16: ='Приложение 2'!A13 -> Расходы на выплаты персоналу в целях обеспечения выполнения функций государственными (муниципальными) органами, казенными учреждениями, органами управления государственными внебюджетными фондами | B16: 01 | C16: 02 | D16: 65 | E16: 1 | F16: 00 | G16: 44205 | H16: 100 | I16: =I17 -> 93.8
A17: ='Приложение 2'!A17 -> Расходы на выплаты персоналу государственных (муниципальных) органов | B17: 01 | C17: 02 | D17: 65 | E17: 1 | F17: 00 | G17: 44205 | H17: 120 | I17: ='Приложение 2'!J17 -> 93.8
A18: ='Приложение 2'!A18 -> Функционирование Правительства Российской Федерации, высших исполнительных органов субъектов Российской Федерации, местных администраций | B18: 01 | C18: 04 | I18: =I19+I29 -> 866.2 | J18: =J19+J29 -> 471.1 | K18: =K19+K29 -> 522.5
A19: ='Приложение 2'!A19 -> Обеспечение деятельности Администрации Набережного сельского поселения Ромодановского муниципального района Республики Мордовия | B19: 01 | C19: 04 | D19: 65 | I19: =I20 -> 865.7 | J19: =J20 -> 470.6 | K19: =K20 -> 522
A20: ='Приложение 2'!A20 -> Расходы в рамках обеспечения деятельности администрации Набережного сельского поселения | B20: 01 | C20: 04 | D20: 65 | E20: 2 | I20: =I21+I24 -> 865.7 | J20: =J21+J24 -> 470.6 | K20: =K21+K24 -> 522
A21: Расходы на выплаты по оплате труда работников органов местного самоуправления | B21: 01 | C21: 04 | D21: 65 | E21: 2 | F21: 00 | G21: 41110 | I21: =I22 -> 260.4 | J21: =J22 -> 260.4 | K21: =K22 -> 260.4
A22: Расходы на выплаты персоналу в целях обеспечения выполнения функций государственными (муниципальными) органами, казенными учреждениями, органами управления государственными внебюджетными фондами | B22: 01 | C22: 04 | D22: 65 | E22: 2 | F22: 00 | G22: 41110 | H22: 100 | I22: =I23 -> 260.4 | J22: =J23 -> 260.4 | K22: =K23 -> 260.4
A23: Расходы на выплаты персоналу государственных (муниципальных) органов | B23: 01 | C23: 04 | D23: 65 | E23: 2 | F23: 00 | G23: 41110 | H23: 120 | I23: ='Приложение 2'!J23 -> 260.4 | J23: ='Приложение 2'!K23 -> 260.4 | K23: ='Приложение 2'!L23 -> 260.4
A24: ='Приложение 2'!A24 -> Расходы на обеспечение выполнения функций органов местного самоуправления | B24: 01 | C24: 04 | D24: 65 | E24: 2 | F24: 00 | G24: 41120 | I24: =+I25+I27 -> 605.3 | J24: =+J25+J27 -> 210.2 | K24: =+K25+K27 -> 261.6
A25: Закупка товаров, работ и услуг для обеспечения государственных (муниципальных) нужд | B25: 01 | C25: 04 | D25: 65 | E25: 2 | F25: 00 | G25: 41120 | H25: 200 | I25: =I26 -> 603.3 | J25: =J26 -> 208.2 | K25: =K26 -> 259.6
A26: Иные закупки товаров, работ и услуг для обеспечения государственных (муниципальных) нужд | B26: 01 | C26: 04 | D26: 65 | E26: 2 | F26: 00 | G26: 41120 | H26: 240 | I26: ='Приложение 2'!J26 -> 603.3 | J26: ='Приложение 2'!K26 -> 208.2 | K26: ='Приложение 2'!L26 -> 259.6
A27: Иные бюджетные ассигнования | B27: 01 | C27: 04 | D27: 65 | E27: 2 | F27: 00 | G27: 41120 | H27: 800 | I27: =I28 -> 2 | J27: =J28 -> 2 | K27: =K28 -> 2
A28: Уплата налогов, сборов и иных платежей | B28: 01 | C28: 04 | D28: 65 | E28: 2 | F28: 00 | G28: 41120 | H28: 850 | I28: ='Приложение 2'!J28 -> 2 | J28: ='Приложение 2'!K28 -> 2 | K28: ='Приложение 2'!L28 -> 2
A29: Непрограммные расходы главных распорядителей средств бюджета Набережного сельского поселения Ромодановского муниципального района Республики Мордовия | B29: 01 | C29: 04 | D29: 89 | I29: =I30 -> 0.5 | J29: =J30 -> 0.5 | K29: =K30 -> 0.5
A30: Непрограммные расходы в рамках обеспечения деятельности главных распорядителей средств бюджета Набережного сельского поселения Ромодановского муниципального района Республики Мордовия | B30: 01 | C30: 04 | D30: 89 | E30: 1 | I30: =I31 -> 0.5 | J30: =J31 -> 0.5 | K30: =K31 -> 0.5
A31: Осуществление государственных полномочий Республики Мордовия по определению перечня должностных лиц, уполномоченных составлять протоколы об административных правонарушениях, предусмотренных Законом Республики Мордовия от 15 июня 2015 года № 38-З "Об административной ответственности на территории Республики Мордовия" | B31: 01 | C31: 04 | D31: 89 | E31: 1 | F31: 00 | G31: 77150 | I31: =I32 -> 0.5 | J31: =J32 -> 0.5 | K31: =K32 -> 0.5
A32: Закупка товаров, работ и услуг для обеспечения государственных (муниципальных) нужд | B32: 01 | C32: 04 | D32: 89 | E32: 1 | F32: 00 | G32: 77150 | H32: 200 | I32: =I33 -> 0.5 | J32: =J33 -> 0.5 | K32: =K33 -> 0.5
A33: Иные закупки товаров, работ и услуг для обеспечения государственных (муниципальных) нужд | B33: 01 | C33: 04 | D33: 89 | E33: 1 | F33: 00 | G33: 77150 | H33: 240 | I33: ='Приложение 2'!J33 -> 0.5 | J33: ='Приложение 2'!K33 -> 0.5 | K33: ='Приложение 2'!L33 -> 0.5
A34: Резервные фонды | B34: 01 | C34: 11 | I34: =I35 -> 5 | J34: =J35 -> 5 | K34: =K35 -> 5
A35: Непрограммные расходы главных распорядителей средств бюджета Набережного сельского поселения Ромодановского муниципального района Республики Мордовия | B35: 01 | C35: 11 | D35: 89 | I35: =I36 -> 5 | J35: =J36 -> 5 | K35: =K36 -> 5
A36: Непрограммные расходы в рамках обеспечения деятельности главных распорядителей средств бюджета Набережного сельского поселения Ромодановского муниципального района Республики Мордовия | B36: 01 | C36: 11 | D36: 89 | E36: 1 | I36: =I37 -> 5 | J36: =J37 -> 5 | K36: =K37 -> 5
A37: ='Приложение 2'!A37 -> Резервный фонд администрации Набережного сельского поселения Ромодановского муниципального района Республики Мордовия | B37: 01 | C37: 11 | D37: 89 | E37: 1 | F37: 00 | G37: 41180 | I37: =I39 -> 5 | J37: =J39 -> 5 | K37: =K39 -> 5
A38: Иные бюджетные ассигнования | B38: 01 | C38: 11 | D38: 89 | E38: 1 | F38: 00 | G38: 41180 | H38: 800 | I38: =I39 -> 5 | J38: =J39 -> 5 | K38: =K39 -> 5
A39: Резервные средства | B39: 01 | C39: 11 | D39: 89 | E39: 1 | F39: 00 | G39: 41180 | H39: 870 | I39: ='Приложение 2'!J39 -> 5 | J39: ='Приложение 2'!K39 -> 5 | K39: ='Приложение 2'!L39 -> 5
A40: ='Приложение 2'!A40 -> Другие общегосударственные вопросы | B40: 01 | C40: 13 | I40: =I41 -> 42
...

Sheet Приложение 4
I1: Приложение 4 к решению Совета депутатов Набережного сельского поселения Ромодановского муниципального района Республики Мордовия «О внесении изменений в решение Совета депутатов Набережного сельского поселения Ромодановского муниципального района Республики Мордовия от 26 декабря 2024 г № 19 «О бюджете Набережного сельского поселения Ромодановского муниципального района Республики Мордовия на 2025 год и на плановый период 2026 и 2027 годов» Приложение 5 к решению Совета депутатов Набережного сельского поселения Ромодановского муниципального района Республики Мордовия «О бюджете Набережного сельского поселения Ромодановского муниципального района Республики Мордовия на 2025 год и на плановый период 2026 и 2027 годов»
A2: РАСПРЕДЕЛЕНИЕ БЮДЖЕТНЫХ АССИГНОВАНИЙ БЮДЖЕТА НАБЕРЕЖНОГО СЕЛЬСКОГО ПОСЕЛЕНИЯ РОМОДАНОВСКОГО МУНИЦИПАЛЬНОГО РАЙОНА РЕСПУБЛИКИ МОРДОВИЯ ПО ЦЕЛЕВЫМ СТАТЬЯМ (МУНИЦИПАЛЬНЫМ ПРОГРАММАМ И НЕПРОГРАММНЫМ НАПРАВЛЕНИЯМ ДЕЯТЕЛЬНОСТИ), ГРУППАМ И ПОДГРУППАМ ВИДОВ РАСХОДОВ, РАЗДЕЛАМ И ПОДРАЗДЕЛАМ КЛАССИФИКАЦИИ РАСХОДОВ БЮДЖЕТОВ НА 2025 ГОД И НА ПЛАНОВЫЙ ПЕРИОД 2026 И 2027 ГОДОВ
I3: (тыс. рублей)
A4: Наименование | B4: Цср | F4: ВР | G4: Рз | H4: Прз | I4: Адм | J4: Сумма
J5: 2025 год | K5: 2026 год | L5: 2027 год
A6: 1 | B6: 2 | C6: 3 | D6: 4 | E6: 5 | F6: 6 | G6: 7 | H6: 8 | I6: 9 | J6: 10 | K6: 11 | L6: 12
A7: ВСЕГО | J7: =J8+J23+J31+J69 -> 5026 | K7: =K8+K23+K31+K69 -> 2066 | L7: =L8+L23+L31+L69 -> 2117.4
A8: ='Приложение 2'!A67 -> Муниципальная программа "Комплексного развития социальной инфраструктуры Набережного сельского поселения Ромодановского муниципального района Республики Мордовия на 2018-2028 года" | B8: 10 | J8: =J9+J16 -> 465.7 | K8: =K9+K16 -> 176.9 | L8: =L9+L16 -> 156.7
A9: ='Приложение 2'!A72 -> Основное мероприятия "Освещение территории сельского поселения" | B9: 10 | C9: 0 | D9: 08 | J9: =J10 -> 326.6 | K9: =K10 -> 176.9 | L9: =L10 -> 156.7
A10: Уличное освещение | B10: 10 | C10: 0 | D10: 08 | E10: 43010 | J10: =J11 -> 326.6 | K10: =K11 -> 176.9 | L10: =L11 -> 156.7
A11: Закупка товаров, работ и услуг для обеспечения государственных (муниципальных) нужд | B11: 10 | C11: 0 | D11: 08 | E11: 43010 | F11: 200 | J11: =J12 -> 326.6 | K11: =K12 -> 176.9 | L11: =L12 -> 156.7
A12: Иные закупки товаров, работ и услуг для обеспечения государственных (муниципальных) нужд | B12: 10 | C12: 0 | D12: 08 | E12: 43010 | F12: 240 | J12: =J13 -> 326.6 | K12: =K13 -> 176.9 | L12: =L13 -> 156.7
A13: Жилищно-коммунальное хозяйство | B13: 10 | C13: 0 | D13: 08 | E13: 43010 | F13: 240 | G13: 05 | J13: =J14 -> 326.6 | K13: =K14 -> 176.9 | L13: =L14 -> 156.7
A14: Благоустройство | B14: 10 | C14: 0 | D14: 08 | E14: 43010 | F14: 240 | G14: 05 | H14: 03 | J14: =J15 -> 326.6 | K14: =K15 -> 176.9 | L14: =L15 -> 156.7
A15: Администрация Набережного сельского поселения Ромодановского муниципального района Республики Мордовия | B15: 10 | C15: 0 | D15: 08 | E15: 43010 | F15: 240 | G15: 05 | H15: 03 | I15: 919 | J15: ='Приложение 2'!J75 -> 326.6 | K15: ='Приложение 2'!K75 -> 176.9 | L15: ='Приложение 2'!L75 -> 156.7
A16: ='Приложение 2'!A68 -> Основное мероприятие "Благоустройство территории " | B16: 10 | C16: 0 | D16: 07 | J16: =J17 -> 139.1 | K16: =K17 -> 0 | L16: =L17 -> 0
A17: ='Приложение 2'!A69 -> Прочие мероприятия по благоустройству | B17: 10 | C17: 0 | D17: 07 | E17: 43040 | J17: =J18 -> 139.1 | K17: =K18 -> 0 | L17: =L18 -> 0
A18: ='Приложение 2'!A70 -> Закупка товаров, работ и услуг для обеспечения государственных (муниципальных) нужд | B18: 10 | C18: 0 | D18: 07 | E18: 43040 | F18: 200 | J18: =J19 -> 139.1 | K18: =K19 -> 0 | L18: =L19 -> 0
A19: ='Приложение 2'!A71 -> Иные закупки товаров, работ и услуг для обеспечения государственных (муниципальных) нужд | B19: 10 | C19: 0 | D19: 07 | E19: 43040 | F19: 240 | J19: =J20 -> 139.1 | K19: =K20 -> 0 | L19: =L20 -> 0
A20: ='Приложение 2'!A65 -> Жилищно-коммунальное хозяйство | B20: 10 | C20: 0 | D20: 07 | E20: 43040 | F20: 240 | G20: 05 | J20: =J21 -> 139.1 | K20: =K21 -> 0 | L20: =L21 -> 0
A21: ='Приложение 2'!A66 -> Благоустройство | B21: 10 | C21: 0 | D21: 07 | E21: 43040 | F21: 240 | G21: 05 | H21: 03 | J21: =J22 -> 139.1 | K21: =K22 -> 0 | L21: =L22 -> 0
A22: =A15 -> Администрация Набережного сельского поселения Ромодановского муниципального района Республики Мордовия | B22: 10 | C22: 0 | D22: 07 | E22: 43040 | F22: 240 | G22: 05 | H22: 03 | I22: 919 | J22: ='Приложение 2'!J71 -> 139.1 | K22: ='Приложение 2'!K71 -> 0 | L22: ='Приложение 2'!L71 -> 0
A23: Муниципальная программа «Комплексного развития транспортной инфраструктуры Набережного сельского поселения Ромодановского муниципального района Республики Мордовия на 2018- 2028 года" | B23: 13 | J23: =J24 -> 335 | K23: =K24 -> 355 | L23: =L24 -> 369
A24: Основное мероприятие "Ремонт и содержание дорог в границах поселения, поддержание дорожного полотна в работоспособном состоянии" | B24: 13 | C24: 0 | D24: 01 | J24: =J25 -> 335 | K24: =K25 -> 355 | L24: =L25 -> 369
A25: ='Приложение 2'!A62 -> Иные межбюджетные трансферты на осуществление полномочий по дорожной деятельности в отношении автомобильных дорог местного значения в границах населенных пунктов поселения и обеспечению безопасности дорожного движения на них, включая создание и обеспечение функционирования парковок (парковочных мест), осуществлению муниципального контроля на автомобильном транспорте, городском наземном электрическом транспорте и в дорожном хозяйстве в границах населенных пунктов поселения, организации дорожного движения, а также осуществлению иных полномочий в области использования автомобильных дорог и осуществления дорожной деятельности в соответствии с законодательством Российской Федерации | B25: 13 | C25: 0 | D25: 01 | E25: 9Д184 | J25: =J26 -> 335 | K25: =K26 -> 355 | L25: =L26 -> 369
A26: Закупка товаров, работ и услуг для обеспечения государственных (муниципальных) нужд | B26: 13 | C26: 0 | D26: 01 | E26: 9Д184 | F26: 200 | J26: =J27 -> 335 | K26: =K27 -> 355 | L26: =L27 -> 369
A27: Иные закупки товаров, работ и услуг для обеспечения государственных (муниципальных) нужд | B27: 13 | C27: 0 | D27: 01 | E27: 9Д184 | F27: 240 | J27: =J28 -> 335 | K27: =K28 -> 355 | L27: =L28 -> 369
A28: Национальная экономика | B28: 13 | C28: 0 | D28: 01 | E28: 9Д184 | F28: 240 | G28: 04 | J28: =J29 -> 335 | K28: =K29 -> 355 | L28: =L29 -> 369
A29: ='Приложение 2'!A59 -> Дорожное хозяйство (дорожные фонды) | B29: 13 | C29: 0 | D29: 01 | E29: 9Д184 | F29: 240 | G29: 04 | H29: 09 | J29: =J30 -> 335 | K29: =K30 -> 355 | L29: =L30 -> 369
A30: Администрация Набережного сельского поселения Ромодановского муниципального района Республики Мордовия | B30: 13 | C30: 0 | D30: 01 | E30: 9Д184 | F30: 240 | G30: 04 | H30: 09 | I30: 919 | J30: ='Приложение 2'!J64 -> 335 | K30: ='Приложение 2'!K64 -> 355 | L30: ='Приложение 2'!L64 -> 369
A31: ='Приложение 2'!A10 -> Обеспечение деятельности Администрации Набережного сельского поселения Ромодановского муниципального района Республики Мордовия | B31: 65 | J31: =J32+J51 -> 1517.6 | K31: =K32+K51 -> 1121.6 | L31: =L32+L51 -> 1173
A32: Высшее должностное лицо | B32: 65 | C32: 1 | J32: =J33+J45 -> 651.9 | K32: =K33+K39 -> 651 | L32: =L33+L39 -> 651
A33: Расходы на выплаты по оплате труда высшего должностного лица | B33: 65 | C33: 1 | D33: 00 | E33: 41150 | J33: =J34 -> 558.1 | K33: =K34 -> 600.6 | L33: =L34 -> 546.4
A34: Расходы на выплаты персоналу в целях обеспечения выполнения функций государственными (муниципальными) органами, казенными учреждениями, органами управления государственными внебюджетными фондами | B34: 65 | C34: 1 | D34: 00 | E34: 41150 | F34: 100 | J34: =J35 -> 558.1 | K34: =K35 -> 600.6 | L34: =L35 -> 546.4
A35: Расходы на выплаты персоналу государственных (муниципальных) органов | B35: 65 | C35: 1 | D35: 00 | E35: 41150 | F35: 120 | J35: =J36 -> 558.1 | K35: =K36 -> 600.6 | L35: =L36 -> 546.4
A36: Общегосударственные вопросы | B36: 65 | C36: 1 | D36: 00 | E36: 41150 | F36: 120 | G36: 01 | J36: =J37 -> 558.1 | K36: =K37 -> 600.6 | L36: =L37 -> 546.4
A37: Функционирование высшего должностного лица субъекта Российской Федерации и муниципального образования | B37: 65 | C37: 1 | D37: 00 | E37: 41150 | F37: 120 | G37: 01 | H37: 02 | J37: =J38 -> 558.1 | K37: =K38 -> 600.6 | L37: =L38 -> 546.4
A38: Администрация Набережного сельского поселения Ромодановского муниципального района Республики Мордовия | B38: 65 | C38: 1 | D38: 00 | E38: 41150 | F38: 120 | G38: 01 | H38: 02 | I38: 919 | J38: ='Приложение 2'!J14 -> 558.1 | K38: ='Приложение 2'!K14 -> 600.6 | L38: ='Приложение 2'!L14 -> 546.4
A39: ='Приложение 3'!A102 -> Условно утвержденные расходы | B39: 65 | C39: 1 | D39: 00 | E39: 41990 | J39: 0 | K39: =K40 -> 50.4 | L39: =L40 -> 104.6
A40: ='Приложение 3'!A103 -> Иные бюджетные ассигнования | B40: 65 | C40: 1 | D40: 00 | E40: 41990 | F40: 800 | J40: 0 | K40: =K41 -> 50.4 | L40: =L41 -> 104.6
...

Sheet прил5
C1: Приложение 5 к решению Совета депутатов Набережного сельского поселения Ромодановского муниципального района Республики Мордовия «О внесении изменений в решение Совета депутатов Набережного сельского поселения Ромодановского муниципального района Республики Мордовия от 26 декабря 2024 г № 19 «О бюджете Набережного сельского поселения Ромодановского муниципального района Республики Мордовия на 2025 год и на плановый период 2026 и 2027 годов» Приложение 6 к решению Совета депутатов Набережного сельского поселения Ромодановского муниципального района Республики Мордовия «О бюджете Набережного сельского поселения Ромодановского муниципального района Республики Мордовия на 2025 год и на плановый период 2026 и 2027 годов»
A2: ИСТОЧНИКИ ВНУТРЕННЕГО ФИНАНСИРОВАНИЯ ДЕФИЦИТА БЮДЖЕТА НАБЕРЕЖНОГО СЕЛЬСКОГО ПОСЕЛЕНИЯ РОМОДАНОВСКОГО МУНИЦИПАЛЬНОГО РАЙОНА РЕСПУБЛИКИ МОРДОВИЯ НА 2025 ГОД И НА ПЛАНОВЫЙ ПЕРИОД 2026 и 2027 ГОДОВ
A6: Код | B6: Наименование кода группы, подгруппы, статьи, вида источника финансирования дефицитов бюджетов, кода классификации операций сектора государственного управления, относящихся к источникам финансирования дефицитов бюджетов Российской Федерации | C6: Сумма (тыс. руб.)
C7: 2025 год | D7: 2026 год | E7: 2027 год
A8: 1 | B8: 2 | C8: 3 | D8: 4 | E8: 5
A9: 000 01 00 00 00 00 0000 000 | B9: ИСТОЧНИКИ ВНУТРЕННЕГО ФИНАНСИРОВАНИЯ ДЕФИЦИТОВ БЮДЖЕТОВ | C9: =C10+C21+C13+C17 -> 245.6 | D9: =D10+D21+D13+D17 -> -123.8 | E9: =E10+E21+E13+E17 -> -154.6
A10: 000 01 02 00 00 00 0000 000 | B10: Кредиты кредитных организаций в валюте Российской Федерации | C10: =SUM(C11) -> 0 | D10: =SUM(D11) -> 0 | E10: =SUM(E11) -> 0
A11: 000 01 02 00 00 00 0000 700 | B11: Привлечение кредитов от кредитных организаций в валюте Российской Федерации | C11: =SUM(C12) -> 0 | D11: =SUM(D12) -> 0 | E11: =SUM(E12) -> 0
A12: 000 01 02 00 00 05 0000 710 | B12: Привлечение кредитов от кредитных организаций бюджетами муниципальных районов в валюте Российской Федерации
A13: 000 01 03 00 00 00 0000 000 | B13: Бюджетные кредиты из других бюджетов бюджетной системы Российской Федерации | C13: =C14 -> -92.8 | D13: =D14 -> -123.8 | E13: =E14 -> -154.6
A14: 000 01 03 01 00 00 0000 000 | B14: Бюджетные кредиты из других бюджетов бюджетной системы Российской Федерации в валюте Российской Федерации | C14: =C15 -> -92.8 | D14: =D15 -> -123.8 | E14: =E15 -> -154.6
A15: 000 01 03 01 00 00 0000 800 | B15: Погашение бюджетных кредитов, полученных из других бюджетов бюджетной системы Российской Федерации в валюте Российской Федерации | C15: =SUM(C16) -> -92.8 | D15: =SUM(D16) -> -123.8 | E15: =SUM(E16) -> -154.6
A16: 000 01 03 01 00 10 0000 810 | B16: Погашение бюджетами сельских поселений кредитов из других бюджетов бюджетной системы Российской Федерации в валюте Российской Федерации | C16: -92.8 | D16: -123.8 | E16: -154.6
A17: 000 01 06 00 00 00 0000 000 | B17: Иные источники внутреннего финансирования дефицитов бюджетов | C17: =C18 -> 0 | D17: =D18 -> 0 | E17: =E18 -> 0
A18: 000 01 06 05 00 00 0000 000 | B18: Бюджетные кредиты, предоставленные внутри страны в валюте Российской Федерации | C18: =C19 -> 0 | D18: =D19 -> 0 | E18: =E19 -> 0
A19: 000 01 06 05 02 00 0000 600 | B19: Возврат бюджетных кредитов, предоставленных другим бюджетам бюджетной системы Российской Федерации в валюте Российской Федерации | C19: =C20 -> 0 | D19: =D20 -> 0 | E19: =E20 -> 0
A20: 000 01 06 05 02 05 0000 640 | B20: Возврат бюджетных кредитов, предоставленных другим бюджетам бюджетной системы Российской Федерации из бюджетов муниципальных районов в валюте Российской Федерации | C20: 0 | D20: 0 | E20: 0
A21: 000 01 05 00 00 00 0000 000 | B21: Изменения остатков средств на счетах по учету средств бюджета | C21: =C22+C25 -> 338.4 | D21: =D22+D25 -> 0 | E21: =E22+E25 -> 0
A22: 000 01 05 02 00 00 0000 500 | B22: Увеличение прочих остатков средств бюджетов | C22: =SUM(C23) -> -4780.4 | D22: =SUM(D23) -> -2190.3 | E22: =SUM(E23) -> -2272.5
A23: 000 01 05 02 01 00 0000 510 | B23: Увеличение прочих остатков денежных средств бюджетов | C23: =SUM(C24) -> -4780.4 | D23: =SUM(D24) -> -2190.3 | E23: =SUM(E24) -> -2272.5
A24: 000 01 05 02 01 10 0000 510 | B24: Увеличение прочих остатков денежных средств бюджетов сельских поселений | C24: -4780.4 | D24: -2190.3 | E24: -2272.5
A25: 000 01 05 02 00 00 0000 600 | B25: Уменьшение прочих остатков средств бюджетов | C25: 5118.8 | D25: =SUM(D26) -> 2190.3 | E25: =SUM(E26) -> 2272.5
A26: 000 01 05 02 01 00 0000 610 | B26: Уменьшение прочих остатков денежных средств бюджетов | C26: =SUM(C27) -> 5026 | D26: =SUM(D27) -> 2190.3 | E26: =SUM(E27) -> 2272.5
A27: 000 01 05 02 01 05 0000 610 | B27: Уменьшение прочих остатков денежных средств бюджетов муниципальных районов | C27: 5026 | D27: 2190.3 | E27: 2272.5
A28: 000 01 00 00 00 00 0000 000 | B28: Итого источников внутреннего финансирования дефицита бюджета Набережного сельского поселения Ромодановского муниципального района Республики Мордовия | C28: 0 | D28: 0 | E28: 0
B29: собственные доходы | C29: 1335.9 | D29: 936.2 | E29: 993.4

Sheet прил6
D1: Приложение 6 к решению Совета депутатов Набережного сельского поселения Ромодановского муниципального района Республики Мордовия «О внесении изменений в решение Совета депутатов Набережного сельского поселения Ромодановского муниципального района Республики Мордовия от 26 декабря 2024 г № 19 «О бюджете Набережного сельского поселения Ромодановского муниципального района Республики Мордовия на 2025 год и на плановый период 2026 и 2027 годов» Приложение 7 к решению Совета депутатов Набережного сельского поселения Ромодановского муниципального района Республики Мордовия «О бюджете Набережного сельского поселения Ромодановского муниципального района Республики Мордовия на 2025 год и на плановый период 2026 и 2027 годов»
A2: ПРОГРАММА МУНИЦИПАЛЬНЫХ ВНУТРЕННИХ ЗАИМСТВОВАНИЙ НАБЕРЕЖНОГО СЕЛЬСКОГО ПОСЕЛЕНИЯ РОМОДАНОВСКОГО МУНИЦИПАЛЬНОГО РАЙОНА РЕСПУБЛИКИ МОРДОВИЯ НА 2025 ГОД И НА ПЛАНОВЫЙ ПЕРИОД 2026 И 2027 ГОДОВ
A6: № п/п | B6: ВИДЫ ЗАИМСТВОВАНИЙ | C6: Сумма (тыс. рублей)
C7: 2024 год | D7: 2025 год | E7: 2026 год
A8: 1 | B8: 2 | C8: 3 | D8: 4 | E8: 5
A9: ВСЕГО
A10: I | B10: Кредиты кредитных организаций в валюте Российской Федерации | C10: =C12 -> 0 | D10: =D12 -> 0 | E10: =E12 -> 0
B11: в том числе
A12: 1 | B12: Объем привлечения
A13: 2 | B13: Объем средств, направляемых на погашение основной суммы долга
A14: 11 | B14: Бюджетные кредиты от других бюджетов бюджетной системы Российской Федерации | C14: =C17 -> -92.8 | D14: =D17 -> -123.8 | E14: =E17 -> -154.6
B15: в том числе
A16: 1 | B16: Объем привлечения
A17: 2 | B17: Объем средств, направляемых на погашение основной суммы долга | C17: =прил5!C16 -> -92.8 | D17: =прил5!D16 -> -123.8 | E17: =прил5!E16 -> -154.6
B18: ВСЕГО | C18: =C12+C17 -> -92.8 | D18: =D12+D17 -> -123.8 | E18: =E12+E17 -> -154.6

Sheet Лист1
