Workbook

Sheet Приложение 1
C1: Приложение 1 к решению Совета депутатов Анненковского сельского поселения Ромодановского муниципального района Республики Мордовия «О внесении изменений в решение Совета депутатов Анненковского сельского поселения Ромодановского муниципального района Республики Мордовия от 26 декабря 2024 г № 21 «О бюджете Анненковского сельского поселения Ромодановского муниципального района Республики Мордовия на 2025 год и на плановый период 2026 и 2027 годов» Приложение 2 к решению Совета депутатов Анненковского сельского поселения Ромодановского муниципального района Республики Мордовия «О бюджете Анненковского сельского поселения Ромодановского муниципального района Республики Мордовия на 2025 год и на плановый период 2026 и 2027 годов»
A6: ОБЪЕМ БЕЗВОЗМЕЗДНЫХ ПОСТУПЛЕНИЙ В БЮДЖЕТ АННЕНКОВСКОГО СЕЛЬСКОГО ПОСЕЛЕНИЯ РОМОДАНОВСКОГО МУНИЦИПАЛЬНОГО РАЙОНА РЕСПУБЛИКИ МОРДОВИЯ НА 2025 ГОД И НА ПЛАНОВЫЙ ПЕРИОД 2026 И 2027 ГОДОВ
E7: (тыс. рублей)
A8: Код | B8: Наименование | C8: Сумма
C9: 2025 год | D9: 2026 год | E9: 2027 год
A10: 1 | B10: 2 | C10: 3 | D10: 4 | E10: 5
A11: 2 00 00000 00 0000 000 | B11: БЕЗВОЗМЕЗДНЫЕ ПОСТУПЛЕНИЯ | C11: =C12 -> 2359 | D11: =D12 -> 1122.1 | E11: =E12 -> 1198.6
A12: 2 02 00000 00 0000 000 | B12: Безвозмездные поступления от других бюджетов бюджетной системы Российской Федерации | C12: =C13+C21+C26+C18 -> 2359 | D12: =D13+D21+D26 -> 1122.1 | E12: =E13+E21+E26 -> 1198.6
A13: 2 02 10000 00 0000 150 | B13: Дотации бюджетам бюджетной системы Российской Федерации | C13: =C14+C16 -> 882.8 | D13: =D14 -> 555.6 | E13: =E14 -> 609.8
A14: 2 02 15001 00 0000 150 | B14: Дотации на выравнивание бюджетной обеспеченности | C14: =C15 -> 611.6 | D14: =D15 -> 555.6 | E14: =E15 -> 609.8
A15: 2 02 15001 10 0000 150 | B15: Дотации бюджетам сельских поселений на выравнивание бюджетной обеспеченности из бюджета субъекта Российской Федерации | C15: 611.6 | D15: 555.6 | E15: 609.8
A16: 2 02 15002 00 0000 150 | B16: Дотация бюджетам на поддержку мер по обеспечению сбалансированности бюджетов | C16: =C17 -> 271.2
A17: 2 02 15002 10 0000 150 | B17: Дотации бюджетам сельских поселений на поддержку мер по обеспечению сбалансированности бюджетов | C17: 271.2
A18: 2 02 20000 00 0000 150 | B18: Субсидии бюджетам бюджетной системы Российской Федерации (межбюджетные субсидии) | C18: =C19 -> 227.9
A19: 2 02 29999 00 0000 150 | B19: Прочие субсидии | C19: =C20 -> 227.9
A20: 2 02 29999 10 0000 150 | B20: Прочие субсидии бюджетам сельских поселений | C20: 227.9
A21: 2 02 30000 00 0000 150 | B21: Субвенции бюджетам бюджетной системы Российской Федерации | C21: =C22+C24 -> 159.6 | D21: =D22+D24 -> 174.5 | E21: =E22+E24 -> 180.8
A22: 2 02 30024 00 0000 150 | B22: Субвенции местным бюджетам на выполнение передаваемых полномочий субъектов Российской Федерации | C22: =C23 -> 0.6 | D22: =D23 -> 0.6 | E22: =E23 -> 0.6
A23: 2 02 30024 10 0000 150 | B23: Субвенции бюджетам сельских поселений на выполнение передаваемых полномочий субъектов Российской Федерации | C23: 0.6 | D23: 0.6 | E23: 0.6
A24: 2 02 35118 00 0000 150 | B24: Субвенции бюджетам на осуществление первичного воинского учета органами местного самоуправления поселений,муниципальных и городских округов | C24: =C25 -> 159 | D24: =D25 -> 173.9 | E24: =E25 -> 180.2
A25: 2 02 35118 10 0000 150 | B25: Субвенции бюджетам сельских поселений на осуществление первичного воинского учета органами местного самоуправления поселений,муниципальных и городских округов | C25: 159 | D25: 173.9 | E25: 180.2
A26: 2 02 40000 00 0000 150 | B26: Иные межбюджетные трансферты | C26: =C27+C29 -> 1088.7 | D26: =D27 -> 392 | E26: =E27 -> 408
A27: 2 02 40014 00 0000 150 | B27: Межбюджетные трансферты, передаваемые бюджетам муниципальных образований на осуществление части полномочий по решению вопросов местного значения в соответствии с заключенными соглашениями | C27: =C28 -> 370 | D27: =D28 -> 392 | E27: =E28 -> 408
A28: 2 02 40014 10 0000 150 | B28: Межбюджетные трансферты, передаваемые бюджетам сельских поселений из бюджетов муниципальных районов на осуществление части полномочий по решению вопросов местного значения в соответветствии с заключенными соглашениями | C28: 370 | D28: 392 | E28: 408
A29: 2 02 49999 00 0000 150 | B29: Прочие межбюджетные трансферты, передаваемые бюджетам | C29: =C30 -> 718.7
A30: 2 02 49999 10 0000 150 | B30: Прочие межбюджетные трансферты, передаваемые бюджетам сельских поселений | C30: 718.7

Sheet Приложение 2
I1: Приложение 2 к решению Совета депутатов Анненковского сельского поселения Ромодановского муниципального района Республики Мордовия «О внесении изменений в решение Совета депутатов Анненковского сельского поселения Ромодановского муниципального района Республики Мордовия от 26 декабря 2024 г № 21 «О бюджете Анненковского сельского поселения Ромодановского муниципального района Республики Мордовия на 2025 год и на плановый период 2026 и 2027 годов» Приложение 3 к решению Совета депутатов Анненковского сельского поселения Ромодановского муниципального района Республики Мордовия «О бюджете Анненковского сельского поселения Ромодановского муниципального района Республики Мордовия на 2025 год и на плановый период 2026 и 2027 годов»
A2: ВЕДОМСТВЕННАЯ СТРУКТУРА РАСХОДОВ БЮДЖЕТА АННЕНКОВСКОГО СЕЛЬСКОГО ПОСЕЛЕНИЯ РОМОДАНОВСКОГО МУНИЦИПАЛЬНОГО РАЙОНА РЕСПУБЛИКИ МОРДОВИЯ НА 2025 ГОД И НА ПЛАНОВЫЙ ПЕРИОД 2026 И 2027 ГОДОВ
I3: (тыс. рублей)
A4: Наименование | B4: Адм | C4: Рз | D4: Прз | E4: Цср | I4: Вр | J4: Сумма
J5: 2025 год | K5: 2026 год | L5: 2027 год
A6: 1 | B6: 2 | C6: 3 | D6: 4 | E6: 5 | F6: 6 | G6: 7 | H6: 8 | I6: 9 | J6: 10 | K6: 11 | L6: 12
A7: Администрация Анненковского сельского поселения Ромодановского муниципального района Республики Мордовия | B7: 910 | J7: =J8+J49+J65+J78+J97+J104+J43+J58 -> 3383.6 | K7: =K8+K49+K65+K78+K97+K111+K104+K37 -> 2011.3 | L7: =L8+L49+L65+L78+L97+L111+L104 -> 2129.6
A8: Общегосударственные вопросы | B8: 910 | C8: 01 | J8: =J9+J18+J37 -> 1592 | K8: =K9+K18 -> 1221.4 | L8: =L9+L18 -> 1281.2
A9: Функционирование высшего должностного лица субъекта Российской Федерации и муниципального образования | B9: 910 | C9: 01 | D9: 02 | J9: =J10 -> 176.4 | K9: =K10 -> 414.3 | L9: =L10 -> 360.4
A10: Обеспечение деятельности Администрации Анненковского сельского поселения Ромодановского муниципального района Республики Мордовия | B10: 910 | C10: 01 | D10: 02 | E10: 65 | J10: =J11 -> 176.4 | K10: =K11 -> 414.3 | L10: =L11 -> 360.4
A11: Высшее должностное лицо | B11: 910 | C11: 01 | D11: 02 | E11: 65 | F11: 1 | J11: =J12+J15 -> 176.4 | K11: =K12 -> 414.3 | L11: =L12 -> 360.4
A12: Расходы на выплаты по оплате труда высшего должностного лица | B12: 910 | C12: 01 | D12: 02 | E12: 65 | F12: 1 | G12: 00 | H12: 41150 | J12: =J13 -> 161.2 | K12: =K13 -> 414.3 | L12: =L13 -> 360.4
A13: Расходы на выплаты персоналу в целях обеспечения выполнения функций государственными (муниципальными) органами, казенными учреждениями, органами управления государственными внебюджетными фондами | B13: 910 | C13: 01 | D13: 02 | E13: 65 | F13: 1 | G13: 00 | H13: 41150 | I13: 100 | J13: =J14 -> 161.2 | K13: =K14 -> 414.3 | L13: =L14 -> 360.4
A14: Расходы на выплаты персоналу государственных (муниципальных) органов | B14: 910 | C14: 01 | D14: 02 | E14: 65 | F14: 1 | G14: 00 | H14: 41150 | I14: 120 | J14: 161.2 | K14: 414.3 | L14: 360.4
A15: =A29 -> Субсидии на со финансирование расходных обязательств по финансовому обеспечению деятельности органов местного самоуправления и муниципальных учреждений | B15: 910 | C15: 01 | D15: 02 | E15: 65 | F15: 1 | G15: 00 | H15: 44205 | J15: =J16 -> 15.2
A16: =A14 -> Расходы на выплаты персоналу государственных (муниципальных) органов | B16: 910 | C16: 01 | D16: 02 | E16: 65 | F16: 1 | G16: 00 | H16: 44205 | I16: 100 | J16: =J17 -> 15.2
A17: =A14 -> Расходы на выплаты персоналу государственных (муниципальных) органов | B17: 910 | C17: 01 | D17: 02 | E17: 65 | F17: 1 | G17: 00 | H17: 44205 | I17: 120 | J17: 15.2
A18: Функционирование Правительства Российской Федерации, высших исполнительных органов субъектов Российской Федерации, местных администраций | B18: 910 | C18: 01 | D18: 04 | J18: =J19+J32 -> 1410.6 | K18: =K19 -> 807.1 | L18: =L19 -> 920.8
A19: Обеспечение деятельности Администрации Анненковского сельского поселения Ромодановского муниципального района Республики Мордовия | B19: 910 | C19: 01 | D19: 04 | E19: 65 | J19: =J20 -> 1410 | K19: =K20+K24+K36 -> 807.1 | L19: =L20+L24+L36+L42 -> 920.8
A20: Расходы в рамках обеспечения деятельности Администрации Анненковского сельского поселения | B20: 910 | C20: 01 | D20: 04 | E20: 65 | F20: 2 | J20: =J21+J24+J29 -> 1410 | K20: =K21 -> 605.9 | L20: =L21 -> 605.9
A21: Расходы на выплату по оплате труда работников органов местного самоуправления | B21: 910 | C21: 01 | D21: 04 | E21: 65 | F21: 2 | G21: 00 | H21: 41110 | J21: =J22 -> 702.4 | K21: =K22 -> 605.9 | L21: =L22 -> 605.9
A22: Расходы на выплаты персоналу в целях обеспечения выполнения функций государственными (муниципальными) органами, казенными учреждениями, органами управления государственными внебюджетными фондами | B22: 910 | C22: 01 | D22: 04 | E22: 65 | F22: 2 | G22: 00 | H22: 41110 | I22: 100 | J22: =J23 -> 702.4 | K22: =K23 -> 605.9 | L22: =L23 -> 605.9
A23: Расходы на выплаты персоналу государственных (муниципальных) органов | B23: 910 | C23: 01 | D23: 04 | E23: 65 | F23: 2 | G23: 00 | H23: 41110 | I23: 120 | J23: 702.4 | K23: 605.9 | L23: 605.9
A24: Расходы на обеспечение выполнения функций органов местного самоуправления | B24: 910 | C24: 01 | D24: 04 | E24: 65 | F24: 2 | G24: 00 | H24: 41120 | J24: =+J25+J27 -> 492.6 | K24: =K25+K27 -> 200.6 | L24: =L25+L27 -> 309.3
A25: Закупка товаров, работ и услуг для обеспечения государственных (муниципальных) нужд | B25: 910 | C25: 01 | D25: 04 | E25: 65 | F25: 2 | G25: 00 | H25: 41120 | I25: 200 | J25: =J26 -> 488 | K25: =K26 -> 195.6 | L25: =L26 -> 304.3
A26: Иные закупки товаров, работ и услуг для обеспечения государственных (муниципальных) нужд | B26: 910 | C26: 01 | D26: 04 | E26: 65 | F26: 2 | G26: 00 | H26: 41120 | I26: 240 | J26: 488 | K26: 195.6 | L26: 304.3
A27: Иные бюджетные ассигнования | B27: 910 | C27: 01 | D27: 04 | E27: 65 | F27: 2 | G27: 00 | H27: 41120 | I27: 800 | J27: =J28 -> 4.6 | K27: =K28 -> 5 | L27: =L28 -> 5
A28: Уплата налогов, сборов и иных платежей | B28: 910 | C28: 01 | D28: 04 | E28: 65 | F28: 2 | G28: 00 | H28: 41120 | I28: 850 | J28: 4.6 | K28: 5 | L28: 5
A29: ='[1]Приложение 2'!$A$24 -> Субсидии на со финансирование расходных обязательств по финансовому обеспечению деятельности органов местного самоуправления и муниципальных учреждений | B29: 910 | C29: 01 | D29: 04 | E29: 65 | F29: 2 | G29: 00 | H29: 44205 | J29: =J30 -> 215
A30: =A13 -> Расходы на выплаты персоналу в целях обеспечения выполнения функций государственными (муниципальными) органами, казенными учреждениями, органами управления государственными внебюджетными фондами | B30: 910 | C30: 01 | D30: 04 | E30: 65 | F30: 2 | G30: 00 | H30: 44205 | I30: 100 | J30: =J31 -> 215
A31: =A14 -> Расходы на выплаты персоналу государственных (муниципальных) органов | B31: 910 | C31: 01 | D31: 04 | E31: 65 | F31: 2 | G31: 00 | H31: 44205 | I31: 120 | J31: 215
A32: Непрограммные расходы главных распорядителей средств бюджета Анненковского сельского поселения Ромодановского муниципального района Республики Мордовия | B32: 910 | C32: 01 | D32: 04 | E32: 89 | J32: =J33 -> 0.6 | K32: =K33 -> 0.6 | L32: =L33 -> 0.6
A33: Непрограммные расходы в рамках обеспечения деятельности главных распорядителей средств бюджета Анненковского сельского поселения Ромодановского муниципального района Республики Мордовия | B33: 910 | C33: 01 | D33: 04 | E33: 89 | F33: 1 | J33: =J34 -> 0.6 | K33: =K34 -> 0.6 | L33: =L34 -> 0.6
A34: Осуществление государственных полномочий Республики Мордовия по определению перечня должностных лиц, уполномоченных составлять протоколы об административных правонарушениях, предусмотренных Законом Республики Мордовия от 15 июня 2015 года № 38-З "Об административной ответственности на территории Республики Мордовия" | B34: 910 | C34: 01 | D34: 04 | E34: 89 | F34: 1 | G34: 00 | H34: 77150 | J34: =J35 -> 0.6 | K34: =K35 -> 0.6 | L34: =L35 -> 0.6
A35: Закупка товаров, работ и услуг для обеспечения государственных (муниципальных) нужд | B35: 910 | C35: 01 | D35: 04 | E35: 89 | F35: 1 | G35: 00 | H35: 77150 | I35: 200 | J35: =J36 -> 0.6 | K35: =K36 -> 0.6 | L35: =L36 -> 0.6
A36: Иные закупки товаров, работ и услуг для обеспечения государственных (муниципальных) нужд | B36: 910 | C36: 01 | D36: 04 | E36: 89 | F36: 1 | G36: 00 | H36: 77150 | I36: 240 | J36: 0.6 | K36: 0.6 | L36: 0.6
A37: Резервные фонды | B37: 910 | C37: 01 | D37: 11 | J37: =J38 -> 5 | K37: =K38 -> 5 | L37: =L38 -> 5
A38: Непрограммные расходы главных распорядителей средств бюджетаАнненковского сельского поселения Ромодановского муниципального района Республики Мордовия | B38: 910 | C38: 01 | D38: 11 | E38: 89 | J38: =J39 -> 5 | K38: =K39 -> 5 | L38: =L39 -> 5
A39: Непрограммные расходы в рамках обеспечения деятельности главных распорядителей средств бюджетаАнненковского сельского поселения Ромодановского муниципального района Республики Мордовия | B39: 910 | C39: 01 | D39: 11 | E39: 89 | F39: 1 | J39: =J40 -> 5 | K39: =K40 -> 5 | L39: =L40 -> 5
A40: Резервный фонд аминистрации Анненковского сельского поселени Ромодановского муниципального района Республики Мордовия | B40: 910 | C40: 01 | D40: 11 | E40: 89 | F40: 1 | G40: 00 | H40: 41180 | J40: =J42 -> 5 | K40: =K42 -> 5 | L40: =L41 -> 5
...

Sheet Приложение 3
H1: Приложение 3 к решению Совета депутатов Анненковского сельского поселения Ромодановского муниципального района Республики Мордовия «О внесении изменений в решение Совета депутатов Анненковского сельского поселения Ромодановского муниципального района Республики Мордовия от 26 декабря 2024 г № 21 «О бюджете Анненковского сельского поселения Ромодановского муниципального района Республики Мордовия на 2025 год и на плановый период 2026 и 2027 годов» Приложение 4 к решению Совета депутатов Анненковского сельского поселения Ромодановского муниципального района Республики Мордовия «О бюджете Анненковского сельского поселения Ромодановского муниципального района Республики Мордовия на 2025 год и на плановый период 2026 и 2027 годов»
A2: РАСПРЕДЕЛЕНИЕ БЮДЖЕТНЫХ АССИГНОВАНИЙ БЮДЖЕТА АННЕНКОВСКОГО СЕЛЬСКОГО ПОСЕЛЕНИЯ РОМОДАНОВСКОГО МУНИЦИПАЛЬНОГО РАЙОНА РЕСПУБЛИКИ МОРДОВИЯ ПО РАЗДЕЛАМ, ПОДРАЗДЕЛАМ, ЦЕЛЕВЫМ СТАТЬЯМ (МУНИЦИПАЛЬНЫМ ПРОГРАММАМ И НЕПРОГРАММНЫМ НАПРАВЛЕНИЯМ ДЕЯТЕЛЬНОСТИ), ГРУППАМ И ПОДГРУППАМ ВИДОВ РАСХОДОВ КЛАССИФИКАЦИИ РАСХОДОВ БЮДЖЕТОВ НА 2025 ГОД И НА ПЛАНОВЫЙ ПЕРИОД 2026 И 2027 ГОДОВ
H3: (тыс. рублей)
A4: Наименование | B4: Рз | C4: Прз | D4: Цср | H4: Вр | I4: Сумма
I5: 2025 год | J5: 2026 год | K5: 2027 год
A6: 1 | B6: 2 | C6: 3 | D6: 4 | E6: 5 | F6: 6 | G6: 7 | H6: 8 | I6: 9 | J6: 10 | K6: 11
A7: ВСЕГО | I7: =I8+I49+I65+I78+I97+I104+I43+I58+I37 -> 3383.6 | J7: =J8+J49+J65+J78+J97+J111+J104 -> 2011.3 | K7: =K8+K49+K65+K78+K97+K111+K104 -> 2129.6
A8: Общегосударственные вопросы | B8: 01 | I8: =I9+I18 -> 1587 | J8: =J9+J18+J37 -> 1226.4 | K8: =K9+K18+K37 -> 1281.2
A9: Функционирование высшего должностного лица субъекта Российской Федерации и муниципального образования | B9: 01 | C9: 02 | I9: =I10 -> 176.4 | J9: =J10 -> 414.3 | K9: =K10 -> 360.4
A10: ='Приложение 2'!A10 -> Обеспечение деятельности Администрации Анненковского сельского поселения Ромодановского муниципального района Республики Мордовия | B10: 01 | C10: 02 | D10: 65 | I10: =I11 -> 176.4 | J10: =J11 -> 414.3 | K10: =K11 -> 360.4
A11: Высшее должностное лицо | B11: 01 | C11: 02 | D11: 65 | E11: 1 | I11: =I12+I15 -> 176.4 | J11: =J12 -> 414.3 | K11: =K12 -> 360.4
A12: Расходы на выплаты по оплате труда высшего должностного лица | B12: 01 | C12: 02 | D12: 65 | E12: 1 | F12: 00 | G12: 41150 | I12: =I13 -> 161.2 | J12: =J13 -> 414.3 | K12: =K13 -> 360.4
A13: Расходы на выплаты персоналу в целях обеспечения выполнения функций государственными (муниципальными) органами, казенными учреждениями, органами управления государственными внебюджетными фондами | B13: 01 | C13: 02 | D13: 65 | E13: 1 | F13: 00 | G13: 41150 | H13: 100 | I13: =I14 -> 161.2 | J13: =J14 -> 414.3 | K13: =K14 -> 360.4
A14: Расходы на выплаты персоналу государственных (муниципальных) органов | B14: 01 | C14: 02 | D14: 65 | E14: 1 | F14: 00 | G14: 41150 | H14: 120 | I14: ='Приложение 2'!J14 -> 161.2 | J14: ='Приложение 2'!K14 -> 414.3 | K14: ='Приложение 2'!L14 -> 360.4
A15: ='Приложение 2'!A15 -> Субсидии на со финансирование расходных обязательств по финансовому обеспечению деятельности органов местного самоуправления и муниципальных учреждений | B15: 01 | C15: 02 | D15: 65 | E15: 1 | F15: 00 | G15: 44205 | I15: =I16 -> 15.2
A16: ='Приложение 2'!A16 -> Расходы на выплаты персоналу государственных (муниципальных) органов | B16: 01 | C16: 02 | D16: 65 | E16: 1 | F16: 00 | G16: 44205 | H16: 100 | I16: =I17 -> 15.2
A17: ='Приложение 2'!A17 -> Расходы на выплаты персоналу государственных (муниципальных) органов | B17: 01 | C17: 05 | D17: 65 | E17: 1 | F17: 00 | G17: 44205 | H17: 120 | I17: ='Приложение 2'!J17 -> 15.2
A18: ='Приложение 2'!A18 -> Функционирование Правительства Российской Федерации, высших исполнительных органов субъектов Российской Федерации, местных администраций | B18: 01 | C18: 04 | I18: =I19+I32 -> 1410.6 | J18: =J19+J32 -> 807.1 | K18: =K19+K32 -> 915.8
A19: ='Приложение 2'!A19 -> Обеспечение деятельности Администрации Анненковского сельского поселения Ромодановского муниципального района Республики Мордовия | B19: 01 | C19: 04 | D19: 65 | I19: =I20 -> 1410 | J19: =J20 -> 806.5 | K19: =K20 -> 915.2
A20: ='Приложение 2'!A20 -> Расходы в рамках обеспечения деятельности Администрации Анненковского сельского поселения | B20: 01 | C20: 04 | D20: 65 | E20: 2 | I20: =I21+I24+I29 -> 1410 | J20: =J21+J24 -> 806.5 | K20: =K21+K24 -> 915.2
A21: Расходы на выплаты по оплате труда работников органов местного самоуправления | B21: 01 | C21: 04 | D21: 65 | E21: 2 | F21: 00 | G21: 41110 | I21: =I22 -> 702.4 | J21: =J22 -> 605.9 | K21: =K22 -> 605.9
A22: Расходы на выплаты персоналу в целях обеспечения выполнения функций государственными (муниципальными) органами, казенными учреждениями, органами управления государственными внебюджетными фондами | B22: 01 | C22: 04 | D22: 65 | E22: 2 | F22: 00 | G22: 41110 | H22: 100 | I22: =I23 -> 702.4 | J22: =J23 -> 605.9 | K22: =K23 -> 605.9
A23: Расходы на выплаты персоналу государственных (муниципальных) органов | B23: 01 | C23: 04 | D23: 65 | E23: 2 | F23: 00 | G23: 41110 | H23: 120 | I23: ='Приложение 2'!J23 -> 702.4 | J23: ='Приложение 2'!K23 -> 605.9 | K23: ='Приложение 2'!L23 -> 605.9
A24: Расходы на обеспечение выполнения функций органов местного самоуправления | B24: 01 | C24: 04 | D24: 65 | E24: 2 | F24: 00 | G24: 41120 | I24: =+I25+I27 -> 492.6 | J24: =+J25+J27 -> 200.6 | K24: =+K25+K27 -> 309.3
A25: Закупка товаров, работ и услуг для обеспечения государственных (муниципальных) нужд | B25: 01 | C25: 04 | D25: 65 | E25: 2 | F25: 00 | G25: 41120 | H25: 200 | I25: =I26 -> 488 | J25: =J26 -> 195.6 | K25: =K26 -> 304.3
A26: Иные закупки товаров, работ и услуг для обеспечения государственных (муниципальных) нужд | B26: 01 | C26: 04 | D26: 65 | E26: 2 | F26: 00 | G26: 41120 | H26: 240 | I26: ='Приложение 2'!J26 -> 488 | J26: ='Приложение 2'!K26 -> 195.6 | K26: ='Приложение 2'!L26 -> 304.3
A27: Иные бюджетные ассигнования | B27: 01 | C27: 04 | D27: 65 | E27: 2 | F27: 00 | G27: 41120 | H27: 800 | I27: =I28 -> 4.6 | J27: =J28 -> 5 | K27: =K28 -> 5
A28: Уплата налогов, сборов и иных платежей | B28: 01 | C28: 04 | D28: 65 | E28: 2 | F28: 00 | G28: 41120 | H28: 850 | I28: ='Приложение 2'!J28 -> 4.6 | J28: ='Приложение 2'!K28 -> 5 | K28: ='Приложение 2'!L28 -> 5
A29: ='Приложение 2'!A29 -> Субсидии на со финансирование расходных обязательств по финансовому обеспечению деятельности органов местного самоуправления и муниципальных учреждений | B29: 01 | C29: 04 | D29: 65 | E29: 2 | F29: 00 | G29: 44205 | I29: =I30 -> 215
A30: ='Приложение 2'!A30 -> Расходы на выплаты персоналу в целях обеспечения выполнения функций государственными (муниципальными) органами, казенными учреждениями, органами управления государственными внебюджетными фондами | B30: 01 | C30: 04 | D30: 65 | E30: 2 | F30: 00 | G30: 44205 | H30: 100 | I30: =I31 -> 215
A31: ='Приложение 2'!A31 -> Расходы на выплаты персоналу государственных (муниципальных) органов | B31: 01 | C31: 04 | D31: 65 | E31: 2 | F31: 00 | G31: 44205 | H31: 120 | I31: ='Приложение 2'!J31 -> 215
A32: ='Приложение 2'!A32 -> Непрограммные расходы главных распорядителей средств бюджета Анненковского сельского поселения Ромодановского муниципального района Республики Мордовия | B32: 01 | C32: 04 | D32: 89 | I32: =I33 -> 0.6 | J32: =J33 -> 0.6 | K32: =K33 -> 0.6
A33: ='Приложение 2'!A33 -> Непрограммные расходы в рамках обеспечения деятельности главных распорядителей средств бюджета Анненковского сельского поселения Ромодановского муниципального района Республики Мордовия | B33: 01 | C33: 04 | D33: 89 | E33: 1 | I33: =I34 -> 0.6 | J33: =J34 -> 0.6 | K33: =K34 -> 0.6
A34: ='Приложение 2'!A34 -> Осуществление государственных полномочий Республики Мордовия по определению перечня должностных лиц, уполномоченных составлять протоколы об административных правонарушениях, предусмотренных Законом Республики Мордовия от 15 июня 2015 года № 38-З "Об административной ответственности на территории Республики Мордовия" | B34: 01 | C34: 04 | D34: 89 | E34: 1 | F34: 00 | G34: 77150 | I34: =I35 -> 0.6 | J34: =J35 -> 0.6 | K34: =K35 -> 0.6
A35: Закупка товаров, работ и услуг для обеспечения государственных (муниципальных) нужд | B35: 01 | C35: 04 | D35: 89 | E35: 1 | F35: 00 | G35: 77150 | H35: 200 | I35: =I36 -> 0.6 | J35: =J36 -> 0.6 | K35: =K36 -> 0.6
A36: Иные закупки товаров, работ и услуг для обеспечения государственных (муниципальных) нужд | B36: 01 | C36: 04 | D36: 89 | E36: 1 | F36: 00 | G36: 77150 | H36: 240 | I36: ='Приложение 2'!J36 -> 0.6 | J36: ='Приложение 2'!K36 -> 0.6 | K36: ='Приложение 2'!L36 -> 0.6
A37: Резервные фонды | B37: 01 | C37: 11 | I37: =I38 -> 5 | J37: =J38 -> 5 | K37: =K38 -> 5
A38: =A32 -> Непрограммные расходы главных распорядителей средств бюджета Анненковского сельского поселения Ромодановского муниципального района Республики Мордовия | B38: 01 | C38: 11 | D38: 89 | I38: =I39 -> 5 | J38: =J39 -> 5 | K38: =K39 -> 5
A39: =A33 -> Непрограммные расходы в рамках обеспечения деятельности главных распорядителей средств бюджета Анненковского сельского поселения Ромодановского муниципального района Республики Мордовия | B39: 01 | C39: 11 | D39: 89 | E39: 1 | I39: =I40 -> 5 | J39: =J40 -> 5 | K39: =K40 -> 5
A40: ='Приложение 2'!A40 -> Резервный фонд аминистрации Анненковского сельского поселени Ромодановского муниципального района Республики Мордовия | B40: 01 | C40: 11 | D40: 89 | E40: 1 | F40: 00 | G40: 41180 | I40: =I42 -> 5 | J40: =J42 -> 5 | K40: =K42 -> 5
...

Sheet Приложение 4
I1: Приложение 4 к решению Совета депутатов Анненковского сельского поселения Ромодановского муниципального района Республики Мордовия «О внесении изменений в решение Совета депутатов Анненковского сельского поселения Ромодановского муниципального района Республики Мордовия от 26 декабря 2024 г № 21 «О бюджете Анненковского сельского поселения Ромодановского муниципального района Республики Мордовия на 2025 год и на плановый период 2026 и 2027 годов» Приложение 5 к решению Совета депутатов Анненковского сельского поселения Ромодановского муниципального района Республики Мордовия «О бюджете Анненковского сельского поселения Ромодановского муниципального района Республики Мордовия на 2025 год и на плановый период 2026 и 2027 годов»
A2: РАСПРЕДЕЛЕНИЕ БЮДЖЕТНЫХ АССИГНОВАНИЙ БЮДЖЕТА АННЕНКОВСКОГО СЕЛЬСКОГО ПОСЕЛЕНИЯ РОМОДАНОВСКОГО МУНИЦИПАЛЬНОГО РАЙОНА РЕСПУБЛИКИ МОРДОВИЯ ПО ЦЕЛЕВЫМ СТАТЬЯМ (МУНИЦИПАЛЬНЫМ ПРОГРАММАМ И НЕПРОГРАММНЫМ НАПРАВЛЕНИЯМ ДЕЯТЕЛЬНОСТИ), ГРУППАМ И ПОДГРУППАМ ВИДОВ РАСХОДОВ, РАЗДЕЛАМ И ПОДРАЗДЕЛАМ КЛАССИФИКАЦИИ РАСХОДОВ БЮДЖЕТОВ НА 2025 ГОД И НА ПЛАНОВЫЙ ПЕРИОД 2026 И 2027 ГОДОВ
I3: (тыс. рублей)
A4: Наименование | B4: Цср | F4: ВР | G4: Рз | H4: Прз | I4: Адм | J4: Сумма
J5: 2025 год | K5: 2026 год | L5: 2027 год
A6: 1 | B6: 2 | C6: 3 | D6: 4 | E6: 5 | F6: 6 | G6: 7 | H6: 8 | I6: 9 | J6: 10 | K6: 11 | L6: 12
A7: ВСЕГО | J7: =J39+J8+J27+J94 -> 3383.6 | K7: =K39+K8+K27+K94 -> 2011.3 | L7: =L39+L8+L27+L94 -> 2129.6
A8: ='Приложение 2'!A80 -> Муниципальная программа "Комплексного развития социальной инфраструктуры Анненковского сельского поселения Ромодановского муниципального района Республики Мордовия на 2018-2028 года" и с перспективой до 2030 года. | B8: 10 | J8: =J18+J9 -> 139 | K8: =K18+K9 -> 31.6 | L8: =+L18+L9 -> 19
A9: ='Приложение 2'!A81 -> Основное мероприятия "Благоустройство территории" | B9: 10 | C9: 0 | D9: 07 | J9: =J10 -> 88.9 | K9: =K10 -> 5 | L9: =L10 -> 5
A10: ='Приложение 2'!A82 -> Прочие мероприятия по благоустройству | B10: 10 | C10: 0 | D10: 07 | E10: 43040 | J10: =J11 -> 88.9 | K10: =K11 -> 5 | L10: =L11 -> 5
A11: ='Приложение 2'!A83 -> Закупка товаров, работ и услуг для обеспечения государственных (муниципальных) нужд | B11: 10 | C11: 0 | D11: 07 | E11: 43040 | F11: 200 | J11: =J12 -> 88.9 | K11: =K12 -> 5 | L11: =L12 -> 5
A12: ='Приложение 2'!A84 -> Иные закупки товаров, работ и услуг для обеспечения государственных (муниципальных) нужд | B12: 10 | C12: 0 | D12: 07 | E12: 43040 | F12: 240 | J12: =J13 -> 88.9 | K12: =K13 -> 5 | L12: =L13 -> 5
A13: ='Приложение 2'!A78 -> Жилищно-коммунальное хозяйство | B13: 10 | C13: 0 | D13: 07 | E13: 43040 | F13: 240 | G13: 05 | J13: =J14 -> 88.9 | K13: =K14 -> 5 | L13: =L14 -> 5
A14: ='Приложение 2'!A79 -> Благоустройство | B14: 10 | C14: 0 | D14: 07 | E14: 43040 | F14: 240 | G14: 05 | H14: 03 | J14: =J15 -> 88.9 | K14: =K15 -> 5 | L14: =L15 -> 5
A15: =A24 -> Администрация Анненковского сельского поселения Ромодановского муниципального района Республики Мордовия | B15: 10 | C15: 0 | D15: 07 | E15: 43040 | F15: 240 | G15: 05 | H15: 03 | I15: 910 | J15: ='Приложение 2'!J84 -> 88.9 | K15: ='Приложение 2'!K84 -> 5 | L15: ='Приложение 2'!L84 -> 5
A16: ='Приложение 2'!A7 -> Администрация Анненковского сельского поселения Ромодановского муниципального района Республики Мордовия | B16: 10 | C16: 0 | D16: 07 | E16: 43040 | F16: 240 | G16: 05 | H16: 03 | I16: 910 | J16: =J14 -> 88.9 | K16: =K14 -> 5 | L16: =L14 -> 5
A17: ='Приложение 2'!A7 -> Администрация Анненковского сельского поселения Ромодановского муниципального района Республики Мордовия | B17: 10 | C17: 0 | D17: 07 | E17: 43040 | F17: 240 | G17: 05 | H17: 03 | I17: 910 | J17: =J14 -> 88.9 | K17: =K14 -> 5 | L17: =L14 -> 5
A18: ='Приложение 2'!A85 -> Основное мероприятия "Освещение территории сельского поселения" | B18: 10 | C18: 0 | D18: 08 | J18: =J19 -> 50.1 | K18: =K19 -> 26.6 | L18: =L19 -> 14
A19: Уличное освещение | B19: 10 | C19: 0 | D19: 08 | E19: 43010 | J19: =J20 -> 50.1 | K19: =K20 -> 26.6 | L19: =L20 -> 14
A20: Закупка товаров, работ и услуг для обеспечения государственных (муниципальных) нужд | B20: 10 | C20: 0 | D20: 08 | E20: 43010 | F20: 200 | J20: =J21 -> 50.1 | K20: =K21 -> 26.6 | L20: =L21 -> 14
A21: Иные закупки товаров, работ и услуг для обеспечения государственных (муниципальных) нужд | B21: 10 | C21: 0 | D21: 08 | E21: 43010 | F21: 240 | J21: =J22 -> 50.1 | K21: =K22 -> 26.6 | L21: =L22 -> 14
A22: Жилищно-коммунальное хозяйство | B22: 10 | C22: 0 | D22: 08 | E22: 43010 | F22: 240 | G22: 05 | J22: =J23 -> 50.1 | K22: =K23 -> 26.6 | L22: =L23 -> 14
A23: Благоустройство | B23: 10 | C23: 0 | D23: 08 | E23: 43010 | F23: 240 | G23: 05 | H23: 03 | J23: =J24 -> 50.1 | K23: =K24 -> 26.6 | L23: =L24 -> 14
A24: Администрация Анненковского сельского поселения Ромодановского муниципального района Республики Мордовия | B24: 10 | C24: 0 | D24: 08 | E24: 43010 | F24: 240 | G24: 05 | H24: 03 | I24: 910 | J24: ='Приложение 2'!J88 -> 50.1 | K24: ='Приложение 2'!K88 -> 26.6 | L24: ='Приложение 2'!L88 -> 14
A25: =A16 -> Администрация Анненковского сельского поселения Ромодановского муниципального района Республики Мордовия | B25: 10 | C25: 0 | D25: 08 | E25: 43010 | F25: 240 | G25: 05 | H25: 03 | I25: 910 | J25: ='Приложение 2'!J88 -> 50.1 | K25: ='Приложение 2'!K87 -> 26.6 | L25: ='Приложение 2'!L88 -> 14
A26: =A17 -> Администрация Анненковского сельского поселения Ромодановского муниципального района Республики Мордовия | B26: 10 | C26: 0 | D26: 08 | E26: 43010 | F26: 240 | G26: 05 | H26: 03 | I26: 910 | J26: =J23 -> 50.1 | K26: =K23 -> 26.6 | L26: =L23 -> 14
A27: ='Приложение 2'!A67 -> Муниципальная программа «Комплексного развития транспортной инфраструктуры Анненковского сельского поселения Ромодановского муниципального района Республики Мордовия на 2018- 2028 года и с перспективой до 2030 года" | B27: 13 | J27: =J28 -> 370 | K27: =K28 -> 392 | L27: =L28 -> 408
A28: ='Приложение 2'!A68 -> Основное мероприятия " Ремонт и содержание дорог в границах поселения,поддержание дорожного полотна в работоспособном состоянии. | B28: 13 | C28: 0 | D28: 01 | J28: =J29 -> 370 | K28: =K29 -> 392 | L28: =L29 -> 408
A29: ='Приложение 2'!A69 -> Иные межбюджетные трансферты на осуществление полномочий по дорожной деятельности в отношении автомобильных дорог местного значения в границах населенных пунктов поселения и обеспечению безопасности дорожного движения на них, включая создание и обеспечение функционирования парковок (парковочных мест), осуществлению муниципального контроля на автомобильном транспорте, городском наземном электрическом транспорте и в дорожном хозяйстве в границах населенных пунктов поселения, организации дорожного движения, а также осуществлению иных полномочий в области использования автомобильных дорог и осуществления дорожной деятельности в соответствии с законодательством Российской Федерации | B29: 13 | C29: 0 | D29: 01 | E29: 9Д184 | J29: =J30 -> 370 | K29: =K30 -> 392 | L29: =L30 -> 408
A30: ='Приложение 2'!A87 -> Закупка товаров, работ и услуг для обеспечения государственных (муниципальных) нужд | B30: 13 | C30: 0 | D30: 01 | E30: 9Д184 | F30: 200 | J30: =J31 -> 370 | K30: =K31 -> 392 | L30: =L31 -> 408
A31: ='Приложение 2'!A88 -> Иные закупки товаров, работ и услуг для обеспечения государственных (муниципальных) нужд | B31: 13 | C31: 0 | D31: 01 | E31: 9Д184 | F31: 240 | J31: =J32 -> 370 | K31: =K32 -> 392 | L31: =L32 -> 408
A32: ='Приложение 2'!A65 -> Национальная экономика | B32: 13 | C32: 0 | D32: 01 | E32: 9Д184 | F32: 240 | G32: 04 | J32: =J33 -> 370 | K32: =K33 -> 392 | L32: =L33 -> 408
A33: ='Приложение 2'!A66 -> Дорожное хозяйство (дорожные фонды) | B33: 13 | C33: 0 | D33: 01 | E33: 9Д184 | F33: 240 | G33: 04 | H33: 09 | J33: =J34 -> 370 | K33: =K34 -> 392 | L33: =L34 -> 408
A34: =A24 -> Администрация Анненковского сельского поселения Ромодановского муниципального района Республики Мордовия | B34: 13 | C34: 0 | D34: 01 | E34: 44102 | F34: 240 | G34: 04 | H34: 09 | I34: 910 | J34: ='Приложение 2'!J71 -> 370 | K34: ='Приложение 2'!K71 -> 392 | L34: ='Приложение 2'!L71 -> 408
A35: =A25 -> Администрация Анненковского сельского поселения Ромодановского муниципального района Республики Мордовия | B35: 13 | C35: 0 | D35: 01 | E35: 9Д184 | F35: 240 | G35: 04 | H35: 09 | I35: 910 | J35: ='Приложение 2'!J71 -> 370 | K35: ='Приложение 2'!K71 -> 392 | L35: ='Приложение 2'!L71 -> 408
A36: Администрация Анненковского сельского поселения Ромодановского муниципального района Республики Мордовия | B36: 17 | C36: 3 | D36: 02 | E36: 51180 | F36: 120 | G36: 02 | H36: 03 | I36: 910 | J36: ='Приложение 2'!J55 -> 154 | K36: ='Приложение 2'!K55 -> 168.9 | L36: ='Приложение 2'!L55 -> 175.2
A37: Администрация Анненковского сельского поселения Ромодановского муниципального района Республики Мордовия | B37: 17 | C37: 3 | D37: 02 | E37: 51180 | F37: 240 | G37: 02 | H37: 03 | I37: 910 | J37: ='Приложение 2'!J57 -> 5 | K37: ='Приложение 2'!K57 -> 5 | L37: ='Приложение 2'!L57 -> 5
A38: =A26 -> Администрация Анненковского сельского поселения Ромодановского муниципального района Республики Мордовия | B38: 13 | C38: 0 | D38: 01 | E38: 9Д184 | F38: 240 | G38: 04 | H38: 09 | I38: 910 | J38: =J33 -> 370 | K38: =K33 -> 392 | L38: =L33 -> 408
A39: ='Приложение 2'!A10 -> Обеспечение деятельности Администрации Анненковского сельского поселения Ромодановского муниципального района Республики Мордовия | B39: 65 | J39: =J40+J70+J63 -> 1586.4 | K39: =K40+K70 -> 1268.3 | L39: =L40+L70 -> 1377
A40: Высшее должностное лицо | B40: 65 | C40: 1 | J40: =J41+J57 -> 176.4 | K40: =K41+K49 -> 461.8 | L40: =L41+L49 -> 461.8
...

Sheet прил5
C2: Приложение 5 к решению Совета депутатов Анненковского сельского поселения Ромодановского муниципального района Республики Мордовия «О внесении изменений в решение Совета депутатов Анненковского сельского поселения Ромодановского муниципального района Республики Мордовия от 26 декабря 2024 г № 21 «О бюджете Анненковского сельского поселения Ромодановского муниципального района Республики Мордовия на 2025 год и на плановый период 2026 и 2027 годов» Приложение 6 к решению Совета депутатов Анненковского сельского поселения Ромодановского муниципального района Республики Мордовия «О бюджете Анненковского сельского поселения Ромодановского муниципального района Республики Мордовия на 2025 год и на плановый период 2026 и 2027 годов»
A3: ИСТОЧНИКИ ВНУТРЕННЕГО ФИНАНСИРОВАНИЯ ДЕФИЦИТА БЮДЖЕТА АННЕНКОВСКОГО СЕЛЬСКОГО ПОСЕЛЕНИЯ РОМОДАНОВСКОГО МУНИЦИПАЛЬНОГО РАЙОНА РЕСПУБЛИКИ МОРДОВИЯ НА 2025 ГОД И НА ПЛАНОВЫЙ ПЕРИОД 2026 и 2027 ГОДОВ
A7: Код | B7: Наименование кода группы, подгруппы, статьи, вида источника финансирования дефицитов бюджетов, кода классификации операций сектора государственного управления, относящихся к источникам финансирования дефицитов бюджетов Российской Федерации | C7: Сумма (тыс. руб.)
C8: 2025 год | D8: 2026 год | E8: 2027 год
A9: 1 | B9: 2 | C9: 3 | D9: 4 | E9: 5
A10: 000 01 00 00 00 00 0000 000 | B10: ИСТОЧНИКИ ВНУТРЕННЕГО ФИНАНСИРОВАНИЯ ДЕФИЦИТОВ БЮДЖЕТОВ | C10: =C11+C22+C14+C18 -> -47.8 | D10: =D11+D22+D14+D18 -> -63.8 | E10: =E11+E22+E14+E18 -> -79.7
A11: 000 01 02 00 00 00 0000 000 | B11: Кредиты кредитных организаций в валюте Российской Федерации | C11: =SUM(C12) -> 0 | D11: =SUM(D12) -> 0 | E11: =SUM(E12) -> 0
A12: 000 01 02 00 00 00 0000 700 | B12: Привлечение кредитов от кредитных организаций в валюте Российской Федерации | C12: =SUM(C13) -> 0 | D12: =SUM(D13) -> 0 | E12: =SUM(E13) -> 0
A13: 000 01 02 00 00 05 0000 710 | B13: Привлечение кредитов от кредитных организаций бюджетами муниципальных районов в валюте Российской Федерации | C13: 0 | D13: 0 | E13: 0
A14: 000 01 03 00 00 00 0000 000 | B14: Бюджетные кредиты из других бюджетов бюджетной системы Российской Федерации | C14: =C15 -> -47.8 | D14: =D15 -> -63.8 | E14: =E15 -> -79.7
A15: 000 01 03 01 00 00 0000 000 | B15: Бюджетные кредиты из других бюджетов бюджетной системы Российской Федерации в валюте Российской Федерации | C15: =C16 -> -47.8 | D15: =D16 -> -63.8 | E15: =E16 -> -79.7
A16: 000 01 03 01 00 00 0000 800 | B16: Погашение бюджетных кредитов, полученных из других бюджетов бюджетной системы Российской Федерации в валюте Российской Федерации | C16: =C17 -> -47.8 | D16: =D17 -> -63.8 | E16: =E17 -> -79.7
A17: 000 01 03 01 00 10 0000 810 | B17: Погашение бюджетами сельских поселений кредитов из других бюджетов бюджетной системы Российской Федерации в валюте Российской Федерации | C17: -47.8 | D17: -63.8 | E17: -79.7
A18: 000 01 06 00 00 00 0000 000 | B18: Иные источники внутреннего финансирования дефицитов бюджетов | C18: =C19 -> 0 | D18: =D19 -> 0 | E18: =E19 -> 0
A19: 000 01 06 05 00 00 0000 000 | B19: Бюджетные кредиты, предоставленные внутри страны в валюте Российской Федерации | C19: =C20 -> 0 | D19: =D20 -> 0 | E19: =E20 -> 0
A20: 000 01 06 05 02 00 0000 600 | B20: Возврат бюджетных кредитов, предоставленных другим бюджетам бюджетной системы Российской Федерации в валюте Российской Федерации | C20: =C21 -> 0 | D20: =D21 -> 0 | E20: =E21 -> 0
A21: 000 01 06 05 02 05 0000 640 | B21: Возврат бюджетных кредитов, предоставленных другим бюджетам бюджетной системы Российской Федерации из бюджетов муниципальных районов в валюте Российской Федерации | C21: 0 | D21: 0 | E21: 0
A22: 000 01 05 00 00 00 0000 000 | B22: Изменения остатков средств на счетах по учету средств бюджета | C22: 0 | D22: 0 | E22: 0
A23: 000 01 05 02 00 00 0000 500 | B23: Увеличение прочих остатков средств бюджетов | C23: =C24 -> -3431.4 | D23: =D24 -> -2075.1 | E23: =E24 -> -2209.3
A24: 000 01 05 02 01 00 0000 510 | B24: Увеличение прочих остатков денежных средств бюджетов | C24: =C25 -> -3431.4 | D24: =D25 -> -2075.1 | E24: =E25 -> -2209.3
A25: 000 01 05 02 01 10 0000 510 | B25: Увеличение прочих остатков денежных средств бюджетов сельских поселений | C25: -3431.4 | D25: -2075.1 | E25: -2209.3
A26: 000 01 05 02 00 00 0000 600 | B26: Уменьшение прочих остатков средств бюджетов | C26: =C27 -> 3431.4 | D26: =D27 -> 2075.1 | E26: =E27 -> 2209.3
A27: 000 01 05 02 01 00 0000 610 | B27: Уменьшение прочих остатков денежных средств бюджетов | C27: =SUM(C28) -> 3431.4 | D27: =SUM(D28) -> 2075.1 | E27: =SUM(E28) -> 2209.3
A28: 000 01 05 02 01 05 0000 610 | B28: Уменьшение прочих остатков денежных средств бюджетов муниципальных районов | C28: 3431.4 | D28: 2075.1 | E28: 2209.3
A29: 000 01 00 00 00 00 0000 000 | B29: Итого источников внутреннего финансирования дефицита бюджета Анненковского сельского поселения Ромодановского муниципального района Республики Мордовия | C29: 0 | D29: 0 | E29: 0
B30: собственные доходы | C30: 1072.4 | D30: 953 | E30: 1010.7
C31: 3

Sheet прил6
D1: Приложение 6 к решению Совета депутатов Анненковского сельского поселения Ромодановского муниципального района Республики Мордовия «О внесении изменений в решение Совета депутатов Анненковского сельского поселения Ромодановского муниципального района Республики Мордовия от 26 декабря 2024 г № 21 «О бюджете Анненковского сельского поселения Ромодановского муниципального района Республики Мордовия на 2025 год и на плановый период 2026 и 2027 годов» Приложение 7 к решению Совета депутатов Анненковского сельского поселения Ромодановского муниципального района Республики Мордовия «О бюджете Анненковского сельского поселения Ромодановского муниципального района Республики Мордовия на 2025 год и на плановый период 2026 и 2027 годов»
A2: ПРОГРАММА МУНИЦИПАЛЬНЫХ ВНУТРЕННИХ ЗАИМСТВОВАНИЙ АННЕНКОВСКОГО СЕЛЬСКОГО ПОСЕЛЕНИЯ РОМОДАНОВСКОГО МУНИЦИПАЛЬНОГО РАЙОНА РЕСПУБЛИКИ МОРДОВИЯ НА 2025 ГОД И НА ПЛАНОВЫЙ ПЕРИОД 2026 И 2027 ГОДОВ
A6: № п/п | B6: ВИДЫ ЗАИМСТВОВАНИЙ | C6: Сумма (тыс. рублей)
C7: 2025 год | D7: 2026 год | E7: 2027 год
A8: 1 | B8: 2 | C8: 3 | D8: 4 | E8: 5
A9: ВСЕГО
A10: I | B10: Кредиты кредитных организаций в валюте Российской Федерации | C10: =C12 -> 0 | D10: =D12 -> 0 | E10: =E12 -> 0
B11: в том числе
A12: 1 | B12: Объем привлечения
A13: 2 | B13: Объем средств, направляемых на погашение основной суммы долга
A14: 11 | B14: Бюджетные кредиты от других бюджетов бюджетной системы Российской Федерации | C14: =C17 -> -47.8 | D14: =D17 -> -63.8 | E14: =E17 -> -79.7
B15: в том числе
A16: 1 | B16: Объем привлечения
A17: 2 | B17: Объем средств, направляемых на погашение основной суммы долга | C17: =прил5!C17 -> -47.8 | D17: =прил5!D17 -> -63.8 | E17: =прил5!E17 -> -79.7
B18: ВСЕГО | C18: =C12+C17 -> -47.8 | D18: =D12+D17 -> -63.8 | E18: =E12+E17 -> -79.7
