Workbook

Sheet Приложение 1
C1: Приложение 1 к решению Совета депутатов Кочуновского сельского поселения Ромодановского муниципального района Республики Мордовия «О внесении изменений в решение Совета депутатов Кочуновского сельского поселения Ромодановского муниципального района Республики Мордовия от 26 декабря 2024 г № 85 «О бюджете Кочуновского сельского поселения Ромодановского муниципального района Республики Мордовия на 2025 год и на плановый период 2026 и 2027 годов» Приложение 2 к решению Совета депутатов Кочуновского сельского поселения Ромодановского муниципального района Республики Мордовия «О бюджете Кочуновского сельского поселения Ромодановского муниципального района Республики Мордовия на 2025 год и на плановый период 20256и 2027 годов»
A6: ОБЪЕМ БЕЗВОЗМЕЗДНЫХ ПОСТУПЛЕНИЙ В БЮДЖЕТ КОЧУНОВСКОГО СЕЛЬСКОГО ПОСЕЛЕНИЯ РОМОДАНОВСКОГО МУНИЦИПАЛЬНОГО РАЙОНА РЕСПУБЛИКИ МОРДОВИЯ НА 2025 ГОД И НА ПЛАНОВЫЙ ПЕРИОД 2026 И 2027 ГОДОВ
E7: (тыс. рублей)
A8: Код | B8: Наименование | C8: Сумма
C9: 2025 год | D9: 2026 год | E9: 2027 год
A10: 1 | B10: 2 | C10: 3 | D10: 4 | E10: 5
A11: 2 00 00000 00 0000 000 | B11: БЕЗВОЗМЕЗДНЫЕ ПОСТУПЛЕНИЯ | C11: =C12 -> 2110.4 | D11: =D12 -> 1517.2 | E11: =E12 -> 1624.9
A12: 2 02 00000 00 0000 000 | B12: Безвозмездные поступления от других бюджетов бюджетной системы Российской Федерации | C12: =C13+C21+C26+C18 -> 2110.4 | D12: =D13+D21+D26 -> 1517.2 | E12: =E13+E21+E26 -> 1624.9
A13: 2 02 10000 00 0000 150 | B13: Дотации бюджетам бюджетной системы Российской Федерации | C13: =C14+C16 -> 1200.7 | D13: =D14 -> 746.6 | E13: =E14 -> 824
A14: 2 02 15001 00 0000 150 | B14: Дотации на выравнивание бюджетной обеспеченности | C14: =C15 -> 857.5 | D14: =D15 -> 746.6 | E14: =E15 -> 824
A15: 2 02 15001 10 0000 150 | B15: Дотации бюджетам сельских поселений на выравнивание бюджетной обеспеченности из бюджета субъекта Российской Федерации | C15: 857.5 | D15: 746.6 | E15: 824
A16: 2 02 15002 00 0000 150 | B16: Дотация бюджетам на поддержку мер по обеспечению сбалансированности бюджетов | C16: =C17 -> 343.2
A17: 2 02 15002 10 0000 150 | B17: Дотации бюджетам сельских поселений на поддержку мер по обеспечению сбалансированности бюджетов | C17: 343.2
A18: 2 02 20000 00 0000 150 | B18: Субсидии бюджетам бюджетной системы Российской Федерации (межбюджетные субсидии) | C18: =C19 -> 161.4
A19: 2 02 29999 00 0000 150 | B19: Прочие субсидии | C19: =C20 -> 161.4
A20: 2 02 29999 10 0000 150 | B20: Прочие субсидии бюджетам сельских поселений | C20: 161.4
A21: 2 02 30000 00 0000 150 | B21: Субвенции бюджетам бюджетной системы Российской Федерации | C21: =C22+C24 -> 160.7 | D21: =D22+D24 -> 174.6 | E21: =E22+E24 -> 180.9
A22: 2 02 30024 00 0000 150 | B22: Субвенции местным бюджетам на выполнение передаваемых полномочий субъектов Российской Федерации | C22: =C23 -> 0.6 | D22: =D23 -> 0.7 | E22: =E23 -> 0.7
A23: 2 02 30024 10 0000 150 | B23: Субвенции бюджетам сельских поселений на выполнение передаваемых полномочий субъектов Российской Федерации | C23: 0.6 | D23: 0.7 | E23: 0.7
A24: 2 02 35118 00 0000 150 | B24: Субвенции бюджетам на осуществление первичного воинского учета органами местного самоуправления поселений,муниципальных и городских округов | C24: =C25 -> 160.1 | D24: =D25 -> 173.9 | E24: =E25 -> 180.2
A25: 2 02 35118 10 0000 150 | B25: Субвенции бюджетам сельских поселений на осуществление первичного воинского учета органами местного самоуправления поселений,муниципальных и городских округов | C25: 160.1 | D25: 173.9 | E25: 180.2
A26: 2 02 40000 00 0000 150 | B26: Иные межбюджетные трансферты | C26: =C27 -> 587.6 | D26: =D27 -> 596 | E26: =E27 -> 620
A27: 2 02 40014 00 0000 150 | B27: Межбюджетные трансферты, передаваемые бюджетам муниципальных образований на осуществление части полномочий по решению вопросов местного значения в соответствии с заключенными соглашениями | C27: =C28 -> 587.6 | D27: =D28 -> 596 | E27: =E28 -> 620
A28: 2 02 40014 10 0000 150 | B28: Межбюджетные трансферты, передаваемые бюджетам сельских поселений из бюджетов муниципальных районов на осуществление части полномочий по решению вопросов местного значения в соответствии с заключенными соглашениями | C28: 587.6 | D28: 596 | E28: 620

Sheet Приложение 2
I1: Приложение 2 к решению Совета депутатов Кочуновского сельского поселения Ромодановского муниципального района Республики Мордовия «О внесении изменений в решение Совета депутатов Кочуновского сельского поселения Ромодановского муниципального района Республики Мордовия от 26 декабря 2024 г № 85 «О бюджете Кочуновского сельского поселения Ромодановского муниципального района Республики Мордовия на 2025 год и на плановый период 2026 и 2027 годов» Приложение 3 к решению Совета депутатов Кочуновского сельского поселения Ромодановского муниципального района Республики Мордовия «О бюджете Кочуновского сельского поселения Ромодановского муниципального района Республики Мордовия на 2025 год и на плановый период 2026 и 2027 годов»
A2: ВЕДОМСТВЕННАЯ СТРУКТУРА РАСХОДОВ БЮДЖЕТА КОЧУНОВСКОГО СЕЛЬСКОГО ПОСЕЛЕНИЯ РОМОДАНОВСКОГО МУНИЦИПАЛЬНОГО РАЙОНА РЕСПУБЛИКИ МОРДОВИЯ НА 2025 ГОД И НА ПЛАНОВЫЙ ПЕРИОД 2026 И 2027 ГОДОВ
I3: (тыс. рублей)
A4: Наименование | B4: Адм | C4: Рз | D4: Прз | E4: Цср | I4: Вр | J4: Сумма
J5: 2025 год | K5: 2026 год | L5: 2027 год
A6: 1 | B6: 2 | C6: 3 | D6: 4 | E6: 5 | F6: 6 | G6: 7 | H6: 8 | I6: 9 | J6: 10 | K6: 11 | L6: 12
A7: Администрация Кочуновского сельского поселения Ромодановского муниципального района Республики Мордовия | B7: 913 | J7: =J8+J49+J58+J71+J88+J102+J95 -> 2812.7 | K7: =K8+K49+K58+K71+K88+K102+K95 -> 2017.8 | L7: =L8+L49+L58+L71+L88+L95+L102 -> 2134.6
A8: Общегосударственные вопросы | B8: 913 | C8: 01 | J8: =J9+J18+J37+J43 -> 1716.3 | K8: =K9+K18+K37 -> 1039 | L8: =L9+L18+L37 -> 1088.2
A9: Функционирование высшего должностного лица субъекта Российской Федерации и муниципального образования | B9: 913 | C9: 01 | D9: 02 | J9: =J10 -> 723.8 | K9: =K10 -> 604.2 | L9: =L10 -> 551.5
A10: Обеспечение деятельности Администрации Кочуновского сельского поселения Ромодановского муниципального района Республики Мордовия | B10: 913 | C10: 01 | D10: 02 | E10: 65 | J10: =J11+J17 -> 723.8 | K10: =K11 -> 604.2 | L10: =L11 -> 551.5
A11: Высшее должностное лицо | B11: 913 | C11: 01 | D11: 02 | E11: 65 | F11: 1 | J11: =J12 -> 632.2 | K11: =K12 -> 604.2 | L11: =L12 -> 551.5
A12: Расходы на выплаты по оплате труда высшего должностного лица | B12: 913 | C12: 01 | D12: 02 | E12: 65 | F12: 1 | G12: 00 | H12: 41150 | J12: =J13 -> 632.2 | K12: =K13 -> 604.2 | L12: =L13 -> 551.5
A13: Расходы на выплаты персоналу в целях обеспечения выполнения функций государственными (муниципальными) органами, казенными учреждениями, органами управления государственными внебюджетными фондами | B13: 913 | C13: 01 | D13: 02 | E13: 65 | F13: 1 | G13: 00 | H13: 41150 | I13: 100 | J13: =J14 -> 632.2 | K13: =K14 -> 604.2 | L13: =L14 -> 551.5
A14: Расходы на выплаты персоналу государственных (муниципальных) органов | B14: 913 | C14: 01 | D14: 02 | E14: 65 | F14: 1 | G14: 00 | H14: 41150 | I14: 120 | J14: 632.2 | K14: 604.2 | L14: 551.5
A15: ='[1]Приложение 3'!$A$15 -> Субсидии на со финансирование расходных обязательств по финансовому обеспечению деятельности органов местного самоуправления и муниципальных учреждений | B15: 913 | C15: 01 | D15: 02 | E15: 65 | F15: 1 | G15: 00 | H15: 44205 | J15: =J16 -> 91.6
A16: =A13 -> Расходы на выплаты персоналу в целях обеспечения выполнения функций государственными (муниципальными) органами, казенными учреждениями, органами управления государственными внебюджетными фондами | B16: 913 | C16: 01 | D16: 02 | E16: 65 | F16: 1 | G16: 00 | H16: 44205 | I16: 100 | J16: =J17 -> 91.6
A17: =A14 -> Расходы на выплаты персоналу государственных (муниципальных) органов | B17: 913 | C17: 01 | D17: 02 | E17: 65 | F17: 1 | G17: 00 | H17: 44205 | I17: 120 | J17: 91.6
A18: Функционирование Правительства Российской Федерации, высших исполнительных органов субъектов Российской Федерации, местных администраций | B18: 913 | C18: 01 | D18: 04 | J18: =J19+J32 -> 980.5 | K18: =K19+K32 -> 429.8 | L18: =L19+L32 -> 531.7
A19: Обеспечение деятельности Администрации Кочуновского сельского поселения Ромодановского муниципального района Республики Мордовия | B19: 913 | C19: 01 | D19: 04 | E19: 65 | J19: =J20 -> 979.9 | K19: =K20 -> 429.1 | L19: =L20 -> 531
A20: Расходы в рамках обеспечения деятельности Администрации Кочуновского сельского поселения | B20: 913 | C20: 01 | D20: 04 | E20: 65 | F20: 2 | J20: =J21+J24+J29 -> 979.9 | K20: =K21+K24 -> 429.1 | L20: =L21+L24 -> 531
A21: Расходы на выплаты по оплате труда работников органов местного самоуправления | B21: 913 | C21: 01 | D21: 04 | E21: 65 | F21: 2 | G21: 00 | H21: 41110 | J21: =J22 -> 622.9 | K21: =K22 -> 390.6 | L21: =L22 -> 390.6
A22: Расходы на выплаты персоналу в целях обеспечения выполнения функций государственными (муниципальными) органами, казенными учреждениями, органами управления государственными внебюджетными фондами | B22: 913 | C22: 01 | D22: 04 | E22: 65 | F22: 2 | G22: 00 | H22: 41110 | I22: 100 | J22: =J23 -> 622.9 | K22: =K23 -> 390.6 | L22: =L23 -> 390.6
A23: Расходы на выплаты персоналу государственных (муниципальных) органов | B23: 913 | C23: 01 | D23: 04 | E23: 65 | F23: 2 | G23: 00 | H23: 41110 | I23: 120 | J23: 622.9 | K23: 390.6 | L23: 390.6
A24: Расходы на обеспечение выполнения функций органов местного самоуправления | B24: 913 | C24: 01 | D24: 04 | E24: 65 | F24: 2 | G24: 00 | H24: 41120 | J24: =+J25+J27 -> 285.6 | K24: =+K25+K27 -> 38.5 | L24: =L25+L27 -> 140.4
A25: Закупка товаров, работ и услуг для обеспечения государственных (муниципальных) нужд | B25: 913 | C25: 01 | D25: 04 | E25: 65 | F25: 2 | G25: 00 | H25: 41120 | I25: 200 | J25: =J26 -> 284.6 | K25: =K26 -> 37.5 | L25: =L26 -> 136.4
A26: Иные закупки товаров, работ и услуг для обеспечения государственных (муниципальных) нужд | B26: 913 | C26: 01 | D26: 04 | E26: 65 | F26: 2 | G26: 00 | H26: 41120 | I26: 240 | J26: 284.6 | K26: 37.5 | L26: 136.4
A27: Иные бюджетные ассигнования | B27: 913 | C27: 01 | D27: 04 | E27: 65 | F27: 2 | G27: 00 | H27: 41120 | I27: 800 | J27: =J28 -> 1 | K27: =K28 -> 1 | L27: =L28 -> 4
A28: Уплата налогов, сборов и иных платежей | B28: 913 | C28: 01 | D28: 04 | E28: 65 | F28: 2 | G28: 00 | H28: 41120 | I28: 850 | J28: 1 | K28: 1 | L28: 4
A29: =A15 -> Субсидии на со финансирование расходных обязательств по финансовому обеспечению деятельности органов местного самоуправления и муниципальных учреждений | B29: 913 | C29: 01 | D29: 04 | E29: 65 | F29: 2 | G29: 00 | H29: 44205 | J29: =J30 -> 71.4
A30: =A22 -> Расходы на выплаты персоналу в целях обеспечения выполнения функций государственными (муниципальными) органами, казенными учреждениями, органами управления государственными внебюджетными фондами | B30: 913 | C30: 01 | D30: 04 | E30: 65 | F30: 2 | G30: 00 | H30: 44205 | I30: 100 | J30: =J31 -> 71.4
A31: =A23 -> Расходы на выплаты персоналу государственных (муниципальных) органов | B31: 913 | C31: 01 | D31: 04 | E31: 65 | F31: 2 | G31: 00 | H31: 44205 | I31: 120 | J31: 71.4
A32: Непрограммные расходы главных распорядителей средств бюджета Кочуновского сельского поселения Ромодановского муниципального района Республики Мордовия | B32: 913 | C32: 01 | D32: 04 | E32: 89 | J32: =J33 -> 0.6 | K32: =K33 -> 0.7 | L32: =L33 -> 0.7
A33: Непрограммные расходы в рамках обеспечения деятельности главных распорядителей средств бюджета Кочуновского сельского поселения Ромодановского муниципального района Республики Мордовия | B33: 913 | C33: 01 | D33: 04 | E33: 89 | F33: 1 | J33: =J34 -> 0.6 | K33: =K34 -> 0.7 | L33: =L34 -> 0.7
A34: Осуществление государственных полномочий Республики Мордовия по определению перечня должностных лиц, уполномоченных составлять протоколы об административных правонарушениях, предусмотренных Законом Республики Мордовия от 15 июня 2015 года № 38-З "Об административной ответственности на территории Республики Мордовия" | B34: 913 | C34: 01 | D34: 04 | E34: 89 | F34: 1 | G34: 00 | H34: 77150 | J34: =J35 -> 0.6 | K34: =K35 -> 0.7 | L34: =L35 -> 0.7
A35: Закупка товаров, работ и услуг для обеспечения государственных (муниципальных) нужд | B35: 913 | C35: 01 | D35: 04 | E35: 89 | F35: 1 | G35: 00 | H35: 77150 | I35: 200 | J35: =J36 -> 0.6 | K35: =K36 -> 0.7 | L35: =L36 -> 0.7
A36: Иные закупки товаров, работ и услуг для обеспечения государственных (муниципальных) нужд | B36: 913 | C36: 01 | D36: 04 | E36: 89 | F36: 1 | G36: 00 | H36: 77150 | I36: 240 | J36: 0.6 | K36: 0.7 | L36: 0.7
A37: Резервные фонды | B37: 913 | C37: 01 | D37: 11 | J37: =J38 -> 0 | K37: =K38 -> 5 | L37: =L38 -> 5
A38: Непрограммные расходы главных распорядителей средств бюджета Кочуновского сельского поселения Ромодановского муниципального района Республики Мордовия | B38: 913 | C38: 01 | D38: 11 | E38: 89 | J38: =J39 -> 0 | K38: =K39 -> 5 | L38: =L39 -> 5
A39: Непрограммные расходы в рамках обеспечения деятельности главных распорядителей средств бюджета Кочуновского сельского поселения Ромодановского муниципального района Республики Мордовия | B39: 913 | C39: 01 | D39: 11 | E39: 89 | F39: 1 | J39: =J40 -> 0 | K39: =K40 -> 5 | L39: =L40 -> 5
A40: Резервный фонд администрации Кочуновского сельского поселения Ромодановского муниципального района Республики Мордовия | B40: 913 | C40: 01 | D40: 11 | E40: 89 | F40: 1 | G40: 00 | H40: 41180 | J40: =J42 -> 0 | K40: =K42 -> 5 | L40: =L41 -> 5
...

Sheet Приложение 3
H1: Приложение 3 к решению Совета депутатов Кочуновского сельского поселения Ромодановского муниципального района Республики Мордовия «О внесении изменений в решение Совета депутатов Кочуновского сельского поселения Ромодановского муниципального района Республики Мордовия от 26 декабря 2024 г № 85 «О бюджете Кочуновского сельского поселения Ромодановского муниципального района Республики Мордовия на 2025 год и на плановый период 2026 и 2027 годов» Приложение 4 к решению Совета депутатов Кочуновского сельского поселения Ромодановского муниципального района Республики Мордовия «О бюджете Кочуновского сельского поселения Ромодановского муниципального района Республики Мордовия на 2025 год и на плановый период 2026 и 2027 годов»
A2: РАСПРЕДЕЛЕНИЕ БЮДЖЕТНЫХ АССИГНОВАНИЙ БЮДЖЕТА КОЧУНОВСКОГО СЕЛЬСКОГО ПОСЕЛЕНИЯ РОМОДАНОВСКОГО МУНИЦИПАЛЬНОГО РАЙОНА РЕСПУБЛИКИ МОРДОВИЯ ПО РАЗДЕЛАМ, ПОДРАЗДЕЛАМ, ЦЕЛЕВЫМ СТАТЬЯМ (МУНИЦИПАЛЬНЫМ ПРОГРАММАМ И НЕПРОГРАММНЫМ НАПРАВЛЕНИЯМ ДЕЯТЕЛЬНОСТИ), ГРУППАМ И ПОДГРУППАМ ВИДОВ РАСХОДОВ КЛАССИФИКАЦИИ РАСХОДОВ БЮДЖЕТОВ НА 2025 ГОД И НА ПЛАНОВЫЙ ПЕРИОД 2026 И 2027 ГОДОВ
H3: (тыс. рублей)
A4: Наименование | B4: Рз | C4: Прз | D4: Цср | H4: Вр | I4: Сумма
I5: 2025 год | J5: 2026 год | K5: 2027 год
A6: ВСЕГО | B6: 2 | C6: 3 | D6: 4 | E6: 5 | F6: 6 | G6: 7 | H6: 8 | I6: 9 | J6: 10 | K6: 11
A7: Администрация Кочуновского сельского поселения Ромодановского муниципального района Республики Мордовия | I7: =I8+I49+I58+I71+I88+I95 -> 2812.7 | J7: =J8+J49+J58+J71+J88+J102+J95 -> 2017.8 | K7: =K8+K49+K58+K71+K88+K102+K95 -> 2134.6
A8: Общегосударственные вопросы | B8: 01 | I8: =I9+I18+I37+I43 -> 1716.3 | J8: =J9+J18+J37 -> 1039 | K8: =K9+K18+K37 -> 1088.2
A9: Функционирование высшего должностного лица субъекта Российской Федерации и муниципального образования | B9: 01 | C9: 02 | I9: =I10 -> 723.8 | J9: =J10 -> 604.2 | K9: =K10 -> 551.5
A10: ='Приложение 2'!A10 -> Обеспечение деятельности Администрации Кочуновского сельского поселения Ромодановского муниципального района Республики Мордовия | B10: 01 | C10: 02 | D10: 65 | I10: =I11+I15 -> 723.8 | J10: =J11 -> 604.2 | K10: =K11 -> 551.5
A11: Высшее должностное лицо | B11: 01 | C11: 02 | D11: 65 | E11: 1 | I11: =I12 -> 632.2 | J11: =J12 -> 604.2 | K11: =K12 -> 551.5
A12: Расходы на выплаты по оплате труда высшего должностного лица | B12: 01 | C12: 02 | D12: 65 | E12: 1 | F12: 00 | G12: 41150 | I12: =I13 -> 632.2 | J12: =J13 -> 604.2 | K12: =K13 -> 551.5
A13: Расходы на выплаты персоналу в целях обеспечения выполнения функций государственными (муниципальными) органами, казенными учреждениями, органами управления государственными внебюджетными фондами | B13: 01 | C13: 02 | D13: 65 | E13: 1 | F13: 00 | G13: 41150 | H13: 100 | I13: =I14 -> 632.2 | J13: =J14 -> 604.2 | K13: =K14 -> 551.5
A14: Расходы на выплаты персоналу государственных (муниципальных) органов | B14: 01 | C14: 02 | D14: 65 | E14: 1 | F14: 00 | G14: 41150 | H14: 120 | I14: ='Приложение 2'!J14 -> 632.2 | J14: ='Приложение 2'!K14 -> 604.2 | K14: ='Приложение 2'!L14 -> 551.5
A15: ='Приложение 2'!A15 -> Субсидии на со финансирование расходных обязательств по финансовому обеспечению деятельности органов местного самоуправления и муниципальных учреждений | B15: 01 | C15: 02 | D15: 65 | E15: 1 | F15: 00 | G15: 44205 | I15: =I16 -> 91.6
A16: ='Приложение 2'!A16 -> Расходы на выплаты персоналу в целях обеспечения выполнения функций государственными (муниципальными) органами, казенными учреждениями, органами управления государственными внебюджетными фондами | B16: 01 | C16: 02 | D16: 65 | E16: 1 | F16: 00 | G16: 44205 | H16: 100 | I16: =I17 -> 91.6
A17: =A14 -> Расходы на выплаты персоналу государственных (муниципальных) органов | B17: 01 | C17: 02 | D17: 65 | E17: 1 | F17: 00 | G17: 44205 | H17: 120 | I17: ='Приложение 2'!J17 -> 91.6
A18: ='Приложение 2'!A18 -> Функционирование Правительства Российской Федерации, высших исполнительных органов субъектов Российской Федерации, местных администраций | B18: 01 | C18: 04 | I18: =I19+I32 -> 980.5 | J18: =J19+J32 -> 429.8 | K18: =K19+K32 -> 531.7
A19: =A10 -> Обеспечение деятельности Администрации Кочуновского сельского поселения Ромодановского муниципального района Республики Мордовия | B19: 01 | C19: 04 | D19: 65 | I19: =I20 -> 979.9 | J19: =J20 -> 429.1 | K19: =K20 -> 531
A20: ='Приложение 2'!A20 -> Расходы в рамках обеспечения деятельности Администрации Кочуновского сельского поселения | B20: 01 | C20: 04 | D20: 65 | E20: 2 | I20: =I21+I24+I29 -> 979.9 | J20: =J21+J24 -> 429.1 | K20: =K21+K24 -> 531
A21: Расходы на выплаты по оплате труда работников органов местного самоуправления | B21: 01 | C21: 04 | D21: 65 | E21: 2 | F21: 00 | G21: 41110 | I21: =I22 -> 622.9 | J21: =J22 -> 390.6 | K21: =K22 -> 390.6
A22: Расходы на выплаты персоналу в целях обеспечения выполнения функций государственными (муниципальными) органами, казенными учреждениями, органами управления государственными внебюджетными фондами | B22: 01 | C22: 04 | D22: 65 | E22: 2 | F22: 00 | G22: 41110 | H22: 100 | I22: =I23 -> 622.9 | J22: =J23 -> 390.6 | K22: =K23 -> 390.6
A23: Расходы на выплаты персоналу государственных (муниципальных) органов | B23: 01 | C23: 04 | D23: 65 | E23: 2 | F23: 00 | G23: 41110 | H23: 120 | I23: ='Приложение 2'!J23 -> 622.9 | J23: ='Приложение 2'!K23 -> 390.6 | K23: ='Приложение 2'!L23 -> 390.6
A24: ='Приложение 2'!A24 -> Расходы на обеспечение выполнения функций органов местного самоуправления | B24: 01 | C24: 04 | D24: 65 | E24: 2 | F24: 00 | G24: 41120 | I24: =+I25+I27 -> 285.6 | J24: =+J25+J27 -> 38.5 | K24: =+K25+K27 -> 140.4
A25: Закупка товаров, работ и услуг для обеспечения государственных (муниципальных) нужд | B25: 01 | C25: 04 | D25: 65 | E25: 2 | F25: 00 | G25: 41120 | H25: 200 | I25: =I26 -> 284.6 | J25: =J26 -> 37.5 | K25: =K26 -> 136.4
A26: Иные закупки товаров, работ и услуг для обеспечения государственных (муниципальных) нужд | B26: 01 | C26: 04 | D26: 65 | E26: 2 | F26: 00 | G26: 41120 | H26: 240 | I26: ='Приложение 2'!J26 -> 284.6 | J26: ='Приложение 2'!K26 -> 37.5 | K26: ='Приложение 2'!L26 -> 136.4
A27: Иные бюджетные ассигнования | B27: 01 | C27: 04 | D27: 65 | E27: 2 | F27: 00 | G27: 41120 | H27: 800 | I27: =I28 -> 1 | J27: =J28 -> 1 | K27: =K28 -> 4
A28: Уплата налогов, сборов и иных платежей | B28: 01 | C28: 04 | D28: 65 | E28: 2 | F28: 00 | G28: 41120 | H28: 850 | I28: ='Приложение 2'!J28 -> 1 | J28: ='Приложение 2'!K28 -> 1 | K28: ='Приложение 2'!L28 -> 4
A29: ='Приложение 2'!A29 -> Субсидии на со финансирование расходных обязательств по финансовому обеспечению деятельности органов местного самоуправления и муниципальных учреждений | B29: 01 | C29: 04 | D29: 65 | E29: 2 | F29: 00 | G29: 44205 | I29: =I30 -> 71.4
A30: ='Приложение 2'!A30 -> Расходы на выплаты персоналу в целях обеспечения выполнения функций государственными (муниципальными) органами, казенными учреждениями, органами управления государственными внебюджетными фондами | B30: 01 | C30: 04 | D30: 65 | E30: 2 | F30: 00 | G30: 44205 | H30: 100 | I30: =I31 -> 71.4
A31: ='Приложение 2'!A31 -> Расходы на выплаты персоналу государственных (муниципальных) органов | B31: 01 | C31: 04 | D31: 65 | E31: 2 | F31: 00 | G31: 44205 | H31: 120 | I31: ='Приложение 2'!J31 -> 71.4
A32: Непрограммные расходы главных распорядителей средств бюджета Кочуновского сельского поселения Ромодановского муниципального района Республики Мордовия | B32: 01 | C32: 04 | D32: 89 | I32: =I33 -> 0.6 | J32: =J33 -> 0.7 | K32: =K33 -> 0.7
A33: Непрограммные расходы в рамках обеспечения деятельности главных распорядителей средств бюджета Кочуновского сельского поселения Ромодановского муниципального района Республики Мордовия | B33: 01 | C33: 04 | D33: 89 | E33: 1 | I33: =I34 -> 0.6 | J33: =J34 -> 0.7 | K33: =K34 -> 0.7
A34: Осуществление государственных полномочий Республики Мордовия по определению перечня должностных лиц, уполномоченных составлять протоколы об административных правонарушениях, предусмотренных Законом Республики Мордовия от 15 июня 2015 года № 38-З "Об административной ответственности на территории Республики Мордовия" | B34: 01 | C34: 04 | D34: 89 | E34: 1 | F34: 00 | G34: 77150 | I34: =I35 -> 0.6 | J34: =J35 -> 0.7 | K34: =K35 -> 0.7
A35: Закупка товаров, работ и услуг для обеспечения государственных (муниципальных) нужд | B35: 01 | C35: 04 | D35: 89 | E35: 1 | F35: 00 | G35: 77150 | H35: 200 | I35: =I36 -> 0.6 | J35: =J36 -> 0.7 | K35: =K36 -> 0.7
A36: Иные закупки товаров, работ и услуг для обеспечения государственных (муниципальных) нужд | B36: 01 | C36: 04 | D36: 89 | E36: 1 | F36: 00 | G36: 77150 | H36: 240 | I36: ='Приложение 2'!J36 -> 0.6 | J36: ='Приложение 2'!K36 -> 0.7 | K36: ='Приложение 2'!L36 -> 0.7
A37: Резервные фонды | B37: 01 | C37: 11 | I37: =I38 -> 0 | J37: =J38 -> 5 | K37: =K38 -> 5
A38: Непрограммные расходы главных распорядителей средств бюджета Кочуновского сельского поселения Ромодановского муниципального района Республики Мордовия | B38: 01 | C38: 11 | D38: 89 | I38: =I39 -> 0 | J38: =J39 -> 5 | K38: =K39 -> 5
A39: Непрограммные расходы в рамках обеспечения деятельности главных распорядителей средств бюджета Кочуновского сельского поселения Ромодановского муниципального района Республики Мордовия | B39: 01 | C39: 11 | D39: 89 | E39: 1 | I39: =I40 -> 0 | J39: =J40 -> 5 | K39: =K40 -> 5
A40: ='Приложение 2'!A40 -> Резервный фонд администрации Кочуновского сельского поселения Ромодановского муниципального района Республики Мордовия | B40: 01 | C40: 11 | D40: 89 | E40: 1 | F40: 00 | G40: 41180 | I40: =I42 -> 0 | J40: =J42 -> 5 | K40: =K42 -> 5
...

Sheet Приложение4
I1: Приложение 4 к решению Совета депутатов Кочуновского сельского поселения Ромодановского муниципального района Республики Мордовия «О внесении изменений в решение Совета депутатов Кочуновского сельского поселения Ромодановского муниципального района Республики Мордовия от 26 декабря 2024 г № 85 «О бюджете Кочуновского сельского поселения Ромодановского муниципального района Республики Мордовия на 2025 год и на плановый период 2026 и 2027 годов» Приложение 5 к решению Совета депутатов Кочуновского сельского поселения Ромодановского муниципального района Республики Мордовия «О бюджете Кочуновского сельского поселения Ромодановского муниципального района Республики Мордовия на 2025 год и на плановый период 2026 и 2027 годов»
A2: РАСПРЕДЕЛЕНИЕ БЮДЖЕТНЫХ АССИГНОВАНИЙ БЮДЖЕТА КОЧУНОВСКОГО СЕЛЬСКОГО ПОСЕЛЕНИЯ РОМОДАНОВСКОГО МУНИЦИПАЛЬНОГО РАЙОНА РЕСПУБЛИКИ МОРДОВИЯ ПО ЦЕЛЕВЫМ СТАТЬЯМ (МУНИЦИПАЛЬНЫМ ПРОГРАММАМ И НЕПРОГРАММНЫМ НАПРАВЛЕНИЯМ ДЕЯТЕЛЬНОСТИ), ГРУППАМ И ПОДГРУППАМ ВИДОВ РАСХОДОВ, РАЗДЕЛАМ И ПОДРАЗДЕЛАМ КЛАССИФИКАЦИИ РАСХОДОВ БЮДЖЕТОВ НА 2025 ГОД И НА ПЛАНОВЫЙ ПЕРИОД 2026 И 2027 ГОДОВ
I3: (тыс. рублей)
A4: Наименование | B4: Цср | F4: ВР | G4: Рз | H4: Прз | I4: Адм | J4: Сумма
J5: 2025 год | K5: 2026 год | L5: 2027 год
A6: 1 | B6: 2 | C6: 3 | D6: 4 | E6: 5 | F6: 6 | G6: 7 | H6: 8 | I6: 9 | J6: 10 | K6: 11 | L6: 12
A7: ВСЕГО | J7: =J8+J23+J31+J75 -> 2812.7 | K7: =K8+K23+K31+K75 -> 2017.8 | L7: =L8+L23+L31+L75 -> 2134.6
A8: ='Приложение 2'!A79 -> Муниципальная программа "Комплексного развития социальной инфраструктуры Кочуновского сельского поселения Ромодановского муниципального района Республики Мордовия на 2018-2028 года"( с перспективой развития до 2030 года) | B8: 10 | J8: =J16+J9 -> 170 | K8: =K16+K9 -> 23 | L8: =L16+L9 -> 7.6
A9: ='Приложение 2'!A80 -> Основное мероприятия "Благоустройство территории" | B9: 10 | C9: 0 | D9: 07 | J9: =J10 -> 20 | K9: =K10 -> 0 | L9: =L10 -> 0
A10: ='Приложение 2'!A81 -> Прочие мероприятия по благоустройству | B10: 10 | C10: 0 | D10: 07 | E10: 43040 | J10: =J11 -> 20 | K10: =K11 -> 0 | L10: =L11 -> 0
A11: =A18 -> Закупка товаров, работ и услуг для обеспечения государственных (муниципальных) нужд | B11: 10 | C11: 0 | D11: 07 | E11: 43040 | F11: 200 | J11: =J12 -> 20 | K11: =K12 -> 0 | L11: =L12 -> 0
A12: =A19 -> Иные закупки товаров, работ и услуг для обеспечения государственных (муниципальных) нужд | B12: 10 | C12: 0 | D12: 07 | E12: 43040 | F12: 240 | J12: =J13 -> 20 | K12: =K13 -> 0 | L12: =L13 -> 0
A13: =A20 -> Жилищно-коммунальное хозяйство | B13: 10 | C13: 0 | D13: 07 | E13: 43040 | F13: 240 | G13: 05 | J13: =J14 -> 20 | K13: =K14 -> 0 | L13: =L14 -> 0
A14: =A21 -> Благоустройство | B14: 10 | C14: 0 | D14: 07 | E14: 43040 | F14: 240 | G14: 05 | H14: 03 | J14: =J15 -> 20 | K14: =K15 -> 0 | L14: =L15 -> 0
A15: =A22 -> Администрация Кочуновского сельского поселения Ромодановского муниципального района Республики Мордовия | B15: 10 | C15: 0 | D15: 07 | E15: 43040 | F15: 240 | G15: 05 | H15: 03 | I15: 913 | J15: ='Приложение 2'!J83 -> 20 | K15: ='Приложение 2'!K83 -> 0 | L15: ='Приложение 2'!L83 -> 0
A16: ='Приложение 2'!A84 -> Основное мероприятия "Освещение территории сельского поселения" | B16: 10 | C16: 0 | D16: 08 | J16: =J17 -> 150 | K16: =K17 -> 23 | L16: =L17 -> 7.6
A17: Уличное освещение | B17: 10 | C17: 0 | D17: 08 | E17: 43010 | J17: =J18 -> 150 | K17: =K18 -> 23 | L17: =L18 -> 7.6
A18: Закупка товаров, работ и услуг для обеспечения государственных (муниципальных) нужд | B18: 10 | C18: 0 | D18: 08 | E18: 43010 | F18: 200 | J18: =J19 -> 150 | K18: =K19 -> 23 | L18: =L19 -> 7.6
A19: Иные закупки товаров, работ и услуг для обеспечения государственных (муниципальных) нужд | B19: 10 | C19: 0 | D19: 08 | E19: 43010 | F19: 240 | J19: =J20 -> 150 | K19: =K20 -> 23 | L19: =L20 -> 7.6
A20: Жилищно-коммунальное хозяйство | B20: 10 | C20: 0 | D20: 08 | E20: 43010 | F20: 240 | G20: 05 | J20: =J21 -> 150 | K20: =K21 -> 23 | L20: =L21 -> 7.6
A21: Благоустройство | B21: 10 | C21: 0 | D21: 08 | E21: 43010 | F21: 240 | G21: 05 | H21: 03 | J21: =J22 -> 150 | K21: =K22 -> 23 | L21: =L22 -> 7.6
A22: Администрация Кочуновского сельского поселения Ромодановского муниципального района Республики Мордовия | B22: 10 | C22: 0 | D22: 08 | E22: 43010 | F22: 240 | G22: 05 | H22: 03 | I22: 913 | J22: ='Приложение 2'!J87 -> 150 | K22: ='Приложение 2'!K87 -> 23 | L22: ='Приложение 2'!L87 -> 7.6
A23: ='Приложение 2'!A60 -> Муниципальная программа "Комплексного развития транспортной инфраструктуры Кочуновского сельского поселения Ромодановского муниципального района Республики Мордовия на 2018- 2028 года"(с перспективой развития до 2030 года) | B23: 13 | J23: =J24 -> 562 | K23: =K24 -> 596 | L23: =L24 -> 620
A24: Основное мероприятие "Ремонт и содержание дорог в границах поселения,поддержание дорожного полотна в работоспособном состоянии" | B24: 13 | C24: 0 | D24: 01 | J24: =J25 -> 562 | K24: =K25 -> 596 | L24: =L25 -> 620
A25: ='Приложение 2'!A62 -> Иные межбюджетные трансферты на осуществление полномочий по дорожной деятельности в отношении автомобильных дорог местного значения в границах населенных пунктов поселения и обеспечению безопасности дорожного движения на них, включая создание и обеспечение функционирования парковок (парковочных мест), осуществлению муниципального контроля на автомобильном транспорте, городском наземном электрическом транспорте и в дорожном хозяйстве в границах населенных пунктов поселения, организации дорожного движения, а также осуществлению иных полномочий в области использования автомобильных дорог и осуществления дорожной деятельности в соответствии с законодательством Российской Федерации | B25: 13 | C25: 0 | D25: 01 | E25: 9Д184 | J25: =J26 -> 562 | K25: =K26 -> 596 | L25: =L26 -> 620
A26: Закупка товаров, работ и услуг для обеспечения государственных (муниципальных) нужд | B26: 13 | C26: 0 | D26: 01 | E26: 9Д184 | F26: 200 | J26: =J27 -> 562 | K26: =K27 -> 596 | L26: =L27 -> 620
A27: Иные закупки товаров, работ и услуг для обеспечения государственных (муниципальных) нужд | B27: 13 | C27: 0 | D27: 01 | E27: 9Д184 | F27: 240 | J27: =J28 -> 562 | K27: =K28 -> 596 | L27: =L28 -> 620
A28: Национальная экономика | B28: 13 | C28: 0 | D28: 01 | E28: 9Д184 | F28: 240 | G28: 04 | J28: =J29 -> 562 | K28: =K29 -> 596 | L28: =L29 -> 620
A29: ='Приложение 2'!A59 -> Дорожное хозяйство (дорожные фонды) | B29: 13 | C29: 0 | D29: 01 | E29: 9Д184 | F29: 240 | G29: 04 | H29: 09 | J29: =J30 -> 562 | K29: =K30 -> 596 | L29: =L30 -> 620
A30: Администрация Кочуновского сельского поселения Ромодановского муниципального района Республики Мордовия | B30: 13 | C30: 0 | D30: 01 | E30: 9Д184 | F30: 240 | G30: 04 | H30: 09 | I30: 913 | J30: ='Приложение 2'!J64 -> 562 | K30: ='Приложение 2'!K64 -> 596 | L30: ='Приложение 2'!L64 -> 620
A31: ='Приложение 2'!A10 -> Обеспечение деятельности Администрации Кочуновского сельского поселения Ромодановского муниципального района Республики Мордовия | B31: 65 | J31: =J32+J51 -> 1703.7 | K31: =K32+K51 -> 1080.1 | L31: =L32+L51 -> 1182
A32: Высшее должностное лицо | B32: 65 | C32: 1 | J32: =J33+J39+J45 -> 723.8 | K32: =K33+K39 -> 651 | L32: =L33+L39 -> 651
A33: Расходы на выплаты по оплате труда высшего должностного лица | B33: 65 | C33: 1 | D33: 00 | E33: 41150 | J33: =J34 -> 632.2 | K33: =K34 -> 604.2 | L33: =L34 -> 551.5
A34: Расходы на выплаты персоналу в целях обеспечения выполнения функций государственными (муниципальными) органами, казенными учреждениями, органами управления государственными внебюджетными фондами | B34: 65 | C34: 1 | D34: 00 | E34: 41150 | F34: 100 | J34: =J35 -> 632.2 | K34: =K35 -> 604.2 | L34: =L35 -> 551.5
A35: Расходы на выплаты персоналу государственных (муниципальных) органов | B35: 65 | C35: 1 | D35: 00 | E35: 41150 | F35: 120 | J35: =J36 -> 632.2 | K35: =K36 -> 604.2 | L35: =L36 -> 551.5
A36: Общегосударственные вопросы | B36: 65 | C36: 1 | D36: 00 | E36: 41150 | F36: 120 | G36: 01 | J36: =J37 -> 632.2 | K36: =K37 -> 604.2 | L36: =L37 -> 551.5
A37: Функционирование высшего должностного лица субъекта Российской Федерации и муниципального образования | B37: 65 | C37: 1 | D37: 00 | E37: 41150 | F37: 120 | G37: 01 | H37: 02 | J37: =J38 -> 632.2 | K37: =K38 -> 604.2 | L37: =L38 -> 551.5
A38: Администрация Кочуновского сельского поселения Ромодановского муниципального района Республики Мордовия | B38: 65 | C38: 1 | D38: 00 | E38: 41150 | F38: 120 | G38: 01 | H38: 02 | I38: 913 | J38: ='Приложение 2'!J14 -> 632.2 | K38: ='Приложение 2'!K14 -> 604.2 | L38: ='Приложение 2'!L14 -> 551.5
A39: ='Приложение 3'!A106 -> Условно утвержденные расходы | B39: 65 | C39: 1 | D39: 00 | E39: 41990 | K39: =K40 -> 46.8 | L39: =L40 -> 99.5
A40: ='Приложение 3'!A107 -> Иные бюджетные ассигнования | B40: 65 | C40: 1 | D40: 00 | E40: 41990 | F40: 800 | K40: =K41 -> 46.8 | L40: =L41 -> 99.5
...

Sheet прил 5
C2: Приложение 5 к решению Совета депутатов Кочуновского сельского поселения Ромодановского муниципального района Республики Мордовия «О внесении изменений в решение Совета депутатов Кочуновского сельского поселения Ромодановского муниципального района Республики Мордовия от 26 декабря 2024 г № 85 «О бюджете Кочуновского сельского поселения Ромодановского муниципального района Республики Мордовия на 2025 год и на плановый период 2026 и 2027 годов» Приложение 6 к решению Совета депутатов Кочуновского сельского поселения Ромодановского муниципального района Республики Мордовия «О бюджете Кочуновского сельского поселения Ромодановского муниципального района Республики Мордовия на 2025 год и на плановый период 2026 и 2027 годов»
A3: ИСТОЧНИКИ ВНУТРЕННЕГО ФИНАНСИРОВАНИЯ ДЕФИЦИТА БЮДЖЕТА КОЧУНОВСКОГО СЕЛЬСКОГО ПОСЕЛЕНИЯ РОМОДАНОВСКОГО МУНИЦИПАЛЬНОГО РАЙОНА РЕСПУБЛИКИ МОРДОВИЯ НА 2025 ГОД И НА ПЛАНОВЫЙ ПЕРИОД 2026 и 2027 ГОДОВ
A7: Код | B7: Наименование кода группы, подгруппы, статьи, вида источника финансирования дефицитов бюджетов, кода классификации операций сектора государственного управления, относящихся к источникам финансирования дефицитов бюджетов Российской Федерации | C7: Сумма (тыс. руб.)
C8: 2025 год | D8: 2026 год | E8: 2027 год
A9: 1 | B9: 2 | C9: 3 | D9: 4 | E9: 5
A10: 000 01 00 00 00 00 0000 000 | B10: ИСТОЧНИКИ ВНУТРЕННЕГО ФИНАНСИРОВАНИЯ ДЕФИЦИТОВ БЮДЖЕТОВ | C10: =C11+C14+C18+C22 -> 27.8 | D10: =D14 -> -28.4 | E10: =E14 -> -35.5
A11: 000 01 02 00 00 00 0000 000 | B11: Кредиты кредитных организаций в валюте Российской Федерации | C11: =SUM(C12) -> 0 | D11: =SUM(D12) -> 0 | E11: =SUM(E12) -> 0
A12: 000 01 02 00 00 00 0000 700 | B12: Привлечение кредитов от кредитных организаций в валюте Российской Федерации | C12: =SUM(C13) -> 0 | D12: =SUM(D13) -> 0 | E12: =SUM(E13) -> 0
A13: 000 01 02 00 00 05 0000 710 | B13: Привлечение кредитов от кредитных организаций бюджетами муниципальных районов в валюте Российской Федерации
A14: 000 01 03 00 00 00 0000 000 | B14: Бюджетные кредиты из других бюджетов бюджетной системы Российской Федерации | C14: =C15 -> -21.3 | D14: =D15 -> -28.4 | E14: =E15 -> -35.5
A15: 000 01 03 01 00 00 0000 000 | B15: Бюджетные кредиты из других бюджетов бюджетной системы Российской Федерации в валюте Российской Федерации | C15: =C16 -> -21.3 | D15: =D16 -> -28.4 | E15: =E16 -> -35.5
A16: 000 01 03 01 00 00 0000 800 | B16: Погашение бюджетных кредитов, полученных из других бюджетов бюджетной системы Российской Федерации в валюте Российской Федерации | C16: =SUM(C17) -> -21.3 | D16: =SUM(D17) -> -28.4 | E16: =SUM(E17) -> -35.5
A17: 000 01 03 01 00 10 0000 810 | B17: Погашение бюджетами сельских поселений кредитов из других бюджетов бюджетной системы Российской Федерации в валюте Российской Федерации | C17: -21.3 | D17: -28.4 | E17: -35.5
A18: 000 01 06 00 00 00 0000 000 | B18: Иные источники внутреннего финансирования дефицитов бюджетов | C18: =C19 -> 0 | D18: =D19 -> 0 | E18: =E19 -> 0
A19: 000 01 06 05 00 00 0000 000 | B19: Бюджетные кредиты, предоставленные внутри страны в валюте Российской Федерации | C19: =C20 -> 0 | D19: =D20 -> 0 | E19: =E20 -> 0
A20: 000 01 06 05 02 00 0000 600 | B20: Возврат бюджетных кредитов, предоставленных другим бюджетам бюджетной системы Российской Федерации в валюте Российской Федерации | C20: =C21 -> 0 | D20: =D21 -> 0 | E20: =E21 -> 0
A21: 000 01 06 05 02 05 0000 640 | B21: Возврат бюджетных кредитов, предоставленных другим бюджетам бюджетной системы Российской Федерации из бюджетов муниципальных районов в валюте Российской Федерации | C21: 0 | D21: 0 | E21: 0
A22: 000 01 05 00 00 00 0000 000 | B22: Изменения остатков средств на счетах по учету средств бюджета | C22: =C28+C25 -> 49.1 | D22: 0 | E22: 0
A23: 000 01 05 02 00 00 0000 500 | B23: Увеличение прочих остатков средств бюджетов | C23: =SUM(C24) -> -2784.9 | D23: =SUM(D24) -> -2046.2 | E23: =SUM(E24) -> -2170.1
A24: 000 01 05 02 01 00 0000 510 | B24: Увеличение прочих остатков денежных средств бюджетов | C24: =SUM(C25) -> -2784.9 | D24: =SUM(D25) -> -2046.2 | E24: =SUM(E25) -> -2170.1
A25: 000 01 05 02 01 10 0000 510 | B25: Увеличение прочих остатков денежных средств бюджетов сельских поселений | C25: -2784.9 | D25: -2046.2 | E25: -2170.1
A26: 000 01 05 02 00 00 0000 600 | B26: Уменьшение прочих остатков средств бюджетов | C26: =SUM(C27) -> 2834 | D26: =SUM(D27) -> 2046.2 | E26: =SUM(E27) -> 2170.1
A27: 000 01 05 02 01 00 0000 610 | B27: Уменьшение прочих остатков денежных средств бюджетов | C27: =SUM(C28) -> 2834 | D27: =SUM(D28) -> 2046.2 | E27: =SUM(E28) -> 2170.1
A28: 000 01 05 02 01 05 0000 610 | B28: Уменьшение прочих остатков денежных средств бюджетов муниципальных районов | C28: 2834 | D28: 2046.2 | E28: 2170.1
A29: 000 01 00 00 00 00 0000 000 | B29: Итого источников внутреннего финансирования дефицита бюджета Кочуновского сельского поселения Ромодановского муниципального района Республики Мордовия | C29: 0 | D29: 0 | E29: 0
B30: собственные доходы | C30: 674.5 | D30: 529 | E30: 545.2

Sheet прил6
D3: Приложение 6 к решению Совета депутатов Кочуновского сельского поселения Ромодановского муниципального района Республики Мордовия «О внесении изменений в решение Совета депутатов Кочуновского сельского поселения Ромодановского муниципального района Республики Мордовия от 26 декабря 2024 г № 85 «О бюджете Кочуновского сельского поселения Ромодановского муниципального района Республики Мордовия на 2025 год и на плановый период 2026 и 2027 годов» Приложение 7 к решению Совета депутатов Кочуновского сельского поселения Ромодановского муниципального района Республики Мордовия «О бюджете Кочуновского сельского поселения Ромодановского муниципального района Республики Мордовия на 2025 год и на плановый период 2026 и 2027 годов»
A4: ПРОГРАММА МУНИЦИПАЛЬНЫХ ВНУТРЕННИХ ЗАИМСТВОВАНИЙ КОЧУНОВСКОГО СЕЛЬСКОГО ПОСЕЛЕНИЯ РОМОДАНОВСКОГО МУНИЦИПАЛЬНОГО РАЙОНА РЕСПУБЛИКИ МОРДОВИЯ НА 2025 ГОД И НА ПЛАНОВЫЙ ПЕРИОД 2026 И 2027 ГОДОВ
A8: № п/п | B8: ВИДЫ ЗАИМСТВОВАНИЙ | C8: Сумма (тыс. рублей)
C9: 2025 год | D9: 2026 год | E9: 2027 год
A10: 1 | B10: 2 | C10: 3 | D10: 4 | E10: 5
A11: ВСЕГО
A12: I | B12: Кредиты кредитных организаций в валюте Российской Федерации | C12: =C14 -> 0 | D12: =D14 -> 0 | E12: =E14 -> 0
B13: в том числе
A14: 1 | B14: Объем привлечения
A15: 2 | B15: Объем средств, направляемых на погашение основной суммы долга
A16: 11 | B16: Бюджетные кредиты от других бюджетов бюджетной системы Российской Федерации | C16: =C19 -> -21.3 | D16: =D19 -> -28.4 | E16: =E19 -> -35.5
B17: в том числе
A18: 1 | B18: Объем привлечения
A19: 2 | B19: Объем средств, направляемых на погашение основной суммы долга | C19: ='прил 5'!C17 -> -21.3 | D19: ='прил 5'!D17 -> -28.4 | E19: ='прил 5'!E17 -> -35.5
B20: ВСЕГО | C20: =C14+C19 -> -21.3 | D20: =D14+D19 -> -28.4 | E20: =E14+E19 -> -35.5
