Workbook

Sheet Прил 1
B1: Приложение 1
B2: к решению Совета депутатов Белозерьевского сельского поселения Ромодановского муниципального района Республики Мордовия "О бюджете Белозерьевского сельского поселения Ромодановского муниципального района Республики Мордовия на 2026 год и на плановый период 2026 и 2027 годов"
A3: НОРМАТИВЫ РАСПРЕДЕЛЕНИЯ ДОХОДОВ МЕЖДУ БЮДЖЕТОМ БЕЛОЗЕРЬЕВСКОГО СЕЛЬСКОГО ПОСЕЛЕНИЯ РОМОДАНОВСКОГО МУНИЦИПАЛЬНОГО РАЙОНА РЕСПУБЛИКИ МОРДОВИЯ И БЮДЖЕТОМ РОМОДАНОВСКОГО МУНИЦИПАЛЬНОГО РАЙОНА РЕСПУБЛИКИ МОРДОВИЯ НА 2026 ГОД И НА ПЛАНОВЫЙ ПЕРИОД 2027 И 2028 ГОДОВ (в процентах от сумм, зачисляемых в консолидированный бюджет Белозерьевского сельского поселения Ромодановского муниципального района Республики Мордовия)
A5: Наименование дохода | B5: Местные бюджеты,%
B6: Бюджет поселение
A7: 1 | B7: 3
A8: Доходы от федеральных налогов и сборов
A9: В части погашения задолженности и перерасчетов по отмененным налогам, сборам и иным обязательным платежам
A10: Земельный налог (по обязательствам, возникшим до 1 января 2006 года), мобилизуемый на территориях поселений | B10: 100
A11: Налог с продаж | B11: 0
A12: Налог, взимаемый в виде стоимости патента в связи с применением упрощенной системы налогообложения (за налоговые периоды с 1 января 2011 года по 1 января 2013 года) | B12: 0
A13: Налог на рекламу | B13: 0
A14: Целевые сборы с граждан и предприятий, учреждений, организаций на содержание милиции, на благоустройство территорий, на нужды образования и другие цели | B14: 0
A15: Лицензионный сбор за право торговли спиртными напитками | B15: 0
A16: Прочие местные налоги и сборы | B16: 0
A17: В части доходов от оказания платных услуг (работ) и компенсации затрат государства
A18: Прочие доходы от оказания платных услуг (работ) получателями средств бюджетов муниципальных районов | B18: 0
A19: Прочие доходы от оказания платных услуг (работ) получателями средств бюджетов поселений | B19: 100
A20: Прочие доходы от компенсации затрат бюджетов муниципальных районов | B20: 0
A21: Прочие доходы от компенсации затрат бюджетов поселений | B21: 100
A22: В части административных платежей и сборов
A23: Платежи, взимаемые органами местного самоуправления (организациями) муниципальных районов за выполнение определенных функций | B23: 0
A24: Платежи, взимаемые органами местного самоуправления (организациями) поселений за выполнение определенных функций | B24: 100
A25: В части штрафов, санкций, возмещение ущерба
A26: Доходы от возмещения ущерба при возникновении страховых случаев, когда выгодоприобретателями выступают получатели средств бюджетов муниципальных районов | B26: 0
A27: Доходы от возмещения ущерба при возникновении страховых случаев, когда выгодоприобретателями выступают получатели средств бюджетов поселений | B27: 100
A28: Денежные взыскания (штрафы) и иные суммы, взыскиваемые с лиц, виновных в совершении преступлений, и в возмещение ущерба имуществу, зачисляемые в бюджеты муниципальных районов | B28: 0
A29: Денежные взыскания (штрафы) и иные суммы, взыскиваемые с лиц, виновных в совершении преступлений, и в возмещение ущерба имуществу, зачисляемые в бюджеты поселений | B29: 100
A30: Денежные взыскания, налагаемые в возмещение ущерба, причиненного в результате незаконного или нецелевого использования бюджетных средств (в части бюджетов муниципальных районов) | B30: 0
A31: Денежные взыскания, налагаемые в возмещение ущерба, причиненного в результате незаконного или нецелевого использования бюджетных средств (в части бюджетов поселений) | B31: 100
A32: Прочие поступления от денежных взысканий (штрафов) и иных сумм в возмещение ущерба, зачисляемые в бюджеты муниципальных районов | B32: 0
A33: Прочие поступления от денежных взысканий (штрафов) и иных сумм в возмещение ущерба, зачисляемые в бюджеты поселений | B33: 100
A34: В части прочих неналоговых доходов
A35: Невыясненные поступления, зачисляемые в бюджеты муниципальных районов | B35: 0
A36: Невыясненные поступления, зачисляемые в бюджеты поселений | B36: 100
A37: Прочие неналоговые доходы бюджетов муниципальных районов | B37: 0
A38: Прочие неналоговые доходы бюджетов поселений | B38: 100

Sheet Приложение 2
C1: Приложение 2 к решению Совета депутатов Белозерьевского сельского поселения Ромодановского муниципального района Республики Мордовия «О бюджете Белозерьевского сельского поселения Ромодановского муниципального района Республики Мордовия на 2026 год и на плановый период 2027 и 2028 годов»
A6: ОБЪЕМ БЕЗВОЗМЕЗДНЫХ ПОСТУПЛЕНИЙ В БЮДЖЕТ БЕЛОЗЕРЬЕВСКОГО СЕЛЬСКОГО ПОСЕЛЕНИЯ РОМОДАНОВСКОГО МУНИЦИПАЛЬНОГО РАЙОНА РЕСПУБЛИКИ МОРДОВИЯ НА 2026 ГОД И НА ПЛАНОВЫЙ ПЕРИОД 2027 И 2028 ГОДОВ
E7: (тыс. рублей)
A8: Код | B8: Наименование | C8: Сумма
C9: 2026 год | D9: 2027 год | E9: 2028 год
A10: 1 | B10: 2 | C10: 3 | D10: 4 | E10: 5
A11: 2 00 00000 00 0000 000 | B11: БЕЗВОЗМЕЗДНЫЕ ПОСТУПЛЕНИЯ | C11: =C12 -> 6244.3 | D11: =D12 -> 2443.9 | E11: =E12 -> 2620.3
A12: 2 02 00000 00 0000 000 | B12: Безвозмездные поступления от других бюджетов бюджетной системы Российской Федерации | C12: =C13+C21+C26+C18 -> 6244.3 | D12: =D13+D21+D26 -> 2443.9 | E12: =E13+E21+E26 -> 2620.3
A13: 2 02 10000 00 0000 150 | B13: Дотации бюджетам бюджетной системы Российской Федерации | C13: =C14+C16 -> 2093.7 | D13: =D14 -> 1484 | E13: =E14 -> 1474.2
A14: 2 02 15001 00 0000 150 | B14: Дотации на выравнивание бюджетной обеспеченности | C14: =C15 -> 1871.7 | D14: =D15 -> 1484 | E14: =E15 -> 1474.2
A15: 2 02 15001 10 0000 150 | B15: Дотации бюджетам сельских поселений на выравнивание бюджетной обеспеченности из бюджета субъекта Российской Федерации | C15: 1871.7 | D15: 1484 | E15: 1474.2
A16: 2 02 15002 00 0000 150 | B16: Дотация бюджетам на поддержку мер по обеспечению сбалансированности бюджетов | C16: =C17 -> 222
A17: 2 02 15002 10 0000 150 | B17: Дотации бюджетам сельских поселений на поддержку мер по обеспечению сбалансированности бюджетов | C17: 222
A18: 2 02 20000 00 0000 150 | B18: Субсидии бюджетам бюджетной системы Российской Федерации (межбюджетные субсидии) | C18: =C19 -> 3268.3
A19: 2 02 25555 00 0000 150 | B19: Субсидии бюджетам на реализацию программ формирования современной городской среды | C19: =C20 -> 3268.3
A20: 2 02 25555 10 0000 150 | B20: Субсидии бюджетам сельских поселений на реализацию программ формирования современной городской среды | C20: 3268.3
A21: 2 02 30000 00 0000 150 | B21: Субвенции бюджетам бюджетной системы Российской Федерации | C21: =C22+C24 -> 598.3 | D21: =D22+D24 -> 658.9 | E21: =E22+E24 -> 833.1
A22: 2 02 30024 00 0000 150 | B22: Субвенции местным бюджетам на выполнение передаваемых полномочий субъектов Российской Федерации | C22: =C23 -> 3.2 | D22: =D23 -> 3.4 | E22: =E23 -> 3.5
A23: 2 02 30024 10 0000 150 | B23: Субвенции бюджетам сельских поселений на выполнение передаваемых полномочий субъектов Российской Федерации | C23: 3.2 | D23: 3.4 | E23: 3.5
A24: 2 02 35118 00 0000 150 | B24: Субвенции бюджетам на осуществление первичного воинского учета органами местного самоуправления поселений,муниципальных и городских округов | C24: =C25 -> 595.1 | D24: =D25 -> 655.5 | E24: =E25 -> 829.6
A25: 2 02 35118 10 0000 150 | B25: Субвенции бюджетам сельских поселений на осуществление первичного воинского учета органами местного самоуправления поселений,муниципальных и городских округов | C25: 595.1 | D25: 655.5 | E25: 829.6
A26: 2 02 40000 00 0000 150 | B26: Иные межбюджетные трансферты | C26: =C27 -> 284 | D26: =D27 -> 301 | E26: =E27 -> 313
A27: 2 02 40014 00 0000 150 | B27: Межбюджетные трансферты, передаваемые бюджетам муниципальных образований на осуществление части полномочий по решению вопросов местного значения в соответствии с заключенными соглашениями | C27: =C28 -> 284 | D27: =D28 -> 301 | E27: =E28 -> 313
A28: 2 02 40014 10 0000 150 | B28: Межбюджетные трансферты, передаваемые бюджетам сельских поселений из бюджетов муниципальных районов на осуществление части полномочий по решению вопросов местного значения в соответствии с заключенными соглашениями | C28: 284 | D28: 301 | E28: 313

Sheet Приложение 3
I1: Приложение 3 к решению Совета депутатов Белозерьевского сельского поселения Ромодановского муниципального района Республики Мордовия «О бюджете Белозерьевского сельского поселения Ромодановского муниципального района Республики Мордовия на 2026 год и на плановый период 2027 и 2028 годов»
A2: ВЕДОМСТВЕННАЯ СТРУКТУРА РАСХОДОВ БЮДЖЕТА БЕЛОЗЕРЬЕВСКОГО СЕЛЬСКОГО ПОСЕЛЕНИЯ РОМОДАНОВСКОГО МУНИЦИПАЛЬНОГО РАЙОНА РЕСПУБЛИКИ МОРДОВИЯ НА 2026 ГОД И НА ПЛАНОВЫЙ ПЕРИОД 2027 И 2028 ГОДОВ
I3: (тыс. рублей)
A4: Наименование | B4: Адм | C4: Рз | D4: Прз | E4: Цср | I4: Вр | J4: Сумма
J5: 2026 год | K5: 2027 год | L5: 2028 год
A6: 1 | B6: 2 | C6: 3 | D6: 4 | E6: 5 | F6: 6 | G6: 7 | H6: 8 | I6: 9 | J6: 10 | K6: 11 | L6: 12
A7: Администрация Белозерьевского сельского поселения Ромодановского муниципального района Республики Мордовия | B7: 911 | J7: =J8+J37+J46+J53+J68+J75 -> 8055.9 | K7: =K8+K37+K46+K53+K68+K75 -> 4340.2 | L7: =L8+L37+L46+L53+L68+L75 -> 4586.3
A8: Общегосударственные вопросы | B8: 911 | C8: 01 | J8: =J9+J15+J31 -> 3147.8 | K8: =K9+K15+K31 -> 2688.5 | L8: =L9+L15+L31 -> 2661
A9: Функционирование высшего должностного лица субъекта Российской Федерации и муниципального образования | B9: 911 | C9: 01 | D9: 02 | J9: =J10 -> 1050.5 | K9: =K10 -> 1048.3 | L9: =L10 -> 862.2
A10: Обеспечение деятельности Администрации Белозерьевского сельского поселения Ромодановского муниципального района Республики Мордовия | B10: 911 | C10: 01 | D10: 02 | E10: 65 | J10: =J11 -> 1050.5 | K10: =K11 -> 1048.3 | L10: =L11 -> 862.2
A11: Высшее должностное лицо | B11: 911 | C11: 01 | D11: 02 | E11: 65 | F11: 1 | J11: =J12 -> 1050.5 | K11: =K12 -> 1048.3 | L11: =L12 -> 862.2
A12: Расходы на выплаты по оплате труда высшего должностного лица | B12: 911 | C12: 01 | D12: 02 | E12: 65 | F12: 1 | G12: 00 | H12: 41150 | J12: =J13 -> 1050.5 | K12: =K13 -> 1048.3 | L12: =L13 -> 862.2
A13: Расходы на выплаты персоналу в целях обеспечения выполнения функций государственными (муниципальными) органами, казенными учреждениями, органами управления государственными внебюджетными фондами | B13: 911 | C13: 01 | D13: 02 | E13: 65 | F13: 1 | G13: 00 | H13: 41150 | I13: 100 | J13: =J14 -> 1050.5 | K13: =K14 -> 1048.3 | L13: =L14 -> 862.2
A14: Расходы на выплаты персоналу государственных (муниципальных) органов | B14: 911 | C14: 01 | D14: 02 | E14: 65 | F14: 1 | G14: 00 | H14: 41150 | I14: 120 | J14: 1050.5 | K14: 1048.3 | L14: 862.2
A15: Функционирование Правительства Российской Федерации, высших исполнительных органов государственной власти субъектов Российской Федерации, местных администраций | B15: 911 | C15: 01 | D15: 04 | J15: =J16+J26 -> 2047.3 | K15: =K16+K26 -> 1590.2 | L15: =L16+L26 -> 1748.8
A16: =A10 -> Обеспечение деятельности Администрации Белозерьевского сельского поселения Ромодановского муниципального района Республики Мордовия | B16: 911 | C16: 01 | D16: 04 | E16: 65 | J16: =J17 -> 2044.1 | K16: =K17 -> 1586.8 | L16: =L17 -> 1745.3
A17: Расходы в рамках обеспечения деятельности Администрации Белозерьевского сельского поселения | B17: 911 | C17: 01 | D17: 04 | E17: 65 | F17: 2 | J17: =J18+J21 -> 2044.1 | K17: =K18+K21 -> 1586.8 | L17: =L18+L21 -> 1745.3
A18: Расходы на выплаты по оплате труда работников органов местного самоуправления | B18: 911 | C18: 01 | D18: 04 | E18: 65 | F18: 2 | G18: 00 | H18: 41110 | J18: =J19 -> 560.4 | K18: =K19 -> 562.6 | L18: =L19 -> 570
A19: Расходы на выплаты персоналу в целях обеспечения выполнения функций государственными (муниципальными) органами, казенными учреждениями, органами управления государственными внебюджетными фондами | B19: 911 | C19: 01 | D19: 04 | E19: 65 | F19: 2 | G19: 00 | H19: 41110 | I19: 100 | J19: =J20 -> 560.4 | K19: =K20 -> 562.6 | L19: =L20 -> 570
A20: Расходы на выплаты персоналу государственных (муниципальных) органов | B20: 911 | C20: 01 | D20: 04 | E20: 65 | F20: 2 | G20: 00 | H20: 41110 | I20: 120 | J20: 560.4 | K20: 562.6 | L20: 570
A21: Расходы на обеспечение выполнения функций органов местного самоуправления | B21: 911 | C21: 01 | D21: 04 | E21: 65 | F21: 2 | G21: 00 | H21: 41120 | J21: =J22+J24 -> 1483.7 | K21: =K22+K24 -> 1024.2 | L21: =L22+L24 -> 1175.3
A22: Закупка товаров, работ и услуг для обеспечения государственных (муниципальных) нужд | B22: 911 | C22: 01 | D22: 04 | E22: 65 | F22: 2 | G22: 00 | H22: 41120 | I22: 200 | J22: =J23 -> 1473.7 | K22: =K23 -> 1014.2 | L22: =L23 -> 1165.3
A23: Иные закупки товаров, работ и услуг для обеспечения государственных (муниципальных) нужд | B23: 911 | C23: 01 | D23: 04 | E23: 65 | F23: 2 | G23: 00 | H23: 41120 | I23: 240 | J23: 1473.7 | K23: 1014.2 | L23: 1165.3
A24: Иные бюджетные ассигнования | B24: 911 | C24: 01 | D24: 04 | E24: 65 | F24: 2 | G24: 00 | H24: 41120 | I24: 800 | J24: =J25 -> 10 | K24: =K25 -> 10 | L24: =L25 -> 10
A25: Уплата налогов, сборов и иных платежей | B25: 911 | C25: 01 | D25: 04 | E25: 65 | F25: 2 | G25: 00 | H25: 41120 | I25: 850 | J25: 10 | K25: 10 | L25: 10
A26: Непрограммные расходы главных распорядителей средств бюджета Белозерьевского сельского поселения Ромодановского муниципального района Республики Мордовия | B26: 911 | C26: 01 | D26: 04 | E26: 89 | J26: =J27 -> 3.2 | K26: =K27 -> 3.4 | L26: =L27 -> 3.5
A27: Непрограммные расходы в рамках обеспечения деятельности главных распорядителей средств бюджета Белозерьевского сельского поселения Ромодановского муниципального района Республики Мордовия | B27: 911 | C27: 01 | D27: 04 | E27: 89 | F27: 1 | J27: =J28 -> 3.2 | K27: =K28 -> 3.4 | L27: =L28 -> 3.5
A28: Осуществление государственных полномочий Республики Мордовия по определению перечня должностных лиц, уполномоченных составлять протоколы об административных правонарушениях, предусмотренных Законом Республики Мордовия от 15 июня 2015 года № 38-З "Об административной ответственности на территории Республики Мордовия" | B28: 911 | C28: 01 | D28: 04 | E28: 89 | F28: 1 | G28: 00 | H28: 77150 | J28: =J29 -> 3.2 | K28: =K29 -> 3.4 | L28: =L29 -> 3.5
A29: Закупка товаров, работ и услуг для обеспечения государственных (муниципальных) нужд | B29: 911 | C29: 01 | D29: 04 | E29: 89 | F29: 1 | G29: 00 | H29: 77150 | I29: 200 | J29: =J30 -> 3.2 | K29: =K30 -> 3.4 | L29: =L30 -> 3.5
A30: Иные закупки товаров, работ и услуг для обеспечения государственных (муниципальных) нужд | B30: 911 | C30: 01 | D30: 04 | E30: 89 | F30: 1 | G30: 00 | H30: 77150 | I30: 240 | J30: 3.2 | K30: 3.4 | L30: 3.5
A31: Резервные фонды | B31: 911 | C31: 01 | D31: 11 | J31: =J32 -> 50 | K31: =K32 -> 50 | L31: =L32 -> 50
A32: Непрограммные расходы главных распорядителей бюджетных средств Белозерьевского сельского поселения Ромодановского муниципального района Республики Мордовия | B32: 911 | C32: 01 | D32: 11 | E32: 89 | J32: =J33 -> 50 | K32: =K33 -> 50 | L32: =L33 -> 50
A33: Непрограммные расходы в рамках обеспечения деятельности главных распорядителей бюджетных средств Белозерьевского сельского поселения Ромодановского муниципального района Республики Мордовия | B33: 911 | C33: 01 | D33: 11 | E33: 89 | F33: 1 | J33: =J34 -> 50 | K33: =K34 -> 50 | L33: =L34 -> 50
A34: Резервный фонд администрации Белозерьевского сельского поселения Ромодановского муниципального района Республики Мордовия | B34: 911 | C34: 01 | D34: 11 | E34: 89 | F34: 1 | G34: 00 | H34: 41180 | J34: =J36 -> 50 | K34: =K36 -> 50 | L34: =L35 -> 50
A35: Иные бюджетные ассигнования | B35: 911 | C35: 01 | D35: 11 | E35: 89 | F35: 1 | G35: 00 | H35: 41180 | I35: 800 | J35: =J36 -> 50 | K35: =K36 -> 50 | L35: =L36 -> 50
A36: Резервные средства | B36: 911 | C36: 01 | D36: 11 | E36: 89 | F36: 1 | G36: 00 | H36: 41180 | I36: 870 | J36: 50 | K36: 50 | L36: 50
A37: Национальная оборона | B37: 911 | C37: 02 | J37: =J38 -> 595.1 | K37: =K38 -> 655.5 | L37: =L38 -> 829.6
A38: Мобилизационная и вневойсковая подготовка | B38: 911 | C38: 02 | D38: 03 | J38: =J39 -> 595.1 | K38: =K39 -> 655.5 | L38: =L39 -> 829.6
A39: =A32 -> Непрограммные расходы главных распорядителей бюджетных средств Белозерьевского сельского поселения Ромодановского муниципального района Республики Мордовия | B39: 911 | C39: 02 | D39: 03 | E39: 89 | J39: =J40 -> 595.1 | K39: =K40 -> 655.5 | L39: =L40 -> 829.6
A40: =A33 -> Непрограммные расходы в рамках обеспечения деятельности главных распорядителей бюджетных средств Белозерьевского сельского поселения Ромодановского муниципального района Республики Мордовия | B40: 911 | C40: 02 | D40: 03 | E40: 89 | F40: 1 | J40: =J41 -> 595.1 | K40: =K41 -> 655.5 | L40: =L41 -> 829.6
...

Sheet Приложение 4
H1: Приложение 4 к решению Совета депутатов Белозерьевского сельского поселения Ромодановского муниципального района Республики Мордовия «О бюджете Белозерьевского сельского поселеняи Ромодановского муниципального района Республики Мордовия на 2026 год и на плановый период 2027 и 2028 годов»
A2: РАСПРЕДЕЛЕНИЕ БЮДЖЕТНЫХ АССИГНОВАНИЙ БЮДЖЕТА БЕЛОЗЕРЬЕВСКОГО СЕЛЬСКОГО ПОСЕЛЕНИЯ РОМОДАНОВСКОГО МУНИЦИПАЛЬНОГО РАЙОНА РЕСПУБЛИКИ МОРДОВИЯ ПО РАЗДЕЛАМ, ПОДРАЗДЕЛАМ, ЦЕЛЕВЫМ СТАТЬЯМ (МУНИЦИПАЛЬНЫМ ПРОГРАММАМ И НЕПРОГРАММНЫМ НАПРАВЛЕНИЯМ ДЕЯТЕЛЬНОСТИ), ГРУППАМ И ПОДГРУППАМ ВИДОВ РАСХОДОВ КЛАССИФИКАЦИИ РАСХОДОВ БЮДЖЕТОВ НА 2026 ГОД И НА ПЛАНОВЫЙ ПЕРИОД 2027 И 2028 ГОДОВ
H3: (тыс. рублей)
A4: Наименование | B4: Рз | C4: Прз | D4: Цср | H4: Вр | I4: Сумма
I5: 2026 год | J5: 2027 год | K5: 2028 год
A6: 1 | B6: 2 | C6: 3 | D6: 4 | E6: 5 | F6: 6 | G6: 7 | H6: 8 | I6: 9 | J6: 10 | K6: 11
A7: ВСЕГО | I7: =I8+I40+I49+I58+I75 -> 8055.9 | J7: =J8+J40+J49+J58+J75+J84 -> 4340.2 | K7: =K8+K40+K49+K58+K75+K84 -> 4586.3
A8: Общегосударственные вопросы | B8: 01 | I8: =I9+I16+I33 -> 3147.8 | J8: =J9+J16+J33 -> 2688.5 | K8: =K9+K16+K33 -> 2661
A9: Функционирование высшего должностного лица субъекта Российской Федерации и муниципального образования | B9: 01 | C9: 02 | I9: =I11 -> 1050.5 | J9: =J11 -> 1048.3 | K9: =K11 -> 862.2
A10: ='Приложение 3'!A9 -> Функционирование высшего должностного лица субъекта Российской Федерации и муниципального образования | B10: 01 | C10: 02 | I10: =I11 -> 1050.5 | J10: =J11 -> 1048.3 | K10: =K11 -> 862.2
A11: ='Приложение 3'!A10 -> Обеспечение деятельности Администрации Белозерьевского сельского поселения Ромодановского муниципального района Республики Мордовия | B11: 01 | C11: 02 | D11: 65 | I11: =I12 -> 1050.5 | J11: =J12 -> 1048.3 | K11: =K12 -> 862.2
A12: Высшее должностное лицо | B12: 01 | C12: 02 | D12: 65 | E12: 1 | I12: =I13 -> 1050.5 | J12: =J13 -> 1048.3 | K12: =K13 -> 862.2
A13: Расходы на выплаты по оплате труда высшего должностного лица | B13: 01 | C13: 02 | D13: 65 | E13: 1 | F13: 00 | G13: 41150 | I13: =I14 -> 1050.5 | J13: =J14 -> 1048.3 | K13: =K14 -> 862.2
A14: Расходы на выплаты персоналу в целях обеспечения выполнения функций государственными (муниципальными) органами, казенными учреждениями, органами управления государственными внебюджетными фондами | B14: 01 | C14: 02 | D14: 65 | E14: 1 | F14: 00 | G14: 41150 | H14: 100 | I14: =I15 -> 1050.5 | J14: =J15 -> 1048.3 | K14: =K15 -> 862.2
A15: Расходы на выплаты персоналу государственных (муниципальных) органов | B15: 01 | C15: 02 | D15: 65 | E15: 1 | F15: 00 | G15: 41150 | H15: 120 | I15: ='Приложение 3'!J14 -> 1050.5 | J15: ='Приложение 3'!K14 -> 1048.3 | K15: ='Приложение 3'!L14 -> 862.2
A16: Функционирование Правительства Российской Федерации, высших исполнительных органов государственной власти субъектов Российской Федерации, местных администраций | B16: 01 | C16: 04 | I16: =I18+I28 -> 2047.3 | J16: =J18+J28 -> 1590.2 | K16: =K18+K28 -> 1748.8
A17: ='Приложение 3'!A15 -> Функционирование Правительства Российской Федерации, высших исполнительных органов государственной власти субъектов Российской Федерации, местных администраций | B17: 01 | C17: 04 | I17: =I18+I28 -> 2047.3 | J17: =J18+J28 -> 1590.2 | K17: =K18+K28 -> 1748.8
A18: ='Приложение 3'!A16 -> Обеспечение деятельности Администрации Белозерьевского сельского поселения Ромодановского муниципального района Республики Мордовия | B18: 01 | C18: 04 | D18: 65 | I18: =I19 -> 2044.1 | J18: =J19 -> 1586.8 | K18: =K19 -> 1745.3
A19: ='Приложение 3'!A17 -> Расходы в рамках обеспечения деятельности Администрации Белозерьевского сельского поселения | B19: 01 | C19: 04 | D19: 65 | E19: 2 | I19: =I20+I23 -> 2044.1 | J19: =J20+J23 -> 1586.8 | K19: =K20+K23 -> 1745.3
A20: Расходы на выплаты по оплате труда работников органов местного самоуправления | B20: 01 | C20: 04 | D20: 65 | E20: 2 | F20: 00 | G20: 41110 | I20: =I21 -> 560.4 | J20: =J21 -> 562.6 | K20: =K21 -> 570
A21: Расходы на выплаты персоналу в целях обеспечения выполнения функций государственными (муниципальными) органами, казенными учреждениями, органами управления государственными внебюджетными фондами | B21: 01 | C21: 04 | D21: 65 | E21: 2 | F21: 00 | G21: 41110 | H21: 100 | I21: =I22 -> 560.4 | J21: =J22 -> 562.6 | K21: =K22 -> 570
A22: Расходы на выплаты персоналу государственных (муниципальных) органов | B22: 01 | C22: 04 | D22: 65 | E22: 2 | F22: 00 | G22: 41110 | H22: 120 | I22: ='Приложение 3'!J20 -> 560.4 | J22: ='Приложение 3'!K20 -> 562.6 | K22: ='Приложение 3'!L20 -> 570
A23: ='Приложение 3'!A21 -> Расходы на обеспечение выполнения функций органов местного самоуправления | B23: 01 | C23: 04 | D23: 65 | E23: 2 | F23: 00 | G23: 41120 | I23: =+I24+I26 -> 1483.7 | J23: =+J24+J26 -> 1024.2 | K23: =+K24+K26 -> 1175.3
A24: Закупка товаров, работ и услуг для обеспечения государственных (муниципальных) нужд | B24: 01 | C24: 04 | D24: 65 | E24: 2 | F24: 00 | G24: 41120 | H24: 200 | I24: =I25 -> 1473.7 | J24: =J25 -> 1014.2 | K24: =K25 -> 1165.3
A25: Иные закупки товаров, работ и услуг для обеспечения государственных (муниципальных) нужд | B25: 01 | C25: 04 | D25: 65 | E25: 2 | F25: 00 | G25: 41120 | H25: 240 | I25: ='Приложение 3'!J23 -> 1473.7 | J25: ='Приложение 3'!K23 -> 1014.2 | K25: ='Приложение 3'!L23 -> 1165.3
A26: Иные бюджетные ассигнования | B26: 01 | C26: 04 | D26: 65 | E26: 2 | F26: 00 | G26: 41120 | H26: 800 | I26: =I27 -> 10 | J26: =J27 -> 10 | K26: =K27 -> 10
A27: Уплата налогов, сборов и иных платежей | B27: 01 | C27: 04 | D27: 65 | E27: 2 | F27: 00 | G27: 41120 | H27: 850 | I27: ='Приложение 3'!J25 -> 10 | J27: ='Приложение 3'!K25 -> 10 | K27: ='Приложение 3'!L25 -> 10
A28: Непрограммные расходы главных распорядителей средств бюджета Белозерьевского сельского поселения Ромодановского муниципального района Республики Мордовия | B28: 01 | C28: 04 | D28: 89 | I28: =I29 -> 3.2 | J28: =J29 -> 3.4 | K28: =K29 -> 3.5
A29: Непрограммные расходы в рамках обеспечения деятельности главных распорядителей средств бюджета Белозерьевского сельского поселения Ромодановского муниципального района Республики Мордовия | B29: 01 | C29: 04 | D29: 89 | E29: 1 | I29: =I30 -> 3.2 | J29: =J30 -> 3.4 | K29: =K30 -> 3.5
A30: Осуществление государственных полномочий Республики Мордовия по определению перечня должностных лиц, уполномоченных составлять протоколы об административных правонарушениях, предусмотренных Законом Республики Мордовия от 15 июня 2015 года № 38-З "Об административной ответственности на территории Республики Мордовия" | B30: 01 | C30: 04 | D30: 89 | E30: 1 | F30: 00 | G30: 77150 | I30: =I31 -> 3.2 | J30: =J31 -> 3.4 | K30: =K31 -> 3.5
A31: Закупка товаров, работ и услуг для обеспечения государственных (муниципальных) нужд | B31: 01 | C31: 04 | D31: 89 | E31: 1 | F31: 00 | G31: 77150 | H31: 200 | I31: =I32 -> 3.2 | J31: =J32 -> 3.4 | K31: =K32 -> 3.5
A32: Иные закупки товаров, работ и услуг для обеспечения государственных (муниципальных) нужд | B32: 01 | C32: 04 | D32: 89 | E32: 1 | F32: 00 | G32: 77150 | H32: 240 | I32: ='Приложение 3'!J30 -> 3.2 | J32: ='Приложение 3'!K30 -> 3.4 | K32: ='Приложение 3'!L30 -> 3.5
A33: Резервные фонды | B33: 01 | C33: 11 | I33: =I35 -> 50 | J33: =J35 -> 50 | K33: =K35 -> 50
A34: ='Приложение 3'!A31 -> Резервные фонды | B34: 01 | C34: 11 | I34: =I35 -> 50 | J34: =J35 -> 50 | K34: =K35 -> 50
A35: Непрограммные расходы главных распорядителей средств бюджета Белозерьевского сельского поселения Ромодановского муниципального района Республики Мордовия | B35: 01 | C35: 11 | D35: 89 | I35: =I36 -> 50 | J35: =J36 -> 50 | K35: =K36 -> 50
A36: Непрограммные расходы в рамках обеспечения деятельности главных распорядителей средств бюджета Белозерьевскогоо сельского поселения Ромодановского муниципального района Республики Мордовия | B36: 01 | C36: 11 | D36: 89 | E36: 1 | I36: =I37 -> 50 | J36: =J37 -> 50 | K36: =K37 -> 50
A37: ='Приложение 3'!A34 -> Резервный фонд администрации Белозерьевского сельского поселения Ромодановского муниципального района Республики Мордовия | B37: 01 | C37: 11 | D37: 89 | E37: 1 | F37: 00 | G37: 41180 | I37: =I39 -> 50 | J37: =J39 -> 50 | K37: =K39 -> 50
A38: Иные бюджетные ассигнования | B38: 01 | C38: 11 | D38: 89 | E38: 1 | F38: 00 | G38: 41180 | H38: 800 | I38: =I39 -> 50 | J38: =J39 -> 50 | K38: =K39 -> 50
A39: Резервные средства | B39: 01 | C39: 11 | D39: 89 | E39: 1 | F39: 00 | G39: 41180 | H39: 870 | I39: ='Приложение 3'!J36 -> 50 | J39: ='Приложение 3'!K36 -> 50 | K39: ='Приложение 3'!L36 -> 50
A40: Национальная оборона | B40: 02 | I40: =I41 -> 595.1 | J40: =J41 -> 655.5 | K40: =K41 -> 829.6
...

Sheet Приложение 5
I1: Приложение 5 к решенияю Совета депутатов Белозерьевского сельского поселения Ромодановского муниципального района Республики Мордовия «О бюджете Белозерьевского сельского поселения Ромодановского муниципального района Республики Мордовия на 2026 год и на плановый период 2027 и 2028 годов»
A2: РАСПРЕДЕЛЕНИЕ БЮДЖЕТНЫХ АССИГНОВАНИЙ БЮДЖЕТА БЕЛОЗЕРЬЕВСКОГО СЕЛЬСКОГО ПОСЕЛЕНИЯ РОМОДАНОВСКОГО МУНИЦИПАЛЬНОГО РАЙОНА РЕСПУБЛИКИ МОРДОВИЯ ПО ЦЕЛЕВЫМ СТАТЬЯМ (МУНИЦИПАЛЬНЫМ ПРОГРАММАМ И НЕПРОГРАММНЫМ НАПРАВЛЕНИЯМ ДЕЯТЕЛЬНОСТИ), ГРУППАМ И ПОДГРУППАМ ВИДОВ РАСХОДОВ, РАЗДЕЛАМ И ПОДРАЗДЕЛАМ КЛАССИФИКАЦИИ РАСХОДОВ БЮДЖЕТОВ НА 2026 ГОД И НА ПЛАНОВЫЙ ПЕРИОД 2027 И 2028 ГОДОВ
I3: (тыс. рублей)
A4: Наименование | B4: Цср | F4: ВР | G4: Рз | H4: Прз | I4: Адм | J4: Сумма
J5: 2026 год | K5: 2027 год | L5: 2028 год
A6: 1 | B6: 2 | C6: 3 | D6: 4 | E6: 5 | F6: 6 | G6: 7 | H6: 8 | I6: 9 | J6: 10 | K6: 11 | L6: 12
A7: ВСЕГО | J7: =J8+J30+J38+J70 -> 8055.9 | K7: =K8+K30+K38+K70 -> 4340.2 | L7: =L8+L30+L38+L70 -> 4586.3
A8: ='Приложение 3'!A55 -> Муниципальная программа "Комплексного развития социальной инфраструктуры Белозерьевского сельского поселения Ромодановского муниципального района Республики Мордовия на 2018-2030 года" | B8: 10 | J8: =J9+J16+J23 -> 3918.3 | K8: =K9+K16 -> 500 | L8: =L9+L16 -> 500
A9: ='Приложение 3'!A56 -> Основное мероприятие "Благоустройство территории " | B9: 10 | C9: 0 | D9: 07 | J9: =J10 -> 500 | K9: =K10 -> 350 | L9: =L10 -> 350
A10: ='Приложение 3'!A57 -> Прочие мероприятия по благоустройству | B10: 10 | C10: 0 | D10: 07 | E10: 43040 | J10: =J11 -> 500 | K10: =K11 -> 350 | L10: =L11 -> 350
A11: Закупка товаров, работ и услуг для обеспечения государственных (муниципальных) нужд | B11: 10 | C11: 0 | D11: 07 | E11: 43040 | F11: 200 | J11: =J12 -> 500 | K11: =K12 -> 350 | L11: =L12 -> 350
A12: Иные закупки товаров, работ и услуг для обеспечения государственных (муниципальных) нужд | B12: 10 | C12: 0 | D12: 07 | E12: 43040 | F12: 240 | J12: =J13 -> 500 | K12: =K13 -> 350 | L12: =L13 -> 350
A13: Жилищно-коммунальное хозяйство | B13: 10 | C13: 0 | D13: 07 | E13: 43040 | F13: 240 | G13: 05 | J13: =J14 -> 500 | K13: =K14 -> 350 | L13: =L14 -> 350
A14: Благоустройство | B14: 10 | C14: 0 | D14: 07 | E14: 43040 | F14: 240 | G14: 05 | H14: 03 | J14: =J15 -> 500 | K14: =K15 -> 350 | L14: =L15 -> 350
A15: Администрация Белозерьевского сельского поселения Ромодановского муниципального района Республики Мордовия | B15: 10 | C15: 0 | D15: 07 | E15: 43040 | F15: 240 | G15: 05 | H15: 03 | I15: 911 | J15: ='Приложение 3'!J59 -> 500 | K15: ='Приложение 3'!K59 -> 350 | L15: ='Приложение 3'!L59 -> 350
A16: ='Приложение 3'!A60 -> Основное мероприятие " Освещение территории сельского поселения " | B16: 10 | C16: 0 | D16: 08 | J16: =J17 -> 150 | K16: =K17 -> 150 | L16: =L17 -> 150
A17: ='Приложение 3'!A61 -> Уличное освещение | B17: 10 | C17: 0 | D17: 08 | E17: 43010 | J17: =J18 -> 150 | K17: =K18 -> 150 | L17: =L18 -> 150
A18: Закупка товаров, работ и услуг для обеспечения государственных (муниципальных) нужд | B18: 10 | C18: 0 | D18: 08 | E18: 43010 | F18: 200 | J18: =J19 -> 150 | K18: =K19 -> 150 | L18: =L19 -> 150
A19: Иные закупки товаров, работ и услуг для обеспечения государственных (муниципальных) нужд | B19: 10 | C19: 0 | D19: 08 | E19: 43010 | F19: 240 | J19: =J20 -> 150 | K19: =K20 -> 150 | L19: =L20 -> 150
A20: Жилищно-коммунальное хозяйство | B20: 10 | C20: 0 | D20: 08 | E20: 43010 | F20: 240 | G20: 05 | J20: =J21 -> 150 | K20: =K21 -> 150 | L20: =L21 -> 150
A21: Благоустройство | B21: 10 | C21: 0 | D21: 08 | E21: 43010 | F21: 240 | G21: 05 | H21: 03 | J21: =J22 -> 150 | K21: =K22 -> 150 | L21: =L22 -> 150
A22: Администрация Белозерьевского сельского поселения Ромодановского муниципального района Республики Мордовия | B22: 10 | C22: 0 | D22: 08 | E22: 43010 | F22: 240 | G22: 05 | H22: 03 | I22: 911 | J22: ='Приложение 3'!J63 -> 150 | K22: ='Приложение 3'!K63 -> 150 | L22: ='Приложение 3'!L63 -> 150
A23: ='Приложение 3'!A64 -> Региональный проект "Формирование комфортной городской среды" | B23: 10 | C23: 0 | D23: И4 | J23: =J24 -> 3268.3
A24: ='Приложение 3'!A65 -> Благоустройство обществнных территорий | B24: 10 | C24: 0 | D24: И4 | E24: 55551 | J24: =J25 -> 3268.3
A25: ='Приложение 3'!A66 -> Закупка товаров, работ и услуг для обеспечения государственных (муниципальных) нужд | B25: 10 | C25: 0 | D25: И4 | E25: 55551 | F25: 200 | J25: =J26 -> 3268.3
A26: ='Приложение 3'!A67 -> Иные закупки товаров, работ и услуг для обеспечения государственных (муниципальных) нужд | B26: 10 | C26: 0 | D26: И4 | E26: 55551 | F26: 240 | J26: =J27 -> 3268.3
A27: =A20 -> Жилищно-коммунальное хозяйство | B27: 10 | C27: 0 | D27: И4 | E27: 55551 | F27: 240 | G27: 05 | J27: =J28 -> 3268.3
A28: =A21 -> Благоустройство | B28: 10 | C28: 0 | D28: И4 | E28: 55551 | F28: 240 | G28: 05 | H28: 03 | J28: =J29 -> 3268.3
A29: =A22 -> Администрация Белозерьевского сельского поселения Ромодановского муниципального района Республики Мордовия | B29: 10 | C29: 0 | D29: И4 | E29: 55551 | F29: 240 | G29: 05 | H29: 03 | I29: 911 | J29: ='Приложение 3'!J67 -> 3268.3
A30: ='Приложение 3'!A48 -> Муниципальная программа «Комплексного развития транспортной инфраструктуры Белозерьевского сельского поселения Ромодановского муниципального района Республики Мордовия на 2024- 2030 года" | B30: 13 | J30: =J31 -> 284 | K30: =K31 -> 301 | L30: =L31 -> 313
A31: Основное мероприятие "содействие развитию систем автомобильных дорог общего пользования,регионального и или межмуниципального,а так же местного значения" | B31: 13 | C31: 0 | D31: 01 | J31: =J32 -> 284 | K31: =K32 -> 301 | L31: =L32 -> 313
A32: ='Приложение 3'!A50 -> Иные межбюджетные трансферты на осуществление полномочий по дорожной деятельности в отношении автомобильных дорог местного значения в границах населенных пунктов поселения и обеспечению безопасности дорожного движения на них, включая создание и обеспечение функционирования парковок (парковочных мест), осуществлению муниципального контроля на автомобильном транспорте, городском наземном электрическом транспорте и в дорожном хозяйстве в границах населенных пунктов поселения, организации дорожного движения, а также осуществлению иных полномочий в области использования автомобильных дорог и осуществления дорожной деятельности в соответствии с законодательством Российской Федерации | B32: 13 | C32: 0 | D32: 01 | E32: 9Д184 | J32: =J33 -> 284 | K32: =K33 -> 301 | L32: =L33 -> 313
A33: Закупка товаров, работ и услуг для обеспечения государственных (муниципальных) нужд | B33: 13 | C33: 0 | D33: 01 | E33: 9Д184 | F33: 200 | J33: =J34 -> 284 | K33: =K34 -> 301 | L33: =L34 -> 313
A34: Иные закупки товаров, работ и услуг для обеспечения государственных (муниципальных) нужд | B34: 13 | C34: 0 | D34: 01 | E34: 9Д184 | F34: 240 | J34: =J35 -> 284 | K34: =K35 -> 301 | L34: =L35 -> 313
A35: Национальная экономика | B35: 13 | C35: 0 | D35: 01 | E35: 9Д184 | F35: 240 | G35: 04 | J35: =J36 -> 284 | K35: =K36 -> 301 | L35: =L36 -> 313
A36: ='Приложение 3'!A47 -> Дорожное хозяйство (дорожные фонды) | B36: 13 | C36: 0 | D36: 01 | E36: 9Д184 | F36: 240 | G36: 04 | H36: 09 | J36: =J37 -> 284 | K36: =K37 -> 301 | L36: =L37 -> 313
A37: Администрация Белозерьевского сельского поселения Ромодановского муниципального района Республики Мордовия | B37: 13 | C37: 0 | D37: 01 | E37: 9Д184 | F37: 240 | G37: 04 | H37: 09 | I37: 911 | J37: ='Приложение 3'!J52 -> 284 | K37: ='Приложение 3'!K52 -> 301 | L37: ='Приложение 3'!L52 -> 313
A38: ='Приложение 3'!A10 -> Обеспечение деятельности Администрации Белозерьевского сельского поселения Ромодановского муниципального района Республики Мордовия | B38: 65 | J38: =J39+J52 -> 3094.6 | K38: =K39+K52 -> 2719.6 | L38: =L39+L52 -> 2779.5
A39: Высшее должностное лицо | B39: 65 | C39: 1 | J39: =J40 -> 1050.5 | K39: =K40+K46 -> 1132.8 | L39: =L40+L46 -> 1034.2
A40: Расходы на выплаты по оплате труда высшего должностного лица | B40: 65 | C40: 1 | D40: 00 | E40: 41150 | J40: =J41 -> 1050.5 | K40: =K41 -> 1048.3 | L40: =L41 -> 862.2
...

Sheet прил 6
C1: Приложение 6
C2: к решению Совета депутатов Белозерьевского сельского поселения Ромодановского муниципального района Республики Мордовия "О бюджете Белозерьевского сельского поселения Ромодановского муниципального района Республики Мордовия на 2026 год и на плановый период 2027 и 2028 годов"
A3: ИСТОЧНИКИ ВНУТРЕННЕГО ФИНАНСИРОВАНИЯ ДЕФИЦИТА БЮДЖЕТА БЕЛОЗЕРЬЕВСКОГО СЕЛЬСКОГО ПОСЕЛЕНИЯ РОМОДАНОВСКОГО МУНИЦИПАЛЬНОГО РАЙОНА РЕСПУБЛИКИ МОРДОВИЯ НА 2026 ГОД И НА ПЛАНОВЫЙ ПЕРИОД 2027 и 2028 ГОДОВ
A7: Код | B7: Наименование кода группы, подгруппы, статьи, вида источника финансирования дефицитов бюджетов, кода классификации операций сектора государственного управления, относящихся к источникам финансирования дефицитов бюджетов Российской Федерации | C7: Сумма (тыс. руб.)
C8: 2026 год | D8: 2027 год | E8: 2028 год
A9: 1 | B9: 2 | C9: 3 | D9: 4 | E9: 5
A10: 000 01 00 00 00 00 0000 000 | B10: ИСТОЧНИКИ ВНУТРЕННЕГО ФИНАНСИРОВАНИЯ ДЕФИЦИТОВ БЮДЖЕТОВ | C10: =C11+C22+C14+C18 -> 0 | D10: =D11+D22+D14+D18 -> 0 | E10: =E11+E22+E14+E18 -> 0
A11: 000 01 02 00 00 00 0000 000 | B11: Кредиты кредитных организаций в валюте Российской Федерации | C11: =SUM(C12) -> 0 | D11: =SUM(D12) -> 0 | E11: =SUM(E12) -> 0
A12: 000 01 02 00 00 00 0000 700 | B12: Привлечение кредитов от кредитных организаций в валюте Российской Федерации | C12: =SUM(C13) -> 0 | D12: =SUM(D13) -> 0 | E12: =SUM(E13) -> 0
A13: 000 01 02 00 00 05 0000 710 | B13: Привлечение кредитов от кредитных организаций бюджетами муниципальных районов в валюте Российской Федерации | C13: 0 | D13: 0 | E13: 0
A14: 000 01 03 00 00 00 0000 000 | B14: Бюджетные кредиты из других бюджетов бюджетной системы Российской Федерации | C14: =C15 -> 0 | D14: =D15 -> 0 | E14: =E15 -> 0
A15: 000 01 03 01 00 00 0000 000 | B15: Бюджетные кредиты из других бюджетов бюджетной системы Российской Федерации в валюте Российской Федерации | C15: =C16 -> 0 | D15: =D16 -> 0 | E15: =E16 -> 0
A16: 000 01 03 01 00 00 0000 800 | B16: Погашение бюджетных кредитов, полученных из других бюджетов бюджетной системы Российской Федерации в валюте Российской Федерации | C16: =SUM(C17) -> 0 | D16: =SUM(D17) -> 0 | E16: =SUM(E17) -> 0
A17: 000 01 03 01 00 05 0000 810 | B17: Погашение бюджетами муниципальных районов кредитов из других бюджетов бюджетной системы Российской Федерации в валюте Российской Федерации | C17: 0 | D17: 0 | E17: 0
A18: 000 01 06 00 00 00 0000 000 | B18: Иные источники внутреннего финансирования дефицитов бюджетов | C18: =C19 -> 0 | D18: =D19 -> 0 | E18: =E19 -> 0
A19: 000 01 06 05 00 00 0000 000 | B19: Бюджетные кредиты, предоставленные внутри страны в валюте Российской Федерации | C19: =C20 -> 0 | D19: =D20 -> 0 | E19: =E20 -> 0
A20: 000 01 06 05 02 00 0000 600 | B20: Возврат бюджетных кредитов, предоставленных другим бюджетам бюджетной системы Российской Федерации в валюте Российской Федерации | C20: =C21 -> 0 | D20: =D21 -> 0 | E20: =E21 -> 0
A21: 000 01 06 05 02 05 0000 640 | B21: Возврат бюджетных кредитов, предоставленных другим бюджетам бюджетной системы Российской Федерации из бюджетов муниципальных районов в валюте Российской Федерации
A22: 000 01 05 00 00 00 0000 000 | B22: Изменения остатков средств на счетах по учету средств бюджета | C22: =C25+C26 -> 0 | D22: =D25+D26 -> 0 | E22: =E25+E26 -> 0
A23: 000 01 05 02 00 00 0000 500 | B23: Увеличение прочих остатков средств бюджетов | C23: =SUM(C24) -> -8055.9 | D23: =SUM(D24) -> -4340.2 | E23: =SUM(E24) -> -4586.3
A24: 000 01 05 02 01 00 0000 510 | B24: Увеличение прочих остатков денежных средств бюджетов | C24: =SUM(C25) -> -8055.9 | D24: =SUM(D25) -> -4340.2 | E24: =SUM(E25) -> -4586.3
A25: 000 01 05 02 01 10 0000 510 | B25: Увеличение прочих остатков денежных средств бюджетов сельских поселений | C25: -8055.9 | D25: -4340.2 | E25: -4586.3
A26: 000 01 05 02 00 00 0000 600 | B26: Уменьшение прочих остатков средств бюджетов | C26: =SUM(C27) -> 8055.9 | D26: =SUM(D27) -> 4340.2 | E26: =SUM(E27) -> 4586.3
A27: 000 01 05 02 01 00 0000 610 | B27: Уменьшение прочих остатков денежных средств бюджетов | C27: =SUM(C28) -> 8055.9 | D27: =SUM(D28) -> 4340.2 | E27: =SUM(E28) -> 4586.3
A28: 000 01 05 02 01 05 0000 610 | B28: Уменьшение прочих остатков денежных средств бюджетов муниципальных районов | C28: 8055.9 | D28: 4340.2 | E28: 4586.3
A29: 000 01 00 00 00 00 0000 000 | B29: Итого источников внутреннего финансирования дефицита бюджета Белозерьевского сельского поселения Ромодановского муниципального района Республики Мордовия | C29: 0 | D29: 0 | E29: 0
B30: собственные доходы | C30: 1811.6 | D30: 1896.3 | E30: 1966
