Workbook

Sheet Приложение 1
C1: Приложение 1 к решению Совета депутатов Белозерьевского сельского поселения Ромодановского муниципального района Республики Мордовия «О внесении изменений в решение Совета депутатов Белозерьевского сельского поселения Ромодановского муниципального района Республики Мордовия от 26 декабря 2024 г №61 «О бюджете Белозерьевского сельского поселения Ромодановского муниципального района Республики Мордовия на 2025 год и на плановый период 2026 и 2027 годов» Приложение 2 к решению Совета депутатов Белозерьевского сельского поселения Ромодановского муниципального района Республики Мордовия «О бюджете Белозерьевского сельского поселения Ромодановского муниципального района Республики Мордовия на 2025 год и на плановый период 2026 и 2027 годов»
A6: ОБЪЕМ БЕЗВОЗМЕЗДНЫХ ПОСТУПЛЕНИЙ В БЮДЖЕТ БЕЛОЗЕРЬЕВСКОГО СЕЛЬСКОГО ПОСЕЛЕНИЯ РОМОДАНОВСКОГО МУНИЦИПАЛЬНОГО РАЙОНА РЕСПУБЛИКИ МОРДОВИЯ НА 2025 ГОД И НА ПЛАНОВЫЙ ПЕРИОД 2026 И 2027 ГОДОВ
E7: (тыс. рублей)
A8: Код | B8: Наименование | C8: Сумма
C9: 2025 год | D9: 2026 год | E9: 2027 год
A10: 1 | B10: 2 | C10: 3 | D10: 4 | E10: 5
A11: 2 00 00000 00 0000 000 | B11: БЕЗВОЗМЕЗДНЫЕ ПОСТУПЛЕНИЯ | C11: =C12 -> 3411 | D11: =D12 -> 1849 | E11: =E12 -> 1869.4
A12: 2 02 00000 00 0000 000 | B12: Безвозмездные поступления от других бюджетов бюджетной системы Российской Федерации | C12: =C13+C18+C23 -> 3411 | D12: =D13+D18+D23 -> 1849 | E12: =E13+E18+E23 -> 1869.4
A13: 2 02 10000 00 0000 150 | B13: Дотации бюджетам бюджетной системы Российской Федерации | C13: =C14+C16 -> 1598.3 | D13: =D14 -> 1164.6 | E13: =E14 -> 1161.7
A14: 2 02 15001 00 0000 150 | B14: Дотации на выравнивание бюджетной обеспеченности | C14: =C15 -> 1394.9 | D14: =D15 -> 1164.6 | E14: =E15 -> 1161.7
A15: 2 02 15001 10 0000 150 | B15: Дотации бюджетам сельских поселений на выравнивание бюджетной обеспеченности из бюджета субъекта Российской Федерации | C15: 1394.9 | D15: 1164.6 | E15: 1161.7
A16: 2 02 15002 00 0000 150 | B16: Дотация бюджетам на поддержку мер по обеспечению сбалансированности бюджетов | C16: =C17 -> 203.4
A17: 2 02 15002 10 0000 150 | B17: Дотации бюджетам сельских поселений на поддержку мер по обеспечению сбалансированности бюджетов | C17: 203.4
A18: 2 02 30000 00 0000 150 | B18: Субвенции бюджетам бюджетной системы Российской Федерации | C18: =C19+C21 -> 437.7 | D18: =D19+D21 -> 472.4 | E18: =E19+E21 -> 487.7
A19: 2 02 30024 00 0000 150 | B19: Субвенции местным бюджетам на выполнение передаваемых полномочий субъектов Российской Федерации | C19: =C20 -> 2.4 | D19: =D20 -> 2.5 | E19: =E20 -> 2.6
A20: 2 02 30024 10 0000 150 | B20: Субвенции бюджетам сельских поселений на выполнение передаваемых полномочий субъектов Российской Федерации | C20: 2.4 | D20: 2.5 | E20: 2.6
A21: 2 02 35118 00 0000 150 | B21: Субвенции бюджетам на осуществление первичного воинского учета органами местного самоуправления поселений,муниципальных и городских округов | C21: =C22 -> 435.3 | D21: =D22 -> 469.9 | E21: =E22 -> 485.1
A22: 2 02 35118 10 0000 150 | B22: Субвенции бюджетам сельских поселений на осуществление первичного воинского учета органами местного самоуправления поселений,муниципальных и городских округов | C22: 435.3 | D22: 469.9 | E22: 485.1
A23: 2 02 40000 00 0000 150 | B23: Иные межбюджетные трансферты | C23: =C24 -> 1375 | D23: =D24 -> 212 | E23: =E24 -> 220
A24: 2 02 40014 00 0000 150 | B24: Межбюджетные трансферты, передаваемые бюджетам муниципальных образований на осуществление части полномочий по решению вопросов местного значения в соответствии с заключенными соглашениями | C24: =C25 -> 1375 | D24: =D25 -> 212 | E24: =E25 -> 220
A25: 2 02 40014 10 0000 150 | B25: Межбюджетные трансферты, передаваемые бюджетам сельских поселений из бюджетов муниципальных районов на осуществление части полномочий по решению вопросов местного значения в соответствии с заключенными соглашениями | C25: 1375 | D25: 212 | E25: 220

Sheet Приложение 2
I1: Приложение 2 к решению Совета депутатов Белозерьевского сельского поселения Ромодановского муниципального района Республики Мордовия «О внесении изменений в решение Совета депутатов Белозерьевского сельского поселения Ромодановского муниципального района Республики Мордовия от 26 декабря 2024 г №61 «О бюджете Белозерьевского сельского поселения Ромодановского муниципального района Республики Мордовия на 2025 год и на плановый период 2026 и 2027 годов» Приложение 3 к решению Совета депутатов Белозерьевского сельского поселения Ромодановского муниципального района Республики Мордовия «О бюджете Белозерьевского сельского поселения Ромодановского муниципального района Республики Мордовия на 2025 год и на плановый период 2026 и 2027 годов»
A2: ВЕДОМСТВЕННАЯ СТРУКТУРА РАСХОДОВ БЮДЖЕТА БЕЛОЗЕРЬЕВСКОГО СЕЛЬСКОГО ПОСЕЛЕНИЯ РОМОДАНОВСКОГО МУНИЦИПАЛЬНОГО РАЙОНА РЕСПУБЛИКИ МОРДОВИЯ НА 2025 ГОД И НА ПЛАНОВЫЙ ПЕРИОД 2026 И 2027 ГОДОВ
I3: (тыс. рублей)
A4: Наименование | B4: Адм | C4: Рз | D4: Прз | E4: Цср | I4: Вр | J4: Сумма
J5: 2025 год | K5: 2026 год | L5: 2027 год
A6: 1 | B6: 2 | C6: 3 | D6: 4 | E6: 5 | F6: 6 | G6: 7 | H6: 8 | I6: 9 | J6: 10 | K6: 11 | L6: 12
A7: Администрация Белозерьевского сельского поселения Ромодановского муниципального района Республики Мордовия | B7: 911 | J7: =J8+J43+J52+J71+J82+J89 -> 5256.3 | K7: =K8+K43+K52+K71+K82+K89 -> 3452.9 | L7: =L8+L43+L52+L71+L82+L89 -> 3537.6
A8: Общегосударственные вопросы | B8: 911 | C8: 01 | J8: =J9+J15+J31+J37 -> 2773.1 | K8: =K9+K15+K31 -> 2067.9 | L8: =L9+L15+L31 -> 1992
A9: Функционирование высшего должностного лица субъекта Российской Федерации и муниципального образования | B9: 911 | C9: 01 | D9: 02 | J9: =J10 -> 1163.2 | K9: =K10 -> 1097.3 | L9: =L10 -> 1019.3
A10: Обеспечение деятельности Администрации Белозерьевского сельского поселения Ромодановского муниципального района Республики Мордовия | B10: 911 | C10: 01 | D10: 02 | E10: 65 | J10: =J11 -> 1163.2 | K10: =K11 -> 1097.3 | L10: =L11 -> 1019.3
A11: Высшее должностное лицо | B11: 911 | C11: 01 | D11: 02 | E11: 65 | F11: 1 | J11: =J12 -> 1163.2 | K11: =K12 -> 1097.3 | L11: =L12 -> 1019.3
A12: Расходы на выплаты по оплате труда высшего должностного лица | B12: 911 | C12: 01 | D12: 02 | E12: 65 | F12: 1 | G12: 00 | H12: 41150 | J12: =J13 -> 1163.2 | K12: =K13 -> 1097.3 | L12: =L13 -> 1019.3
A13: Расходы на выплаты персоналу в целях обеспечения выполнения функций государственными (муниципальными) органами, казенными учреждениями, органами управления государственными внебюджетными фондами | B13: 911 | C13: 01 | D13: 02 | E13: 65 | F13: 1 | G13: 00 | H13: 41150 | I13: 100 | J13: =J14 -> 1163.2 | K13: =K14 -> 1097.3 | L13: =L14 -> 1019.3
A14: Расходы на выплаты персоналу государственных (муниципальных) органов | B14: 911 | C14: 01 | D14: 02 | E14: 65 | F14: 1 | G14: 00 | H14: 41150 | I14: 120 | J14: 1163.2 | K14: 1097.3 | L14: 1019.3
A15: Функционирование Правительства Российской Федерации, высших исполнительных органов субъектов Российской Федерации, местных администраций | B15: 911 | C15: 01 | D15: 04 | J15: =J16+J26 -> 1545.5 | K15: =K16+K26 -> 920.6 | L15: =L16+L26 -> 922.7
A16: =A10 -> Обеспечение деятельности Администрации Белозерьевского сельского поселения Ромодановского муниципального района Республики Мордовия | B16: 911 | C16: 01 | D16: 04 | E16: 65 | J16: =J17 -> 1543.1 | K16: =K17 -> 918.1 | L16: =L17 -> 920.1
A17: Расходы в рамках обеспечения деятельности Администрации Белозерьевского сельского поселения | B17: 911 | C17: 01 | D17: 04 | E17: 65 | F17: 2 | J17: =J18+J21 -> 1543.1 | K17: =K18+K21 -> 918.1 | L17: =L18+L21 -> 920.1
A18: Расходы на выплаты по оплате труда работников органов местного самоуправления | B18: 911 | C18: 01 | D18: 04 | E18: 65 | F18: 2 | G18: 00 | H18: 41110 | J18: =J19 -> 334.1 | K18: =K19 -> 390.6 | L18: =L19 -> 390.6
A19: Расходы на выплаты персоналу в целях обеспечения выполнения функций государственными (муниципальными) органами, казенными учреждениями, органами управления государственными внебюджетными фондами | B19: 911 | C19: 01 | D19: 04 | E19: 65 | F19: 2 | G19: 00 | H19: 41110 | I19: 100 | J19: =J20 -> 334.1 | K19: =K20 -> 390.6 | L19: =L20 -> 390.6
A20: Расходы на выплаты персоналу государственных (муниципальных) органов | B20: 911 | C20: 01 | D20: 04 | E20: 65 | F20: 2 | G20: 00 | H20: 41110 | I20: 120 | J20: 334.1 | K20: 390.6 | L20: 390.6
A21: Расходы на обеспечение выполнения функций органов местного самоуправления | B21: 911 | C21: 01 | D21: 04 | E21: 65 | F21: 2 | G21: 00 | H21: 41120 | J21: =J22+J24 -> 1209 | K21: =K22+K24 -> 527.5 | L21: =L22+L24 -> 529.5
A22: Закупка товаров, работ и услуг для обеспечения государственных (муниципальных) нужд | B22: 911 | C22: 01 | D22: 04 | E22: 65 | F22: 2 | G22: 00 | H22: 41120 | I22: 200 | J22: =J23 -> 1197.5 | K22: =K23 -> 513.5 | L22: =L23 -> 517.5
A23: Иные закупки товаров, работ и услуг для обеспечения государственных (муниципальных) нужд | B23: 911 | C23: 01 | D23: 04 | E23: 65 | F23: 2 | G23: 00 | H23: 41120 | I23: 240 | J23: 1197.5 | K23: 513.5 | L23: 517.5
A24: Иные бюджетные ассигнования | B24: 911 | C24: 01 | D24: 04 | E24: 65 | F24: 2 | G24: 00 | H24: 41120 | I24: 800 | J24: =J25 -> 11.5 | K24: =K25 -> 14 | L24: =L25 -> 12
A25: Уплата налогов, сборов и иных платежей | B25: 911 | C25: 01 | D25: 04 | E25: 65 | F25: 2 | G25: 00 | H25: 41120 | I25: 850 | J25: 11.5 | K25: 14 | L25: 12
A26: Непрограммные расходы главных распорядителей средств бюджета Белозерьевского сельского поселения Ромодановского муниципального района Республики Мордовия | B26: 911 | C26: 01 | D26: 04 | E26: 89 | J26: =J27 -> 2.4 | K26: =K27 -> 2.5 | L26: =L27 -> 2.6
A27: Непрограммные расходы в рамках обеспечения деятельности главных распорядителей средств бюджета Белозерьевского сельского поселения Ромодановского муниципального района Республики Мордовия | B27: 911 | C27: 01 | D27: 04 | E27: 89 | F27: 1 | J27: =J28 -> 2.4 | K27: =K28 -> 2.5 | L27: =L28 -> 2.6
A28: Осуществление государственных полномочий Республики Мордовия по определению перечня должностных лиц, уполномоченных составлять протоколы об административных правонарушениях, предусмотренных Законом Республики Мордовия от 15 июня 2015 года № 38-З "Об административной ответственности на территории Республики Мордовия" | B28: 911 | C28: 01 | D28: 04 | E28: 89 | F28: 1 | G28: 00 | H28: 77150 | J28: =J29 -> 2.4 | K28: =K29 -> 2.5 | L28: =L29 -> 2.6
A29: Закупка товаров, работ и услуг для обеспечения государственных (муниципальных) нужд | B29: 911 | C29: 01 | D29: 04 | E29: 89 | F29: 1 | G29: 00 | H29: 77150 | I29: 200 | J29: =J30 -> 2.4 | K29: =K30 -> 2.5 | L29: =L30 -> 2.6
A30: Иные закупки товаров, работ и услуг для обеспечения государственных (муниципальных) нужд | B30: 911 | C30: 01 | D30: 04 | E30: 89 | F30: 1 | G30: 00 | H30: 77150 | I30: 240 | J30: 2.4 | K30: 2.5 | L30: 2.6
A31: Резервные фонды | B31: 911 | C31: 01 | D31: 11 | J31: =J32 -> 50 | K31: =K32 -> 50 | L31: =L32 -> 50
A32: Непрограммные расходы главных распорядителей бюджетных средств Белозерьевского сельского поселения Ромодановского муниципального района Республики Мордовия | B32: 911 | C32: 01 | D32: 11 | E32: 89 | J32: =J33 -> 50 | K32: =K33 -> 50 | L32: =L33 -> 50
A33: Непрограммные расходы в рамках обеспечения деятельности главных распорядителей бюджетных средств Белозерьевского сельского поселения Ромодановского муниципального района Республики Мордовия | B33: 911 | C33: 01 | D33: 11 | E33: 89 | F33: 1 | J33: =J34 -> 50 | K33: =K34 -> 50 | L33: =L34 -> 50
A34: Резервный фонд администрации Белозерьевского сельского поселения Ромодановского муниципального района Республики Мордовия | B34: 911 | C34: 01 | D34: 11 | E34: 89 | F34: 1 | G34: 00 | H34: 41180 | J34: =J36 -> 50 | K34: =K36 -> 50 | L34: =L35 -> 50
A35: Иные бюджетные ассигнования | B35: 911 | C35: 01 | D35: 11 | E35: 89 | F35: 1 | G35: 00 | H35: 41180 | I35: 800 | J35: =J36 -> 50 | K35: =K36 -> 50 | L35: =L36 -> 50
A36: Резервные средства | B36: 911 | C36: 01 | D36: 11 | E36: 89 | F36: 1 | G36: 00 | H36: 41180 | I36: 870 | J36: 50 | K36: 50 | L36: 50
A37: Другие общегосударственные вопросы | B37: 911 | C37: 01 | D37: 13 | J37: =J38 -> 14.4
A38: =A32 -> Непрограммные расходы главных распорядителей бюджетных средств Белозерьевского сельского поселения Ромодановского муниципального района Республики Мордовия | B38: 911 | C38: 01 | D38: 13 | E38: 89 | J38: =J39 -> 14.4
A39: =A33 -> Непрограммные расходы в рамках обеспечения деятельности главных распорядителей бюджетных средств Белозерьевского сельского поселения Ромодановского муниципального района Республики Мордовия | B39: 911 | C39: 01 | D39: 13 | E39: 89 | F39: 1 | J39: =J40 -> 14.4
A40: Мероприятия,связанные с муниципальным управлением | B40: 911 | C40: 01 | D40: 13 | E40: 89 | F40: 1 | G40: 00 | H40: 41210 | J40: =J41 -> 14.4
...

Sheet Приложение 3
H1: Приложение 3 к решению Совета депутатов Белозерьевского сельского поселения Ромодановского муниципального района Республики Мордовия «О внесении изменений в решение Совета депутатов Белозерьевского сельского поселения Ромодановского муниципального района Республики Мордовия от 26 декабря 2024 г №61 «О бюджете Белозерьевского сельского поселения Ромодановского муниципального района Республики Мордовия на 2025 год и на плановый период 2026 и 2027 годов» Приложение 4 к решению Совета депутатов Белозерьевского сельского поселения Ромодановского муниципального района Республики Мордовия «О бюджете Белозерьевского сельского поселения Ромодановского муниципального района Республики Мордовия на 2025 год и на плановый период 2026 и 2027 годов»
A2: РАСПРЕДЕЛЕНИЕ БЮДЖЕТНЫХ АССИГНОВАНИЙ БЮДЖЕТА БЕЛОЗЕРЬЕВСКОГО СЕЛЬСКОГО ПОСЕЛЕНИЯ РОМОДАНОВСКОГО МУНИЦИПАЛЬНОГО РАЙОНА РЕСПУБЛИКИ МОРДОВИЯ ПО РАЗДЕЛАМ, ПОДРАЗДЕЛАМ, ЦЕЛЕВЫМ СТАТЬЯМ (МУНИЦИПАЛЬНЫМ ПРОГРАММАМ И НЕПРОГРАММНЫМ НАПРАВЛЕНИЯМ ДЕЯТЕЛЬНОСТИ), ГРУППАМ И ПОДГРУППАМ ВИДОВ РАСХОДОВ КЛАССИФИКАЦИИ РАСХОДОВ БЮДЖЕТОВ НА 2025 ГОД И НА ПЛАНОВЫЙ ПЕРИОД 2026 И 2027 ГОДОВ
H3: (тыс. рублей)
A4: Наименование | B4: Рз | C4: Прз | D4: Цср | H4: Вр | I4: Сумма
I5: 2025 год | J5: 2026 год | K5: 2027 год
A6: 1 | B6: 2 | C6: 3 | D6: 4 | E6: 5 | F6: 6 | G6: 7 | H6: 8 | I6: 9 | J6: 10 | K6: 11
A7: ВСЕГО | I7: =I8+I46+I55+I76+I89 -> 5256.3 | J7: =J8+J46+J55+J76+J89+J98 -> 3452.9 | K7: =K8+K46+K55+K76+K89+K98 -> 3537.6
A8: Общегосударственные вопросы | B8: 01 | I8: =I9+I16+I33+I40 -> 2773.1 | J8: =J9+J16+J33 -> 2067.9 | K8: =K9+K16+K33 -> 1992
A9: Функционирование высшего должностного лица субъекта Российской Федерации и муниципального образования | B9: 01 | C9: 02 | I9: =I11 -> 1163.2 | J9: =J11 -> 1097.3 | K9: =K11 -> 1019.3
A10: ='Приложение 2'!A9 -> Функционирование высшего должностного лица субъекта Российской Федерации и муниципального образования | B10: 01 | C10: 02 | I10: =I11 -> 1163.2 | J10: =J11 -> 1097.3 | K10: =K11 -> 1019.3
A11: ='Приложение 2'!A10 -> Обеспечение деятельности Администрации Белозерьевского сельского поселения Ромодановского муниципального района Республики Мордовия | B11: 01 | C11: 02 | D11: 65 | I11: =I12 -> 1163.2 | J11: =J12 -> 1097.3 | K11: =K12 -> 1019.3
A12: Высшее должностное лицо | B12: 01 | C12: 02 | D12: 65 | E12: 1 | I12: =I13 -> 1163.2 | J12: =J13 -> 1097.3 | K12: =K13 -> 1019.3
A13: Расходы на выплаты по оплате труда высшего должностного лица | B13: 01 | C13: 02 | D13: 65 | E13: 1 | F13: 00 | G13: 41150 | I13: =I14 -> 1163.2 | J13: =J14 -> 1097.3 | K13: =K14 -> 1019.3
A14: Расходы на выплаты персоналу в целях обеспечения выполнения функций государственными (муниципальными) органами, казенными учреждениями, органами управления государственными внебюджетными фондами | B14: 01 | C14: 02 | D14: 65 | E14: 1 | F14: 00 | G14: 41150 | H14: 100 | I14: =I15 -> 1163.2 | J14: =J15 -> 1097.3 | K14: =K15 -> 1019.3
A15: Расходы на выплаты персоналу государственных (муниципальных) органов | B15: 01 | C15: 02 | D15: 65 | E15: 1 | F15: 00 | G15: 41150 | H15: 120 | I15: ='Приложение 2'!J14 -> 1163.2 | J15: ='Приложение 2'!K14 -> 1097.3 | K15: ='Приложение 2'!L14 -> 1019.3
A16: Функционирование Правительства Российской Федерации, высших исполнительных органов государственной власти субъектов Российской Федерации, местных администраций | B16: 01 | C16: 04 | I16: =I18+I28 -> 1545.5 | J16: =J18+J28 -> 920.6 | K16: =K18+K28 -> 922.7
A17: ='Приложение 2'!A15 -> Функционирование Правительства Российской Федерации, высших исполнительных органов субъектов Российской Федерации, местных администраций | B17: 01 | C17: 04 | I17: =I18+I28 -> 1545.5 | J17: =J18+J28 -> 920.6 | K17: =K18+K28 -> 922.7
A18: ='Приложение 2'!A16 -> Обеспечение деятельности Администрации Белозерьевского сельского поселения Ромодановского муниципального района Республики Мордовия | B18: 01 | C18: 04 | D18: 65 | I18: =I19 -> 1543.1 | J18: =J19 -> 918.1 | K18: =K19 -> 920.1
A19: ='Приложение 2'!A17 -> Расходы в рамках обеспечения деятельности Администрации Белозерьевского сельского поселения | B19: 01 | C19: 04 | D19: 65 | E19: 2 | I19: =I20+I23 -> 1543.1 | J19: =J20+J23 -> 918.1 | K19: =K20+K23 -> 920.1
A20: Расходы на выплаты по оплате труда работников органов местного самоуправления | B20: 01 | C20: 04 | D20: 65 | E20: 2 | F20: 00 | G20: 41110 | I20: =I21 -> 334.1 | J20: =J21 -> 390.6 | K20: =K21 -> 390.6
A21: Расходы на выплаты персоналу в целях обеспечения выполнения функций государственными (муниципальными) органами, казенными учреждениями, органами управления государственными внебюджетными фондами | B21: 01 | C21: 04 | D21: 65 | E21: 2 | F21: 00 | G21: 41110 | H21: 100 | I21: =I22 -> 334.1 | J21: =J22 -> 390.6 | K21: =K22 -> 390.6
A22: Расходы на выплаты персоналу государственных (муниципальных) органов | B22: 01 | C22: 04 | D22: 65 | E22: 2 | F22: 00 | G22: 41110 | H22: 120 | I22: ='Приложение 2'!J20 -> 334.1 | J22: ='Приложение 2'!K20 -> 390.6 | K22: ='Приложение 2'!L20 -> 390.6
A23: ='Приложение 2'!A21 -> Расходы на обеспечение выполнения функций органов местного самоуправления | B23: 01 | C23: 04 | D23: 65 | E23: 2 | F23: 00 | G23: 41120 | I23: =+I24+I26 -> 1209 | J23: =+J24+J26 -> 527.5 | K23: =+K24+K26 -> 529.5
A24: Закупка товаров, работ и услуг для обеспечения государственных (муниципальных) нужд | B24: 01 | C24: 04 | D24: 65 | E24: 2 | F24: 00 | G24: 41120 | H24: 200 | I24: =I25 -> 1197.5 | J24: =J25 -> 513.5 | K24: =K25 -> 517.5
A25: Иные закупки товаров, работ и услуг для обеспечения государственных (муниципальных) нужд | B25: 01 | C25: 04 | D25: 65 | E25: 2 | F25: 00 | G25: 41120 | H25: 240 | I25: ='Приложение 2'!J23 -> 1197.5 | J25: ='Приложение 2'!K23 -> 513.5 | K25: ='Приложение 2'!L23 -> 517.5
A26: Иные бюджетные ассигнования | B26: 01 | C26: 04 | D26: 65 | E26: 2 | F26: 00 | G26: 41120 | H26: 800 | I26: =I27 -> 11.5 | J26: =J27 -> 14 | K26: =K27 -> 12
A27: Уплата налогов, сборов и иных платежей | B27: 01 | C27: 04 | D27: 65 | E27: 2 | F27: 00 | G27: 41120 | H27: 850 | I27: ='Приложение 2'!J25 -> 11.5 | J27: ='Приложение 2'!K25 -> 14 | K27: ='Приложение 2'!L25 -> 12
A28: Непрограммные расходы главных распорядителей средств бюджета Белозерьевского сельского поселения Ромодановского муниципального района Республики Мордовия | B28: 01 | C28: 04 | D28: 89 | I28: =I29 -> 2.4 | J28: =J29 -> 2.5 | K28: =K29 -> 2.6
A29: Непрограммные расходы в рамках обеспечения деятельности главных распорядителей средств бюджета Белозерьевского сельского поселения Ромодановского муниципального района Республики Мордовия | B29: 01 | C29: 04 | D29: 89 | E29: 1 | I29: =I30 -> 2.4 | J29: =J30 -> 2.5 | K29: =K30 -> 2.6
A30: Осуществление государственных полномочий Республики Мордовия по определению перечня должностных лиц, уполномоченных составлять протоколы об административных правонарушениях, предусмотренных Законом Республики Мордовия от 15 июня 2015 года № 38-З "Об административной ответственности на территории Республики Мордовия" | B30: 01 | C30: 04 | D30: 89 | E30: 1 | F30: 00 | G30: 77150 | I30: =I31 -> 2.4 | J30: =J31 -> 2.5 | K30: =K31 -> 2.6
A31: Закупка товаров, работ и услуг для обеспечения государственных (муниципальных) нужд | B31: 01 | C31: 04 | D31: 89 | E31: 1 | F31: 00 | G31: 77150 | H31: 200 | I31: =I32 -> 2.4 | J31: =J32 -> 2.5 | K31: =K32 -> 2.6
A32: Иные закупки товаров, работ и услуг для обеспечения государственных (муниципальных) нужд | B32: 01 | C32: 04 | D32: 89 | E32: 1 | F32: 00 | G32: 77150 | H32: 240 | I32: ='Приложение 2'!J30 -> 2.4 | J32: ='Приложение 2'!K30 -> 2.5 | K32: ='Приложение 2'!L30 -> 2.6
A33: Резервные фонды | B33: 01 | C33: 11 | I33: =I35 -> 50 | J33: =J35 -> 50 | K33: =K35 -> 50
A34: ='Приложение 2'!A31 -> Резервные фонды | B34: 01 | C34: 11 | I34: =I35 -> 50 | J34: =J35 -> 50 | K34: =K35 -> 50
A35: Непрограммные расходы главных распорядителей средств бюджета Белозерьевского сельского поселения Ромодановского муниципального района Республики Мордовия | B35: 01 | C35: 11 | D35: 89 | I35: =I36 -> 50 | J35: =J36 -> 50 | K35: =K36 -> 50
A36: Непрограммные расходы в рамках обеспечения деятельности главных распорядителей средств бюджета Белозерьевскогоо сельского поселения Ромодановского муниципального района Республики Мордовия | B36: 01 | C36: 11 | D36: 89 | E36: 1 | I36: =I37 -> 50 | J36: =J37 -> 50 | K36: =K37 -> 50
A37: ='Приложение 2'!A34 -> Резервный фонд администрации Белозерьевского сельского поселения Ромодановского муниципального района Республики Мордовия | B37: 01 | C37: 11 | D37: 89 | E37: 1 | F37: 00 | G37: 41180 | I37: =I39 -> 50 | J37: =J39 -> 50 | K37: =K39 -> 50
A38: Иные бюджетные ассигнования | B38: 01 | C38: 11 | D38: 89 | E38: 1 | F38: 00 | G38: 41180 | H38: 800 | I38: =I39 -> 50 | J38: =J39 -> 50 | K38: =K39 -> 50
A39: Резервные средства | B39: 01 | C39: 11 | D39: 89 | E39: 1 | F39: 00 | G39: 41180 | H39: 870 | I39: ='Приложение 2'!J36 -> 50 | J39: ='Приложение 2'!K36 -> 50 | K39: ='Приложение 2'!L36 -> 50
A40: ='Приложение 2'!A37 -> Другие общегосударственные вопросы | B40: 01 | C40: 13 | I40: =I41 -> 14.4
...

Sheet Приложение 4
I1: Приложение 4 к решению Совета депутатов Белозерьевского сельского поселения Ромодановского муниципального района Республики Мордовия «О внесении изменений в решение Совета депутатов Белозерьевского сельского поселения Ромодановского муниципального района Республики Мордовия от 26 декабря 2024 г №61 «О бюджете Белозерьевского сельского поселения Ромодановского муниципального района Республики Мордовия на 2025 год и на плановый период 2026 и 2027 годов» Приложение 5 к решению Совета депутатов Белозерьевского сельского поселения Ромодановского муниципального района Республики Мордовия «О бюджете Белозерьевского сельского поселения Ромодановского муниципального района Республики Мордовия на 2025 год и на плановый период 2026 и 2027 годов»
A2: РАСПРЕДЕЛЕНИЕ БЮДЖЕТНЫХ АССИГНОВАНИЙ БЮДЖЕТА БЕЛОЗЕРЬЕВСКОГО СЕЛЬСКОГО ПОСЕЛЕНИЯ РОМОДАНОВСКОГО МУНИЦИПАЛЬНОГО РАЙОНА РЕСПУБЛИКИ МОРДОВИЯ ПО ЦЕЛЕВЫМ СТАТЬЯМ (МУНИЦИПАЛЬНЫМ ПРОГРАММАМ И НЕПРОГРАММНЫМ НАПРАВЛЕНИЯМ ДЕЯТЕЛЬНОСТИ), ГРУППАМ И ПОДГРУППАМ ВИДОВ РАСХОДОВ, РАЗДЕЛАМ И ПОДРАЗДЕЛАМ КЛАССИФИКАЦИИ РАСХОДОВ БЮДЖЕТОВ НА 2025 ГОД И НА ПЛАНОВЫЙ ПЕРИОД 2026 И 2027 ГОДОВ
I3: (тыс. рублей)
A4: Наименование | B4: Цср | F4: ВР | G4: Рз | H4: Прз | I4: Адм | J4: Сумма
J5: 2025 год | K5: 2026 год | L5: 2027 год
A6: 1 | B6: 2 | C6: 3 | D6: 4 | E6: 5 | F6: 6 | G6: 7 | H6: 8 | I6: 9 | J6: 10 | K6: 11 | L6: 12
A7: ВСЕГО | J7: =J17+J32+J40+J72+J8 -> 5256.3 | K7: =K17+K32+K40+K72 -> 3452.9 | L7: =L17+L32+L40+L72 -> 3537.6
A8: ='Приложение 2'!A60 -> Муниципальная программа "Жилище" на 2024-2030 годы Ромодановского муниципального района | B8: 04 | J8: =J9 -> 20
A9: ='Приложение 2'!A61 -> Подпрограмма «Развитие жилищного строительства и жилищно-коммунального хозяйства в Ромодановском муниципальном районе на 2024-2030 гг.» | B9: 04 | C9: 2 | J9: =J10 -> 20
A10: ='Приложение 2'!A62 -> Основное мероприятие "Подготовка документов территориального планирования, градостроительного зонирования и документации по планировке территории" | B10: 04 | C10: 2 | D10: 01 | J10: =J11 -> 20
A11: ='Приложение 2'!A63 -> Подготовка описания местоположения границ территориальных зон,проведение мероприятий по разработке (корректировке)документов территориаального планирования и градостроительного зонирования муниципальных образований Республики Мордовия | B11: 04 | C11: 2 | D11: 01 | E11: S6290 | J11: =J12 -> 20
A12: ='Приложение 2'!A64 -> Закупка товаров, работ и услуг для обеспечения государственных (муниципальных) нужд | B12: 04 | C12: 2 | D12: 01 | E12: S6290 | F12: 200 | J12: =J13 -> 20
A13: ='Приложение 2'!A65 -> Иные закупки товаров, работ и услуг для обеспечения государственных (муниципальных) нужд | B13: 04 | C13: 2 | D13: 01 | E13: S6290 | F13: 240 | J13: =J14 -> 20
A14: ='Приложение 2'!A52 -> Национальная экономика | B14: 04 | C14: 2 | D14: 01 | E14: S6290 | F14: 240 | G14: 04 | J14: =J15 -> 20
A15: ='Приложение 2'!A59 -> Другие вопросы в облости национальной экономики | B15: 04 | C15: 2 | D15: 01 | E15: S6290 | F15: 240 | G15: 04 | H15: 12 | J15: =J16 -> 20
A16: =A24 -> Администрация Белозерьевского сельского поселения Ромодановского муниципального района Республики Мордовия | B16: 04 | C16: 2 | D16: 01 | E16: S6290 | F16: 240 | G16: 04 | H16: 12 | I16: 911 | J16: ='Приложение 2'!J65 -> 20
A17: ='Приложение 2'!A73 -> Муниципальная программа "Комплексного развития социальной инфраструктуры Белозерьевского сельского поселения Ромодановского муниципального района Республики Мордовия на 2018-2030 года" | B17: 10 | J17: =J18+J25 -> 527.6 | K17: =K18+K25 -> 536.3 | L17: =L18+L25 -> 595.7
A18: ='Приложение 2'!A74 -> Основное мероприятие "Благоустройство территории " | B18: 10 | C18: 0 | D18: 07 | J18: =J19 -> 420.4 | K18: =K19 -> 436.3 | L18: =L19 -> 495.7
A19: ='Приложение 2'!A75 -> Прочие мероприятия по благоустройству | B19: 10 | C19: 0 | D19: 07 | E19: 43040 | J19: =J20 -> 420.4 | K19: =K20 -> 436.3 | L19: =L20 -> 495.7
A20: Закупка товаров, работ и услуг для обеспечения государственных (муниципальных) нужд | B20: 10 | C20: 0 | D20: 07 | E20: 43040 | F20: 200 | J20: =J21 -> 420.4 | K20: =K21 -> 436.3 | L20: =L21 -> 495.7
A21: Иные закупки товаров, работ и услуг для обеспечения государственных (муниципальных) нужд | B21: 10 | C21: 0 | D21: 07 | E21: 43040 | F21: 240 | J21: =J22 -> 420.4 | K21: =K22 -> 436.3 | L21: =L22 -> 495.7
A22: Жилищно-коммунальное хозяйство | B22: 10 | C22: 0 | D22: 07 | E22: 43040 | F22: 240 | G22: 05 | J22: =J23 -> 420.4 | K22: =K23 -> 436.3 | L22: =L23 -> 495.7
A23: Благоустройство | B23: 10 | C23: 0 | D23: 07 | E23: 43040 | F23: 240 | G23: 05 | H23: 03 | J23: =J24 -> 420.4 | K23: =K24 -> 436.3 | L23: =L24 -> 495.7
A24: Администрация Белозерьевского сельского поселения Ромодановского муниципального района Республики Мордовия | B24: 10 | C24: 0 | D24: 07 | E24: 43040 | F24: 240 | G24: 05 | H24: 03 | I24: 911 | J24: ='Приложение 2'!J77 -> 420.4 | K24: ='Приложение 2'!K77 -> 436.3 | L24: ='Приложение 2'!L77 -> 495.7
A25: ='Приложение 2'!A78 -> Основное мероприятие " Освещение территории сельского поселения " | B25: 10 | C25: 0 | D25: 08 | J25: =J26 -> 107.2 | K25: =K26 -> 100 | L25: =L26 -> 100
A26: ='Приложение 2'!A79 -> Уличное освещение | B26: 10 | C26: 0 | D26: 08 | E26: 43010 | J26: =J27 -> 107.2 | K26: =K27 -> 100 | L26: =L27 -> 100
A27: Закупка товаров, работ и услуг для обеспечения государственных (муниципальных) нужд | B27: 10 | C27: 0 | D27: 08 | E27: 43010 | F27: 200 | J27: =J28 -> 107.2 | K27: =K28 -> 100 | L27: =L28 -> 100
A28: Иные закупки товаров, работ и услуг для обеспечения государственных (муниципальных) нужд | B28: 10 | C28: 0 | D28: 08 | E28: 43010 | F28: 240 | J28: =J29 -> 107.2 | K28: =K29 -> 100 | L28: =L29 -> 100
A29: Жилищно-коммунальное хозяйство | B29: 10 | C29: 0 | D29: 08 | E29: 43010 | F29: 240 | G29: 05 | J29: =J30 -> 107.2 | K29: =K30 -> 100 | L29: =L30 -> 100
A30: Благоустройство | B30: 10 | C30: 0 | D30: 08 | E30: 43010 | F30: 240 | G30: 05 | H30: 03 | J30: =J31 -> 107.2 | K30: =K31 -> 100 | L30: =L31 -> 100
A31: Администрация Белозерьевского сельского поселения Ромодановского муниципального района Республики Мордовия | B31: 10 | C31: 0 | D31: 08 | E31: 43010 | F31: 240 | G31: 05 | H31: 03 | I31: 911 | J31: ='Приложение 2'!J81 -> 107.2 | K31: ='Приложение 2'!K81 -> 100 | L31: ='Приложение 2'!L81 -> 100
A32: ='Приложение 2'!A54 -> Муниципальная программа «Комплексного развития транспортной инфраструктуры Белозерьевского сельского поселения Ромодановского муниципального района Республики Мордовия на 2024- 2030 года" | B32: 13 | J32: =J33 -> 1355 | K32: =K33 -> 212 | L32: =L33 -> 220
A33: Основное мероприятие "содействие развитию систем автомобильных дорог общего пользования,регионального и или межмуниципального,а так же местного значения" | B33: 13 | C33: 0 | D33: 01 | J33: =J34 -> 1355 | K33: =K34 -> 212 | L33: =L34 -> 220
A34: ='Приложение 2'!A56 -> Иные межбюджетные трансферты на осуществление полномочий по дорожной деятельности в отношении автомобильных дорог местного значения в границах населенных пунктов поселения и обеспечению безопасности дорожного движения на них, включая создание и обеспечение функционирования парковок (парковочных мест), осуществлению муниципального контроля на автомобильном транспорте, городском наземном электрическом транспорте и в дорожном хозяйстве в границах населенных пунктов поселения, организации дорожного движения, а также осуществлению иных полномочий в области использования автомобильных дорог и осуществления дорожной деятельности в соответствии с законодательством Российской Федерации | B34: 13 | C34: 0 | D34: 01 | E34: 9Д184 | J34: =J35 -> 1355 | K34: =K35 -> 212 | L34: =L35 -> 220
A35: Закупка товаров, работ и услуг для обеспечения государственных (муниципальных) нужд | B35: 13 | C35: 0 | D35: 01 | E35: 9Д184 | F35: 200 | J35: =J36 -> 1355 | K35: =K36 -> 212 | L35: =L36 -> 220
A36: Иные закупки товаров, работ и услуг для обеспечения государственных (муниципальных) нужд | B36: 13 | C36: 0 | D36: 01 | E36: 9Д184 | F36: 240 | J36: =J37 -> 1355 | K36: =K37 -> 212 | L36: =L37 -> 220
A37: Национальная экономика | B37: 13 | C37: 0 | D37: 01 | E37: 9Д184 | F37: 240 | G37: 04 | J37: =J38 -> 1355 | K37: =K38 -> 212 | L37: =L38 -> 220
A38: ='Приложение 2'!A53 -> Дорожное хозяйство (дорожные фонды) | B38: 13 | C38: 0 | D38: 01 | E38: 9Д184 | F38: 240 | G38: 04 | H38: 09 | J38: =J39 -> 1355 | K38: =K39 -> 212 | L38: =L39 -> 220
A39: Администрация Белозерьевского сельского поселения Ромодановского муниципального района Республики Мордовия | B39: 13 | C39: 0 | D39: 01 | E39: 9Д184 | F39: 240 | G39: 04 | H39: 09 | I39: 911 | J39: ='Приложение 2'!J58 -> 1355 | K39: ='Приложение 2'!K58 -> 212 | L39: ='Приложение 2'!L58 -> 220
A40: ='Приложение 2'!A10 -> Обеспечение деятельности Администрации Белозерьевского сельского поселения Ромодановского муниципального района Республики Мордовия | B40: 65 | J40: =J41+J54 -> 2706.3 | K40: =K41+K54 -> 2089.9 | L40: =L41+L54 -> 2091.9
...

Sheet прил 5
C2: Приложение 5 к решению Совета депутатов Белозерьевского сельского поселения Ромодановского муниципального района Республики Мордовия «О внесении изменений в решение Совета депутатов Белозерьевского сельского поселения Ромодановского муниципального района Республики Мордовия от 26 декабря 2024 г №61 «О бюджете Белозерьевского сельского поселения Ромодановского муниципального района Республики Мордовия на 2025 год и на плановый период 2026 и 2027 годов» Приложение 6 к решению Совета депутатов Белозерьевского сельского поселения Ромодановского муниципального района Республики Мордовия «О бюджете Белозерьевского сельского поселения Ромодановского муниципального района Республики Мордовия на 2025 год и на плановый период 2026 и 2027 годов»
A3: ИСТОЧНИКИ ВНУТРЕННЕГО ФИНАНСИРОВАНИЯ ДЕФИЦИТА БЮДЖЕТА БЕЛОЗЕРЬЕВСКОГО СЕЛЬСКОГО ПОСЕЛЕНИЯ РОМОДАНОВСКОГО МУНИЦИПАЛЬНОГО РАЙОНА РЕСПУБЛИКИ МОРДОВИЯ НА 2025 ГОД И НА ПЛАНОВЫЙ ПЕРИОД 2026 и 2027 ГОДОВ
A7: Код | B7: Наименование кода группы, подгруппы, статьи, вида источника финансирования дефицитов бюджетов, кода классификации операций сектора государственного управления, относящихся к источникам финансирования дефицитов бюджетов Российской Федерации | C7: Сумма (тыс. руб.)
C8: 2025 год | D8: 2026 год | E8: 2027 год
A9: 1 | B9: 2 | C9: 3 | D9: 4 | E9: 5
A10: 000 01 00 00 00 00 0000 000 | B10: ИСТОЧНИКИ ВНУТРЕННЕГО ФИНАНСИРОВАНИЯ ДЕФИЦИТОВ БЮДЖЕТОВ | C10: =C11+C22+C14+C18 -> 300 | D10: =D11+D22+D14+D18 -> 0 | E10: =E11+E22+E14+E18 -> 0
A11: 000 01 02 00 00 00 0000 000 | B11: Кредиты кредитных организаций в валюте Российской Федерации | C11: =SUM(C12) -> 0 | D11: =SUM(D12) -> 0 | E11: =SUM(E12) -> 0
A12: 000 01 02 00 00 00 0000 700 | B12: Привлечение кредитов от кредитных организаций в валюте Российской Федерации | C12: =SUM(C13) -> 0 | D12: =SUM(D13) -> 0 | E12: =SUM(E13) -> 0
A13: 000 01 02 00 00 05 0000 710 | B13: Привлечение кредитов от кредитных организаций бюджетами муниципальных районов в валюте Российской Федерации | C13: 0 | D13: 0 | E13: 0
A14: 000 01 03 00 00 00 0000 000 | B14: Бюджетные кредиты из других бюджетов бюджетной системы Российской Федерации | C14: =C15 -> 0 | D14: =D15 -> 0 | E14: =E15 -> 0
A15: 000 01 03 01 00 00 0000 000 | B15: Бюджетные кредиты из других бюджетов бюджетной системы Российской Федерации в валюте Российской Федерации | C15: =C16 -> 0 | D15: =D16 -> 0 | E15: =E16 -> 0
A16: 000 01 03 01 00 00 0000 800 | B16: Погашение бюджетных кредитов, полученных из других бюджетов бюджетной системы Российской Федерации в валюте Российской Федерации | C16: =SUM(C17) -> 0 | D16: =SUM(D17) -> 0 | E16: =SUM(E17) -> 0
A17: 000 01 03 01 00 05 0000 810 | B17: Погашение бюджетами муниципальных районов кредитов из других бюджетов бюджетной системы Российской Федерации в валюте Российской Федерации | C17: 0 | D17: 0 | E17: 0
A18: 000 01 06 00 00 00 0000 000 | B18: Иные источники внутреннего финансирования дефицитов бюджетов | C18: =C19 -> 0 | D18: =D19 -> 0 | E18: =E19 -> 0
A19: 000 01 06 05 00 00 0000 000 | B19: Бюджетные кредиты, предоставленные внутри страны в валюте Российской Федерации | C19: =C20 -> 0 | D19: =D20 -> 0 | E19: =E20 -> 0
A20: 000 01 06 05 02 00 0000 600 | B20: Возврат бюджетных кредитов, предоставленных другим бюджетам бюджетной системы Российской Федерации в валюте Российской Федерации | C20: =C21 -> 0 | D20: =D21 -> 0 | E20: =E21 -> 0
A21: 000 01 06 05 02 05 0000 640 | B21: Возврат бюджетных кредитов, предоставленных другим бюджетам бюджетной системы Российской Федерации из бюджетов муниципальных районов в валюте Российской Федерации
A22: 000 01 05 00 00 00 0000 000 | B22: Изменения остатков средств на счетах по учету средств бюджета | C22: =C25+C26 -> 300 | D22: =D25+D26 -> 0 | E22: =E25+E26 -> 0
A23: 000 01 05 02 00 00 0000 500 | B23: Увеличение прочих остатков средств бюджетов | C23: =SUM(C24) -> -4956.3 | D23: =SUM(D24) -> -3452.9 | E23: =SUM(E24) -> -3537.6
A24: 000 01 05 02 01 00 0000 510 | B24: Увеличение прочих остатков денежных средств бюджетов | C24: =SUM(C25) -> -4956.3 | D24: =SUM(D25) -> -3452.9 | E24: =SUM(E25) -> -3537.6
A25: 000 01 05 02 01 10 0000 510 | B25: Увеличение прочих остатков денежных средств бюджетов сельских поселений | C25: -4956.3 | D25: -3452.9 | E25: -3537.6
A26: 000 01 05 02 00 00 0000 600 | B26: Уменьшение прочих остатков средств бюджетов | C26: =SUM(C27) -> 5256.3 | D26: =SUM(D27) -> 3452.9 | E26: =SUM(E27) -> 3537.6
A27: 000 01 05 02 01 00 0000 610 | B27: Уменьшение прочих остатков денежных средств бюджетов | C27: =SUM(C28) -> 5256.3 | D27: =SUM(D28) -> 3452.9 | E27: =SUM(E28) -> 3537.6
A28: 000 01 05 02 01 05 0000 610 | B28: Уменьшение прочих остатков денежных средств бюджетов муниципальных районов | C28: 5256.3 | D28: 3452.9 | E28: 3537.6
A29: 000 01 00 00 00 00 0000 000 | B29: Итого источников внутреннего финансирования дефицита бюджета Белозерьевского сельского поселения Ромодановского муниципального района Республики Мордовия | C29: 0 | D29: 0 | E29: 0
B30: собственные доходы | C30: 1545.3 | D30: 1603.9 | E30: 1668.2
