Workbook

Sheet Приложение 1
C1: Приложение 1 к решению Совета депутатов Трофимовщинского сельского поселения Ромодановского муниципального района Республики Мордовия «О внесении изменений в решение Совета депутатов Трофимовщинского сельского поселения Ромодановского муниципального района Республики Мордовия от 26 декабря 2024г. №20"О бюджетеТрофимовщинского сельского поселения Ромодановского муниципального района Республики Мордовия на 2025 и на плановый период 2026 и 2027 годов» Приложение2 к решениюСовета депутатов Трофимовщинского сельского поселения Ромодановского муниципального района Республики Мордовия"О бюджете Трофимовщинского сельского поселения Ромодановского муниципального района Республики Мордовия на 2025год и на плановый период 2026 т 2027 годов"
A6: ОБЪЕМ БЕЗВОЗМЕЗДНЫХ ПОСТУПЛЕНИЙ В БЮДЖЕТ ТРОФИМОВЩИНСКОГО СЕЛЬСКОГО ПОСЕЛЕНИЯ РОМОДАНОВСКОГО МУНИЦИПАЛЬНОГО РАЙОНА РЕСПУБЛИКИ МОРДОВИЯ НА 2025 ГОД И НА ПЛАНОВЫЙ ПЕРИОД 2026 И 2027 ГОДОВ
E7: (тыс. рублей)
A8: Код | B8: Наименование | C8: Сумма
C9: 2025 год | D9: 2026 год | E9: 2027 год
A10: 1 | B10: 2 | C10: 3 | D10: 4 | E10: 5
A11: 2 00 00000 00 0000 000 | B11: БЕЗВОЗМЕЗДНЫЕ ПОСТУПЛЕНИЯ | C11: =C12 -> 1710.2 | D11: =D12 -> 1029.7 | E11: =E12 -> 1018.3
A12: 2 02 00000 00 0000 000 | B12: Безвозмездные поступления от других бюджетов бюджетной системы Российской Федерации | C12: =C13+C21+C26+C18 -> 1710.2 | D12: =D13+D21+D26 -> 1029.7 | E12: =E13+E21+E26 -> 1018.3
A13: 2 02 10000 00 0000 150 | B13: Дотации бюджетам бюджетной системы Российской Федерации | C13: =C14+C16 -> 1047.4 | D13: =D14 -> 620.2 | E13: =E14 -> 592.4
A14: 2 02 15001 00 0000 150 | B14: Дотации на выравнивание бюджетной обеспеченности | C14: =C15 -> 760.2 | D14: =D15 -> 620.2 | E14: =E15 -> 592.4
A15: 2 02 15001 10 0000 150 | B15: Дотации бюджетам сельских поселений на выравнивание бюджетной обеспеченности из бюджета субъекта Российской Федерации | C15: 760.2 | D15: 620.2 | E15: 592.4
A16: 2 02 15002 00 0000 150 | B16: Дотация бюджетам на поддержку мер по обеспечению сбалансированности бюджетов | C16: =C17 -> 287.2
A17: 2 02 15002 10 0000 150 | B17: Дотации бюджетам сельских поселений на поддержку мер по обеспечению сбалансированности бюджетов | C17: 287.2
A18: 2 02 20000 00 0000 150 | B18: Субсидии бюджетам бюджетной системы Российской Федерации (межбюджетные субсидии) | C18: =C19 -> 280.1
A19: 2 02 29999 00 0000 150 | B19: Прочие субсидии | C19: =C20 -> 280.1
A20: 2 02 29999 10 0000 150 | B20: Прочие субсидии бюджетам сельских поселений | C20: 280.1
A21: 2 02 30000 00 0000 150 | B21: Субвенции бюджетам бюджетной системы Российской Федерации | C21: =C22+C24 -> 160.7 | D21: =D22+D24 -> 174.5 | E21: =E22+E24 -> 180.9
A22: 2 02 30024 00 0000 150 | B22: Субвенции местным бюджетам на выполнение передаваемых полномочий субъектов Российской Федерации | C22: =C23 -> 0.6 | D22: =D23 -> 0.6 | E22: =E23 -> 0.7
A23: 2 02 30024 10 0000 150 | B23: Субвенции бюджетам сельских поселений на выполнение передаваемых полномочий субъектов Российской Федерации | C23: 0.6 | D23: 0.6 | E23: 0.7
A24: 2 02 35118 00 0000 150 | B24: Субвенции бюджетам на осуществление первичного воинского учета органами местного самоуправлегия поселений,муниципальных и городских округов | C24: =C25 -> 160.1 | D24: =D25 -> 173.9 | E24: =E25 -> 180.2
A25: 2 02 35118 10 0000 150 | B25: Субвенции бюджетам сельских поселений на осуществление первичного воинского учета органами местного самоуправлегия поселений,муниципальных и городских округов | C25: 160.1 | D25: 173.9 | E25: 180.2
A26: 2 02 40000 00 0000 150 | B26: Иные межбюджетные трансферты | C26: =C27 -> 222 | D26: =D27 -> 235 | E26: =E27 -> 245
A27: 2 02 40014 00 0000 150 | B27: Межбюджетные трансферты, передаваемые бюджетам муниципальных образований на осуществление части полномочий по решению вопросов местного значения в соответствии с заключенными соглашениями | C27: =C28 -> 222 | D27: =D28 -> 235 | E27: =E28 -> 245
A28: 2 02 40014 10 0000 150 | B28: Межбюджетные трансферты, передаваемые бюджетам сельских поселений из бюджетов муниципальных районов на осуществление части полномочий по решению вопросов местного значения в соответствии с заключенными соглашениями | C28: 222 | D28: 235 | E28: 245

Sheet Приложение 2
I1: Приложение 2 к решению Совета депутатов Трофимовщинского сельского поселения Ромодановского муниципального района Республики Мордовия «О внесении изменений в решение Совета депутатов Трофимовщинского сельского поселения Ромодановского муниципального района Республики Мордовия от 26 декабря 2024г. №20"О бюджетеТрофимовщинского сельского поселения Ромодановского муниципального района Республики Мордовия на 2025 и на плановый период 2026 и 2027 годов» Приложение3 к решениюСовета депутатов Трофимовщинского сельского поселения Ромодановского муниципального района Республики Мордовия"О бюджете Трофимовщинского сельского поселения Ромодановского муниципального района Республики Мордовия на 2025год и на плановый период 2026 т 2027 годов"
A2: ВЕДОМСТВЕННАЯ СТРУКТУРА РАСХОДОВ БЮДЖЕТА ТРОФИМОВЩИНСКОГО СЕЛЬСКОГО ПОСЕЛЕНИЯ РОМОДАНОВСКОГО МУНИЦИПАЛЬНОГО РАЙОНА РЕСПУБЛИКИ МОРДОВИЯ НА 2025 ГОД И НА ПЛАНОВЫЙ ПЕРИОД 2026 И 2027 ГОДОВ
I3: (тыс. рублей)
A4: Наименование | B4: Адм | C4: Рз | D4: Прз | E4: Цср | I4: Вр | J4: Сумма
J5: 2025 год | K5: 2026 год | L5: 2027 год
A6: 1 | B6: 2 | C6: 3 | D6: 4 | E6: 5 | F6: 6 | G6: 7 | H6: 8 | I6: 9 | J6: 10 | K6: 11 | L6: 12
A7: Администрация Трофимовщинского сельского поселения Ромодановского муниципального района Республики Мордовия | B7: 924 | J7: =J8+J49+J58+J71+J78+J92+J85 -> 2649.6 | K7: =K8+K49+K58+K71+K78+K92+K85 -> 1859.4 | L7: =L8+L49+L58+L71+L78+L92+L85 -> 1856.7
A8: Общегосударственные вопросы | B8: 924 | C8: 01 | J8: =J9+J18+J37+J43 -> 1962.1 | K8: =K9+K18+K37 -> 1141 | L8: =L9+L18+L37 -> 1102.5
A9: Функционирование высшего должностного лица субъекта Российской Федерации и муниципального образования | B9: 924 | C9: 01 | D9: 02 | J9: =J10 -> 650.1 | K9: =K10 -> 347.1 | L9: =L10 -> 303.5
A10: Обеспечение деятельности Администрации Трофимовщинского сельского поселения Ромодановского муниципального района Республики Мордовия | B10: 924 | C10: 01 | D10: 02 | E10: 65 | J10: =J11 -> 650.1 | K10: =K11 -> 347.1 | L10: =L11 -> 303.5
A11: Высшее должностное лицо | B11: 924 | C11: 01 | D11: 02 | E11: 65 | F11: 1 | J11: =J12+J15 -> 650.1 | K11: =K12 -> 347.1 | L11: =L12 -> 303.5
A12: Расходы на выплаты по оплате труда высшего должностного лица | B12: 924 | C12: 01 | D12: 02 | E12: 65 | F12: 1 | G12: 00 | H12: 41150 | J12: =J13 -> 546.6 | K12: =K13 -> 347.1 | L12: =L13 -> 303.5
A13: Расходы на выплаты персоналу в целях обеспечения выполнения функций государственными (муниципальными) органами, казенными учреждениями, органами управления государственными внебюджетными фондами | B13: 924 | C13: 01 | D13: 02 | E13: 65 | F13: 1 | G13: 00 | H13: 41150 | I13: 100 | J13: =J14 -> 546.6 | K13: =K14 -> 347.1 | L13: =L14 -> 303.5
A14: Расходы на выплаты персоналу государственных (муниципальных) органов | B14: 924 | C14: 01 | D14: 02 | E14: 65 | F14: 1 | G14: 00 | H14: 41150 | I14: 120 | J14: 546.6 | K14: 347.1 | L14: 303.5
A15: Субсидии на со финансирование расходных обязательств по финансовому обеспечению деятельности органов местного самоуправления и муниципальных учреждений | B15: 924 | C15: 01 | D15: 02 | E15: 65 | F15: 1 | G15: 00 | H15: 44205 | J15: =J16 -> 103.5 | K15: =K16 -> 0 | L15: =L16 -> 0
A16: =A13 -> Расходы на выплаты персоналу в целях обеспечения выполнения функций государственными (муниципальными) органами, казенными учреждениями, органами управления государственными внебюджетными фондами | B16: 924 | C16: 01 | D16: 02 | E16: 65 | F16: 1 | G16: 00 | H16: 44205 | I16: 100 | J16: =J17 -> 103.5 | K16: =K17 -> 0 | L16: =L17 -> 0
A17: =A14 -> Расходы на выплаты персоналу государственных (муниципальных) органов | B17: 924 | C17: 01 | D17: 02 | E17: 65 | F17: 1 | G17: 00 | H17: 44205 | I17: 120 | J17: 103.5 | K17: 0 | L17: 0
A18: Функционирование Правительства Российской Федерации, высших исполнительных органов субъектов Российской Федерации, местных администраций | B18: 924 | C18: 01 | D18: 04 | J18: =J19+J32 -> 1289 | K18: =K19+K32 -> 788.9 | L18: =L19+L32 -> 794
A19: =A10 -> Обеспечение деятельности Администрации Трофимовщинского сельского поселения Ромодановского муниципального района Республики Мордовия | B19: 924 | C19: 01 | D19: 04 | E19: 65 | J19: =J20 -> 1288.4 | K19: =K20 -> 788.3 | L19: =L20 -> 793.3
A20: Расходы в рамках обеспечения деятельности Администрации Трофимовщинского сельского поселения | B20: 924 | C20: 01 | D20: 04 | E20: 65 | F20: 2 | J20: =J21+J24+J29 -> 1288.4 | K20: =K21+K24 -> 788.3 | L20: =L21+L24 -> 793.3
A21: Расходы на выплаты по оплате труда работников органов местного самоуправления | B21: 924 | C21: 01 | D21: 04 | E21: 65 | F21: 2 | G21: 00 | H21: 41110 | J21: =J22 -> 843.5 | K21: =K22 -> 716.1 | L21: =L22 -> 716.1
A22: Расходы на выплаты персоналу в целях обеспечения выполнения функций государственными (муниципальными) органами, казенными учреждениями, органами управления государственными внебюджетными фондами | B22: 924 | C22: 01 | D22: 04 | E22: 65 | F22: 2 | G22: 00 | H22: 41110 | I22: 100 | J22: =J23 -> 843.5 | K22: =K23 -> 716.1 | L22: =L23 -> 716.1
A23: Расходы на выплаты персоналу государственных (муниципальных) органов | B23: 924 | C23: 01 | D23: 04 | E23: 65 | F23: 2 | G23: 00 | H23: 41110 | I23: 120 | J23: 843.5 | K23: 716.1 | L23: 716.1
A24: Расходы на обеспечение выполнения функций органов местного самоуправления | B24: 924 | C24: 01 | D24: 04 | E24: 65 | F24: 2 | G24: 00 | H24: 41120 | J24: =J25+J27 -> 265.5 | K24: =+K25+K27 -> 72.2 | L24: =+L25+L27 -> 77.2
A25: Закупка товаров, работ и услуг для обеспечения государственных (муниципальных) нужд | B25: 924 | C25: 01 | D25: 04 | E25: 65 | F25: 2 | G25: 00 | H25: 41120 | I25: 200 | J25: =J26 -> 265.4 | K25: =K26 -> 70.2 | L25: =L26 -> 75.2
A26: Иные закупки товаров, работ и услуг для обеспечения государственных (муниципальных) нужд | B26: 924 | C26: 01 | D26: 04 | E26: 65 | F26: 2 | G26: 00 | H26: 41120 | I26: 240 | J26: 265.4 | K26: 70.2 | L26: 75.2
A27: Иные бюджетные ассигнования | B27: 924 | C27: 01 | D27: 04 | E27: 65 | F27: 2 | G27: 00 | H27: 41120 | I27: 800 | J27: =J28 -> 0.1 | K27: =K28 -> 2 | L27: =L28 -> 2
A28: Уплата налогов, сборов и иных платежей | B28: 924 | C28: 01 | D28: 04 | E28: 65 | F28: 2 | G28: 00 | H28: 41120 | I28: 850 | J28: 0.1 | K28: 2 | L28: 2
A29: =A15 -> Субсидии на со финансирование расходных обязательств по финансовому обеспечению деятельности органов местного самоуправления и муниципальных учреждений | B29: 924 | C29: 01 | D29: 04 | E29: 65 | F29: 2 | G29: 00 | H29: 44205 | J29: =J30 -> 179.4
A30: =A22 -> Расходы на выплаты персоналу в целях обеспечения выполнения функций государственными (муниципальными) органами, казенными учреждениями, органами управления государственными внебюджетными фондами | B30: 924 | C30: 01 | D30: 04 | E30: 65 | F30: 2 | G30: 00 | H30: 44205 | I30: 100 | J30: =J31 -> 179.4
A31: =A23 -> Расходы на выплаты персоналу государственных (муниципальных) органов | B31: 924 | C31: 01 | D31: 04 | E31: 65 | F31: 2 | G31: 00 | H31: 44205 | I31: 120 | J31: 179.4
A32: Непрограммные расходы главных распорядителей средств бюджета Трофимовщинского сельского поселения Ромодановского муниципального района Республики Мордовия | B32: 924 | C32: 01 | D32: 04 | E32: 89 | J32: =J33 -> 0.6 | K32: =K33 -> 0.6 | L32: =L33 -> 0.7
A33: Непрограммные расходы в рамках обеспечения деятельности главных распорядителей средств бюджета Трофимовщинского сельского поселения Ромодановского муниципального района Республики Мордовия | B33: 924 | C33: 01 | D33: 04 | E33: 89 | F33: 1 | J33: =J34 -> 0.6 | K33: =K34 -> 0.6 | L33: =L34 -> 0.7
A34: Осуществление государственных полномочий Республики Мордовия по определению перечня должностных лиц, уполномоченных составлять протоколы об административных правонарушениях, предусмотренных Законом Республики Мордовия от 15 июня 2015 года № 38-З "Об административной ответственности на территории Республики Мордовия" | B34: 924 | C34: 01 | D34: 04 | E34: 89 | F34: 1 | G34: 00 | H34: 77150 | J34: =J35 -> 0.6 | K34: =K35 -> 0.6 | L34: =L35 -> 0.7
A35: Закупка товаров, работ и услуг для обеспечения государственных (муниципальных) нужд | B35: 924 | C35: 01 | D35: 04 | E35: 89 | F35: 1 | G35: 00 | H35: 77150 | I35: 200 | J35: =J36 -> 0.6 | K35: =K36 -> 0.6 | L35: =L36 -> 0.7
A36: Иные закупки товаров, работ и услуг для обеспечения государственных (муниципальных) нужд | B36: 924 | C36: 01 | D36: 04 | E36: 89 | F36: 1 | G36: 00 | H36: 77150 | I36: 240 | J36: 0.6 | K36: 0.6 | L36: 0.7
A37: Резервные фонды | B37: 924 | C37: 01 | D37: 11 | J37: =J38 -> 5 | K37: =K38 -> 5 | L37: =L38 -> 5
A38: =A32 -> Непрограммные расходы главных распорядителей средств бюджета Трофимовщинского сельского поселения Ромодановского муниципального района Республики Мордовия | B38: 924 | C38: 01 | D38: 11 | E38: 89 | J38: =J39 -> 5 | K38: =K39 -> 5 | L38: =L39 -> 5
A39: =A33 -> Непрограммные расходы в рамках обеспечения деятельности главных распорядителей средств бюджета Трофимовщинского сельского поселения Ромодановского муниципального района Республики Мордовия | B39: 924 | C39: 01 | D39: 11 | E39: 89 | F39: 1 | J39: =J40 -> 5 | K39: =K40 -> 5 | L39: =L40 -> 5
A40: Резервный фонд администрации Трофимовщинского сельского поселени Ромодановского муниципального района Республики Мордовия | B40: 924 | C40: 01 | D40: 11 | E40: 89 | F40: 1 | G40: 00 | H40: 41180 | J40: =J42 -> 5 | K40: =K42 -> 5 | L40: =L42 -> 5
...

Sheet Приложение 3
H1: Приложение 3 к решению Совета депутатов Трофимовщинского сельского поселения Ромодановского муниципального района Республики Мордовия «О внесении изменений в решение Совета депутатов Трофимовщинского сельского поселения Ромодановского муниципального района Республики Мордовия от 26 декабря 2024г. №20"О бюджетеТрофимовщинского сельского поселения Ромодановского муниципального района Республики Мордовия на 2025 и на плановый период 2026 и 2027 годов» Приложение4 к решениюСовета депутатов Трофимовщинского сельского поселения Ромодановского муниципального района Республики Мордовия"О бюджете Трофимовщинского сельского поселения Ромодановского муниципального района Республики Мордовия на 2025год и на плановый период 2026 т 2027 годов"
A2: РАСПРЕДЕЛЕНИЕ БЮДЖЕТНЫХ АССИГНОВАНИЙ БЮДЖЕТА ТРОФИМОВЩИНСКОГО СЕЛЬСКОГО ПОСЕЛЕНИЯ РОМОДАНОВСКОГО МУНИЦИПАЛЬНОГО РАЙОНА РЕСПУБЛИКИ МОРДОВИЯ ПО РАЗДЕЛАМ, ПОДРАЗДЕЛАМ, ЦЕЛЕВЫМ СТАТЬЯМ (МУНИЦИПАЛЬНЫМ ПРОГРАММАМ И НЕПРОГРАММНЫМ НАПРАВЛЕНИЯМ ДЕЯТЕЛЬНОСТИ), ГРУППАМ на 2025 ГОД И НА ПЛАНОВЫЙ ПЕРИОД 2026 И 2027 ГОДОВ
H3: (тыс. рублей)
A4: Наименование | B4: Рз | C4: Прз | D4: Цср | H4: Вр | I4: Сумма
I5: 2025 год | J5: 2026 год | K5: 2027 год
A6: 1 | B6: 2 | C6: 3 | D6: 4 | E6: 5 | F6: 6 | G6: 7 | H6: 8 | I6: 9 | J6: 10 | K6: 11
A7: ВСЕГО | I7: =I8+I49+I58+I71+I78+I85 -> 2649.6 | J7: =J8+J49+J58+J71+J78+J92+J85 -> 1859.4 | K7: =K8+K49+K58+K71+K78+K92+K85 -> 1856.7
A8: Общегосударственные вопросы | B8: 01 | I8: =I9+I18+I37+I43 -> 1962.1 | J8: =J9+J18+J37 -> 1141 | K8: =K9+K18+K37 -> 1102.5
A9: Функционирование высшего должностного лица субъекта Российской Федерации и муниципального образования | B9: 01 | C9: 02 | I9: =I10 -> 650.1 | J9: =J10 -> 347.1 | K9: =K10 -> 303.5
A10: ='Приложение 2'!A10 -> Обеспечение деятельности Администрации Трофимовщинского сельского поселения Ромодановского муниципального района Республики Мордовия | B10: 01 | C10: 02 | D10: 65 | I10: =I11 -> 650.1 | J10: =J11 -> 347.1 | K10: =K11 -> 303.5
A11: Высшее должностное лицо | B11: 01 | C11: 02 | D11: 65 | E11: 1 | I11: =I12+I15 -> 650.1 | J11: =J12 -> 347.1 | K11: =K12 -> 303.5
A12: Расходы на выплаты по оплате труда высшего должностного лица | B12: 01 | C12: 02 | D12: 65 | E12: 1 | F12: 00 | G12: 41150 | I12: =I13 -> 546.6 | J12: =J13 -> 347.1 | K12: =K13 -> 303.5
A13: Расходы на выплаты персоналу в целях обеспечения выполнения функций государственными (муниципальными) органами, казенными учреждениями, органами управления государственными внебюджетными фондами | B13: 01 | C13: 02 | D13: 65 | E13: 1 | F13: 00 | G13: 41150 | H13: 100 | I13: =I14 -> 546.6 | J13: =J14 -> 347.1 | K13: =K14 -> 303.5
A14: Расходы на выплаты персоналу государственных (муниципальных) органов | B14: 01 | C14: 02 | D14: 65 | E14: 1 | F14: 00 | G14: 41150 | H14: 120 | I14: ='Приложение 2'!J14 -> 546.6 | J14: ='Приложение 2'!K14 -> 347.1 | K14: ='Приложение 2'!L14 -> 303.5
A15: ='Приложение 2'!A15 -> Субсидии на со финансирование расходных обязательств по финансовому обеспечению деятельности органов местного самоуправления и муниципальных учреждений | B15: 01 | C15: 02 | D15: 65 | E15: 1 | F15: 00 | G15: 44205 | I15: =I16 -> 103.5
A16: =A13 -> Расходы на выплаты персоналу в целях обеспечения выполнения функций государственными (муниципальными) органами, казенными учреждениями, органами управления государственными внебюджетными фондами | B16: 01 | C16: 02 | D16: 65 | E16: 1 | F16: 00 | G16: 44205 | H16: 100 | I16: =I17 -> 103.5
A17: =A14 -> Расходы на выплаты персоналу государственных (муниципальных) органов | B17: 01 | C17: 02 | D17: 65 | E17: 1 | F17: 00 | G17: 44205 | H17: 120 | I17: ='Приложение 2'!J17 -> 103.5
A18: ='Приложение 2'!A18 -> Функционирование Правительства Российской Федерации, высших исполнительных органов субъектов Российской Федерации, местных администраций | B18: 01 | C18: 04 | I18: =I19+I32 -> 1289 | J18: =J19+J32 -> 788.9 | K18: =K19+K32 -> 794
A19: =A10 -> Обеспечение деятельности Администрации Трофимовщинского сельского поселения Ромодановского муниципального района Республики Мордовия | B19: 01 | C19: 04 | D19: 65 | I19: =I20+I29 -> 1288.4 | J19: =J20 -> 788.3 | K19: =K20 -> 793.3
A20: ='Приложение 2'!A20 -> Расходы в рамках обеспечения деятельности Администрации Трофимовщинского сельского поселения | B20: 01 | C20: 04 | D20: 65 | E20: 2 | I20: =I21+I24 -> 1109 | J20: =J21+J24 -> 788.3 | K20: =K21+K24 -> 793.3
A21: Расходы на выплаты по оплате труда работников органов местного самоуправления | B21: 01 | C21: 04 | D21: 65 | E21: 2 | F21: 00 | G21: 41110 | I21: =I22 -> 843.5 | J21: =J22 -> 716.1 | K21: =K22 -> 716.1
A22: Расходы на выплаты персоналу в целях обеспечения выполнения функций государственными (муниципальными) органами, казенными учреждениями, органами управления государственными внебюджетными фондами | B22: 01 | C22: 04 | D22: 65 | E22: 2 | F22: 00 | G22: 41110 | H22: 100 | I22: =I23 -> 843.5 | J22: =J23 -> 716.1 | K22: =K23 -> 716.1
A23: Расходы на выплаты персоналу государственных (муниципальных) органов | B23: 01 | C23: 04 | D23: 65 | E23: 2 | F23: 00 | G23: 41110 | H23: 120 | I23: ='Приложение 2'!J23 -> 843.5 | J23: ='Приложение 2'!K23 -> 716.1 | K23: ='Приложение 2'!L23 -> 716.1
A24: ='Приложение 2'!A24 -> Расходы на обеспечение выполнения функций органов местного самоуправления | B24: 01 | C24: 04 | D24: 65 | E24: 2 | F24: 00 | G24: 41120 | I24: =+I25+I27 -> 265.5 | J24: =+J25+J27 -> 72.2 | K24: =+K25+K27 -> 77.2
A25: Закупка товаров, работ и услуг для обеспечения государственных (муниципальных) нужд | B25: 01 | C25: 04 | D25: 65 | E25: 2 | F25: 00 | G25: 41120 | H25: 200 | I25: =I26 -> 265.4 | J25: =J26 -> 70.2 | K25: =K26 -> 75.2
A26: Иные закупки товаров, работ и услуг для обеспечения государственных (муниципальных) нужд | B26: 01 | C26: 04 | D26: 65 | E26: 2 | F26: 00 | G26: 41120 | H26: 240 | I26: ='Приложение 2'!J26 -> 265.4 | J26: ='Приложение 2'!K26 -> 70.2 | K26: ='Приложение 2'!L26 -> 75.2
A27: Иные бюджетные ассигнования | B27: 01 | C27: 04 | D27: 65 | E27: 2 | F27: 00 | G27: 41120 | H27: 800 | I27: =I28 -> 0.1 | J27: =J28 -> 2 | K27: =K28 -> 2
A28: Уплата налогов, сборов и иных платежей | B28: 01 | C28: 04 | D28: 65 | E28: 2 | F28: 00 | G28: 41120 | H28: 850 | I28: ='Приложение 2'!J28 -> 0.1 | J28: ='Приложение 2'!K28 -> 2 | K28: ='Приложение 2'!L28 -> 2
A29: ='Приложение 2'!A29 -> Субсидии на со финансирование расходных обязательств по финансовому обеспечению деятельности органов местного самоуправления и муниципальных учреждений | B29: 01 | C29: 04 | D29: 65 | E29: 2 | F29: 00 | G29: 44205 | I29: =I30 -> 179.4
A30: ='Приложение 2'!A30 -> Расходы на выплаты персоналу в целях обеспечения выполнения функций государственными (муниципальными) органами, казенными учреждениями, органами управления государственными внебюджетными фондами | B30: 01 | C30: 04 | D30: 65 | E30: 2 | F30: 00 | G30: 44205 | H30: 100 | I30: =I31 -> 179.4
A31: ='Приложение 2'!A31 -> Расходы на выплаты персоналу государственных (муниципальных) органов | B31: 01 | C31: 04 | D31: 65 | E31: 2 | F31: 00 | G31: 44205 | H31: 120 | I31: ='Приложение 2'!J31 -> 179.4
A32: Непрограммные расходы главных распорядителей средств бюджета Трофимовщинского сельского поселения Ромодановского муниципального района Республики Мордовия | B32: 01 | C32: 04 | D32: 89 | I32: =I33 -> 0.6 | J32: =J33 -> 0.6 | K32: =K33 -> 0.7
A33: ='Приложение 2'!A33 -> Непрограммные расходы в рамках обеспечения деятельности главных распорядителей средств бюджета Трофимовщинского сельского поселения Ромодановского муниципального района Республики Мордовия | B33: 01 | C33: 04 | D33: 89 | E33: 1 | I33: =I34 -> 0.6 | J33: =J34 -> 0.6 | K33: =K34 -> 0.7
A34: Осуществление государственных полномочий Республики Мордовия по определению перечня должностных лиц, уполномоченных составлять протоколы об административных правонарушениях, предусмотренных Законом Республики Мордовия от 15 июня 2015 года № 38-З "Об административной ответственности на территории Республики Мордовия" | B34: 01 | C34: 04 | D34: 89 | E34: 1 | F34: 00 | G34: 77150 | I34: =I35 -> 0.6 | J34: =J35 -> 0.6 | K34: =K35 -> 0.7
A35: Закупка товаров, работ и услуг для обеспечения государственных (муниципальных) нужд | B35: 01 | C35: 04 | D35: 89 | E35: 1 | F35: 00 | G35: 77150 | H35: 200 | I35: =I36 -> 0.6 | J35: =J36 -> 0.6 | K35: =K36 -> 0.7
A36: Иные закупки товаров, работ и услуг для обеспечения государственных (муниципальных) нужд | B36: 01 | C36: 04 | D36: 89 | E36: 1 | F36: 00 | G36: 77150 | H36: 240 | I36: ='Приложение 2'!J36 -> 0.6 | J36: ='Приложение 2'!K36 -> 0.6 | K36: ='Приложение 2'!L36 -> 0.7
A37: Резервные фонды | B37: 01 | C37: 11 | I37: =I38 -> 5 | J37: =J38 -> 5 | K37: =K38 -> 5
A38: =A32 -> Непрограммные расходы главных распорядителей средств бюджета Трофимовщинского сельского поселения Ромодановского муниципального района Республики Мордовия | B38: 01 | C38: 11 | D38: 89 | I38: =I39 -> 5 | J38: =J39 -> 5 | K38: =K39 -> 5
A39: ='Приложение 2'!A39 -> Непрограммные расходы в рамках обеспечения деятельности главных распорядителей средств бюджета Трофимовщинского сельского поселения Ромодановского муниципального района Республики Мордовия | B39: 01 | C39: 11 | D39: 89 | E39: 1 | I39: =I40 -> 5 | J39: =J40 -> 5 | K39: =K40 -> 5
A40: ='Приложение 2'!A40 -> Резервный фонд администрации Трофимовщинского сельского поселени Ромодановского муниципального района Республики Мордовия | B40: 01 | C40: 11 | D40: 89 | E40: 1 | F40: 00 | G40: 41180 | I40: =I42 -> 5 | J40: =J42 -> 5 | K40: =K42 -> 5
...

Sheet Приложение 4
I1: Приложение 4 к решению Совета депутатов Трофимовщинского сельского поселения Ромодановского муниципального района Республики Мордовия «О внесении изменений в решение Совета депутатов Трофимовщинского сельского поселения Ромодановского муниципального района Республики Мордовия от 26 декабря 2024г. №20"О бюджетеТрофимовщинского сельского поселения Ромодановского муниципального района Республики Мордовия на 2025 и на плановый период 2026 и 2027 годов» Приложение5 к решениюСовета депутатов Трофимовщинского сельского поселения Ромодановского муниципального района Республики Мордовия"О бюджете Трофимовщинского сельского поселения Ромодановского муниципального района Республики Мордовия на 2025год и на плановый период 2026 т 2027 годов"
A2: РАСПРЕДЕЛЕНИЕ БЮДЖЕТНЫХ АССИГНОВАНИЙ БЮДЖЕТА ТРОФИМОВЩИНСКОГО СЕЛЬСКОГО ПОСЕЛЕНИЯ РОМОДАНОВСКОГО МУНИЦИПАЛЬНОГО РАЙОНА РЕСПУБЛИКИ МОРДОВИЯ ПО ЦЕЛЕВЫМ СТАТЬЯМ (МУНИЦИПАЛЬНЫМ ПРОГРАММАМ И НЕПРОГРАММНЫМ НАПРАВЛЕНИЯМ ДЕЯТЕЛЬНОСТИ), ГРУППАМ И ПОДГРУППАМ ВИДОВ РАСХОДОВ, РАЗДЕЛАМ И ПОДРАЗДЕЛАМ КЛАССИФИКАЦИИ РАСХОДОВ БЮДЖЕТОВ НА 2025 ГОД И НА ПЛАНОВЫЙ ПЕРИОД 2026 И 2027 ГОДОВ
I3: (тыс. рублей)
A4: Наименование | B4: Цср | F4: ВР | G4: Рз | H4: Прз | I4: Адм | J4: Сумма
J5: 2025 год | K5: 2026 год | L5: 2027 год
A6: 1 | B6: 2 | C6: 3 | D6: 4 | E6: 5 | F6: 6 | G6: 7 | H6: 8 | I6: 9 | J6: 10 | K6: 11 | L6: 12
A7: ВСЕГО | J7: =J16+J8+J24+J68+J82 -> 2649.6 | K7: =K16+K8+K24+K68 -> 1859.4 | L7: =L16+L8+L24+L68 -> 1856.7
A8: ='Приложение 2'!A73 -> Муниципальная программа комплексного развития социальной инфраструктуры Трофимовщинского сельского поселения Ромодановского муниципального района Республики Мордовия на 2018-2030 года | B8: 10 | J8: =J9 -> 0.9 | K8: =K9 -> 34 | L8: =L9 -> 10
A9: Основное мероприятие "Освещение территории сельского поселения " | B9: 10 | C9: 0 | D9: 08 | J9: =J10 -> 0.9 | K9: =K10 -> 34 | L9: =L10 -> 10
A10: Уличное освещение | B10: 10 | C10: 0 | D10: 08 | E10: 43010 | J10: =J11 -> 0.9 | K10: =K11 -> 34 | L10: =L11 -> 10
A11: Закупка товаров, работ и услуг для обеспечения государственных (муниципальных) нужд | B11: 10 | C11: 0 | D11: 08 | E11: 43010 | F11: 200 | J11: =J12 -> 0.9 | K11: =K12 -> 34 | L11: =L12 -> 10
A12: Иные закупки товаров, работ и услуг для обеспечения государственных (муниципальных) нужд | B12: 10 | C12: 0 | D12: 08 | E12: 43010 | F12: 240 | J12: =J13 -> 0.9 | K12: =K13 -> 34 | L12: =L13 -> 10
A13: Жилищно-коммунальное хозяйство | B13: 10 | C13: 0 | D13: 08 | E13: 43010 | F13: 240 | G13: 05 | J13: =J14 -> 0.9 | K13: =K14 -> 34 | L13: =L14 -> 10
A14: Благоустройство | B14: 10 | C14: 0 | D14: 08 | E14: 43010 | F14: 240 | G14: 05 | H14: 03 | J14: =J15 -> 0.9 | K14: =K15 -> 34 | L14: =L15 -> 10
A15: Администрация Трофимовщинского сельского поселения Ромодановского муниципального района Республики Мордовия | B15: 10 | C15: 0 | D15: 08 | E15: 43010 | F15: 240 | G15: 05 | H15: 03 | I15: 924 | J15: ='Приложение 2'!J76 -> 0.9 | K15: ='Приложение 2'!K76 -> 34 | L15: ='Приложение 2'!L76 -> 10
A16: ='Приложение 2'!A60 -> Муниципальная программа «Комплексного развития транспортной инфраструктуры Трофимовщинского сельского поселения Ромодановского муниципального района Республики Мордовия на 2018- 2030 года" | B16: 13 | J16: =J17 -> 222 | K16: =K17 -> 235 | L16: =L17 -> 245
A17: Основное мероприятие "Ремонт и содержание автомобильных дорог общего пользования в границах поселения, поддержание дорожного полотна в работоспособном состоянии" | B17: 13 | C17: 0 | D17: 01 | J17: =J18 -> 222 | K17: =K18 -> 235 | L17: =L18 -> 245
A18: ='Приложение 2'!A62 -> Иные межбюджетные трансферты на осуществление полномочий по дорожной деятельности в отношении автомобильных дорог местного значения в границах населенных пунктов поселения и обеспечению безопасности дорожного движения на них, включая создание и обеспечение функционирования парковок (парковочных мест), осуществлению муниципального контроля на автомобильном транспорте, городском наземном электрическом транспорте и в дорожном хозяйстве в границах населенных пунктов поселения, организации дорожного движения, а также осуществлению иных полномочий в области использования автомобильных дорог и осуществления дорожной деятельности в соответствии с законодательством Российской Федерации | B18: 13 | C18: 0 | D18: 01 | E18: 9Д184 | J18: =J19 -> 222 | K18: =K19 -> 235 | L18: =L19 -> 245
A19: Закупка товаров, работ и услуг для обеспечения государственных (муниципальных) нужд | B19: 13 | C19: 0 | D19: 01 | E19: 9Д184 | F19: 200 | J19: =J20 -> 222 | K19: =K20 -> 235 | L19: =L20 -> 245
A20: Иные закупки товаров, работ и услуг для обеспечения государственных (муниципальных) нужд | B20: 13 | C20: 0 | D20: 01 | E20: 9Д184 | F20: 240 | J20: =J21 -> 222 | K20: =K21 -> 235 | L20: =L21 -> 245
A21: Национальная экономика | B21: 13 | C21: 0 | D21: 01 | E21: 9Д184 | F21: 240 | G21: 04 | J21: =J22 -> 222 | K21: =K22 -> 235 | L21: =L22 -> 245
A22: ='Приложение 2'!A59 -> Дорожное хозяйство (дорожные фонды) | B22: 13 | C22: 0 | D22: 01 | E22: 9Д184 | F22: 240 | G22: 04 | H22: 09 | J22: =J23 -> 222 | K22: =K23 -> 235 | L22: =L23 -> 245
A23: Администрация Трофимовщинского сельского поселения Ромодановского муниципального района Республики Мордовия | B23: 13 | C23: 0 | D23: 01 | E23: 9Д184 | F23: 240 | G23: 04 | H23: 09 | I23: 924 | J23: ='Приложение 2'!J64 -> 222 | K23: ='Приложение 2'!K64 -> 235 | L23: ='Приложение 2'!L64 -> 245
A24: ='Приложение 2'!A19 -> Обеспечение деятельности Администрации Трофимовщинского сельского поселения Ромодановского муниципального района Республики Мордовия | B24: 65 | J24: =J25+J44 -> 1938.5 | K24: =K25+K44 -> 1178.9 | L24: =L25+L44 -> 1183.9
A25: Высшее должностное лицо | B25: 65 | C25: 1 | J25: =J26+J32+J38 -> 650.1 | K25: =K26+K32 -> 390.6 | L25: =L26+L32 -> 390.6
A26: Расходы на выплаты по оплате труда высшего должностного лица | B26: 65 | C26: 1 | D26: 00 | E26: 41150 | J26: =J27 -> 546.6 | K26: =K27 -> 347.1 | L26: =L27 -> 303.5
A27: Расходы на выплаты персоналу в целях обеспечения выполнения функций государственными (муниципальными) органами, казенными учреждениями, органами управления государственными внебюджетными фондами | B27: 65 | C27: 1 | D27: 00 | E27: 41150 | F27: 100 | J27: =J28 -> 546.6 | K27: =K28 -> 347.1 | L27: =L28 -> 303.5
A28: Расходы на выплаты персоналу государственных (муниципальных) органов | B28: 65 | C28: 1 | D28: 00 | E28: 41150 | F28: 120 | J28: =J29 -> 546.6 | K28: =K29 -> 347.1 | L28: =L29 -> 303.5
A29: Общегосударственные вопросы | B29: 65 | C29: 1 | D29: 00 | E29: 41150 | F29: 120 | G29: 01 | J29: =J30 -> 546.6 | K29: =K30 -> 347.1 | L29: =L30 -> 303.5
A30: Функционирование высшего должностного лица субъекта Российской Федерации и муниципального образования | B30: 65 | C30: 1 | D30: 00 | E30: 41150 | F30: 120 | G30: 01 | H30: 02 | J30: =J31 -> 546.6 | K30: =K31 -> 347.1 | L30: =L31 -> 303.5
A31: Администрация Трофимовщинского сельского поселения Ромодановского муниципального района Республики Мордовия | B31: 65 | C31: 1 | D31: 00 | E31: 41150 | F31: 120 | G31: 01 | H31: 02 | I31: 924 | J31: ='Приложение 2'!J14 -> 546.6 | K31: ='Приложение 2'!K14 -> 347.1 | L31: ='Приложение 2'!L14 -> 303.5
A32: ='Приложение 3'!A96 -> Условно утвержденные расходы | B32: 65 | C32: 1 | D32: 00 | E32: 41990 | K32: =K33 -> 43.5 | L32: =L33 -> 87.1
A33: ='Приложение 3'!A97 -> Иные бюджетные ассигнования | B33: 65 | C33: 1 | D33: 00 | E33: 41990 | F33: 800 | K33: =K34 -> 43.5 | L33: =L34 -> 87.1
A34: ='Приложение 3'!A98 -> Резервные средства | B34: 65 | C34: 1 | D34: 00 | E34: 41990 | F34: 870 | K34: =K35 -> 43.5 | L34: =L35 -> 87.1
A35: ='Приложение 3'!A92 -> Условно утвержденные расходы | B35: 65 | C35: 1 | D35: 00 | E35: 41990 | F35: 870 | G35: 99 | K35: =K36 -> 43.5 | L35: =L36 -> 87.1
A36: ='Приложение 3'!A93 -> Условно утвержденные расходы | B36: 65 | C36: 1 | D36: 00 | E36: 41990 | F36: 870 | G36: 99 | H36: 99 | K36: =K37 -> 43.5 | L36: =L37 -> 87.1
A37: Администрация Трофимовщинского сельского поселения Ромодановского муниципального района Республики Мордовия | B37: 65 | C37: 1 | D37: 00 | E37: 41990 | F37: 870 | G37: 99 | H37: 99 | I37: 924 | K37: ='Приложение 3'!J98 -> 43.5 | L37: ='Приложение 3'!K98 -> 87.1
A38: ='Приложение 2'!A15 -> Субсидии на со финансирование расходных обязательств по финансовому обеспечению деятельности органов местного самоуправления и муниципальных учреждений | B38: 65 | C38: 1 | D38: 00 | E38: 44205 | J38: =J39 -> 103.5
A39: ='Приложение 2'!A16 -> Расходы на выплаты персоналу в целях обеспечения выполнения функций государственными (муниципальными) органами, казенными учреждениями, органами управления государственными внебюджетными фондами | B39: 65 | C39: 1 | D39: 00 | E39: 44205 | F39: 100 | J39: =J40 -> 103.5
A40: ='Приложение 2'!A17 -> Расходы на выплаты персоналу государственных (муниципальных) органов | B40: 65 | C40: 1 | D40: 00 | E40: 44205 | F40: 120 | J40: =J41 -> 103.5
...

Sheet прил5
C2: Приложение 5 к решению Совета депутатов Трофимовщинского сельского поселения Ромодановского муниципального района Республики Мордовия «О внесении изменений в решение Совета депутатов Трофимовщинского сельского поселения Ромодановского муниципального района Республики Мордовия от 26 декабря 2024г. №20"О бюджетеТрофимовщинского сельского поселения Ромодановского муниципального района Республики Мордовия на 2025 и на плановый период 2026 и 2027 годов» Приложение 6 к решениюСовета депутатов Трофимовщинского сельского поселения Ромодановского муниципального района Республики Мордовия"О бюджете Трофимовщинского сельского поселения Ромодановского муниципального района Республики Мордовия на 2025год и на плановый период 2026 т 2027 годов"
A3: ИСТОЧНИКИ ВНУТРЕННЕГО ФИНАНСИРОВАНИЯ ДЕФИЦИТА БЮДЖЕТА ТРОФИМОВЩИНСКОГО СЕЛЬСКОГО ПОСЕЛЕНИЯ РОМОДАНОВСКОГО МУНИЦИПАЛЬНОГО РАЙОНА РЕСПУБЛИКИ МОРДОВИЯ НА 2025 ГОД И НА ПЛАНОВЫЙ ПЕРИОД 2026 и 2027 ГОДОВ
A7: Код | B7: Наименование кода группы, подгруппы, статьи, вида источника финансирования дефицитов бюджетов, кода классификации операций сектора государственного управления, относящихся к источникам финансирования дефицитов бюджетов Российской Федерации | C7: Сумма (тыс. руб.)
C8: 2025 год | D8: 2026 год | E8: 2027 год
A9: 1 | B9: 2 | C9: 3 | D9: 4 | E9: 5
A10: 000 01 00 00 00 00 0000 000 | B10: ИСТОЧНИКИ ВНУТРЕННЕГО ФИНАНСИРОВАНИЯ ДЕФИЦИТОВ БЮДЖЕТОВ | C10: =C11+C22+C14+C18 -> -24.3 | D10: =D11+D22+D14+D18 -> -53.4 | E10: =E11+E22+E14+E18 -> -66.8
A11: 000 01 02 00 00 00 0000 000 | B11: Кредиты кредитных организаций в валюте Российской Федерации | C11: =SUM(C12) -> 0 | D11: =SUM(D12) -> 0 | E11: =SUM(E12) -> 0
A12: 000 01 02 00 00 00 0000 700 | B12: Привлечение кредитов от кредитных организаций в валюте Российской Федерации | C12: =SUM(C13) -> 0 | D12: =SUM(D13) -> 0 | E12: =SUM(E13) -> 0
A13: 000 01 02 00 00 05 0000 710 | B13: Привлечение кредитов от кредитных организаций бюджетами муниципальных районов в валюте Российской Федерации
A14: 000 01 03 00 00 00 0000 000 | B14: Бюджетные кредиты из других бюджетов бюджетной системы Российской Федерации | C14: =C15 -> -40.1 | D14: =D15 -> -53.4 | E14: =E15 -> -66.8
A15: 000 01 03 01 00 00 0000 000 | B15: Бюджетные кредиты из других бюджетов бюджетной системы Российской Федерации в валюте Российской Федерации | C15: =C16 -> -40.1 | D15: =D16 -> -53.4 | E15: =E16 -> -66.8
A16: 000 01 03 01 00 00 0000 800 | B16: Погашение бюджетных кредитов, полученных из других бюджетов бюджетной системы Российской Федерации в валюте Российской Федерации | C16: =SUM(C17) -> -40.1 | D16: =SUM(D17) -> -53.4 | E16: =SUM(E17) -> -66.8
A17: 000 01 03 01 00 10 0000 810 | B17: Погашение бюджетами сельских поселений кредитов из других бюджетов бюджетной системы Российской Федерации в валюте Российской Федерации | C17: -40.1 | D17: -53.4 | E17: -66.8
A18: 000 01 06 00 00 00 0000 000 | B18: Иные источники внутреннего финансирования дефицитов бюджетов | C18: =C19 -> 0 | D18: =D19 -> 0 | E18: =E19 -> 0
A19: 000 01 06 05 00 00 0000 000 | B19: Бюджетные кредиты, предоставленные внутри страны в валюте Российской Федерации | C19: =C20 -> 0 | D19: =D20 -> 0 | E19: =E20 -> 0
A20: 000 01 06 05 02 00 0000 600 | B20: Возврат бюджетных кредитов, предоставленных другим бюджетам бюджетной системы Российской Федерации в валюте Российской Федерации | C20: =C21 -> 0 | D20: =D21 -> 0 | E20: =E21 -> 0
A21: 000 01 06 05 02 05 0000 640 | B21: Возврат бюджетных кредитов, предоставленных другим бюджетам бюджетной системы Российской Федерации из бюджетов муниципальных районов в валюте Российской Федерации | C21: 0 | D21: 0 | E21: 0
A22: 000 01 05 00 00 00 0000 000 | B22: Изменения остатков средств на счетах по учету средств бюджета | C22: =C23+C26 -> 15.8 | D22: =D23+D26 -> 0 | E22: =E23+E26 -> 0
A23: 000 01 05 02 00 00 0000 500 | B23: Увеличение прочих остатков средств бюджетов | C23: =SUM(C24) -> -2673.9 | D23: =SUM(D24) -> -1912.8 | E23: =SUM(E24) -> -1923.5
A24: 000 01 05 02 01 00 0000 510 | B24: Увеличение прочих остатков денежных средств бюджетов | C24: =SUM(C25) -> -2673.9 | D24: =SUM(D25) -> -1912.8 | E24: =SUM(E25) -> -1923.5
A25: 000 01 05 02 01 10 0000 510 | B25: Увеличение прочих остатков денежных средств бюджетов сельских поселений | C25: -2673.9 | D25: -1912.8 | E25: -1923.5
A26: 000 01 05 02 00 00 0000 600 | B26: Уменьшение прочих остатков средств бюджетов | C26: =SUM(C27) -> 2689.7 | D26: =SUM(D27) -> 1912.8 | E26: =SUM(E27) -> 1923.5
A27: 000 01 05 02 01 00 0000 610 | B27: Уменьшение прочих остатков денежных средств бюджетов | C27: =SUM(C28) -> 2689.7 | D27: =SUM(D28) -> 1912.8 | E27: =SUM(E28) -> 1923.5
A28: 000 01 05 02 01 05 0000 610 | B28: Уменьшение прочих остатков денежных средств бюджетов муниципальных районов | C28: 2689.7 | D28: 1912.8 | E28: 1923.5
A29: 000 01 00 00 00 00 0000 000 | B29: Итого источников внутреннего финансирования дефицита бюджета Трофимовщинского сельского поселения Ромодановского муниципального района Республики Мордовия | C29: 0 | D29: 0 | E29: 0
B30: собственные доходы | C30: 963.7 | D30: 883.1 | E30: 905.2

Sheet прил6
D3: Приложение 6 к решению Совета депутатов Трофимовщинского сельского поселения Ромодановского муниципального района Республики Мордовия «О внесении изменений в решение Совета депутатов Трофимовщинского сельского поселения Ромодановского муниципального района Республики Мордовия от 26 декабря 2024г. №20"О бюджетеТрофимовщинского сельского поселения Ромодановского муниципального района Республики Мордовия на 2025 и на плановый период 2026 и 2027 годов» Приложение7 к решениюСовета депутатов Трофимовщинского сельского поселения Ромодановского муниципального района Республики Мордовия"О бюджете Трофимовщинского сельского поселения Ромодановского муниципального района Республики Мордовия на 2025год и на плановый период 2026 т 2027 годов"
A4: ПРОГРАММА МУНИЦИПАЛЬНЫХ ВНУТРЕННИХ ЗАИМСТВОВАНИЙ ТРОФИМОВЩИНСКОГО СЕЛЬСКОГО ПОСЕЛЕНИЯ РОМОДАНОВСКОГО МУНИЦИПАЛЬНОГО РАЙОНА РЕСПУБЛИКИ МОРДОВИЯ НА 2025 ГОД И НА ПЛАНОВЫЙ ПЕРИОД 2026 И 2027 ГОДОВ
A8: № п/п | B8: ВИДЫ ЗАИМСТВОВАНИЙ | C8: Сумма (тыс. рублей)
C9: 2025 год | D9: 2026 год | E9: 2027 год
A10: 1 | B10: 2 | C10: 3 | D10: 4 | E10: 5
A11: I | B11: Кредиты кредитных организаций в валюте Российской Федерации | C11: =C13 -> 0 | D11: =D13 -> 0 | E11: =E13 -> 0
B12: в том числе
A13: 1 | B13: Объем привлечения
A14: 2 | B14: Объем средств, направляемых на погашение основной суммы долга
A15: 11 | B15: Бюджетные кредиты от других бюджетов бюджетной системы Российской Федерации | C15: =C18 -> -40.1 | D15: =D18 -> -53.4 | E15: =E18 -> -66.8
B16: в том числе
A17: 1 | B17: Объем привлечения
A18: 2 | B18: Объем средств, направляемых на погашение основной суммы долга | C18: =прил5!C17 -> -40.1 | D18: =прил5!D17 -> -53.4 | E18: =прил5!E17 -> -66.8
B19: ВСЕГО | C19: =C13+C18 -> -40.1 | D19: =D13+D18 -> -53.4 | E19: =E13+E18 -> -66.8
