Workbook

Sheet Прил 1
B1: Приложение 1
B2: к решению Совета депутатов Кочуновского сельского поселения Ромодановского муниципального района Республики Мордовия "О бюджете Кочуновского сельского поселения Ромодановского муниципального района Республики Мордовия на 2026 год и на плановый период 2027 и 2028 годов"
A3: НОРМАТИВЫ РАСПРЕДЕЛЕНИЯ ДОХОДОВ МЕЖДУ БЮДЖЕТОМ КОЧУНОВСКОГО СЕЛЬСКОГО ПОСЕЛЕНИЯ РОМОДАНОВСКОГО МУНИЦИПАЛЬНОГО РАЙОНА РЕСПУБЛИКИ МОРДОВИЯ И БЮДЖЕТОМ РОМОДАНОВСКОГО МУНИЦИПАЛЬНОГО РАЙОНА РЕСПУБЛИКИ МОРДОВИЯ НА 2026 ГОД И НА ПЛАНОВЫЙ ПЕРИОД 2027 И 2028 ГОДОВ (в процентах от сумм, зачисляемых в консолидированный бюджет Кочуновского сельского поселения Ромодановского муниципального района Республики Мордовия)
A5: Наименование дохода | B5: Местные бюджеты,%
B6: Бюджет поселение
A7: 1 | B7: 3
A8: Доходы от федеральных налогов и сборов
A9: В части погашения задолженности и перерасчетов по отмененным налогам, сборам и иным обязательным платежам
A10: Земельный налог (по обязательствам, возникшим до 1 января 2006 года), мобилизуемый на территориях поселений | B10: 100
A11: Налог с продаж | B11: 0
A12: Налог, взимаемый в виде стоимости патента в связи с применением упрощенной системы налогообложения (за налоговые периоды с 1 января 2011 года по 1 января 2013 года) | B12: 0
A13: Налог на рекламу | B13: 0
A14: Целевые сборы с граждан и предприятий, учреждений, организаций на содержание милиции, на благоустройство территорий, на нужды образования и другие цели | B14: 0
A15: Лицензионный сбор за право торговли спиртными напитками | B15: 0
A16: Прочие местные налоги и сборы | B16: 0
A17: В части доходов от оказания платных услуг (работ) и компенсации затрат государства
A18: Прочие доходы от оказания платных услуг (работ) получателями средств бюджетов муниципальных районов | B18: 0
A19: Прочие доходы от оказания платных услуг (работ) получателями средств бюджетов поселений | B19: 100
A20: Прочие доходы от компенсации затрат бюджетов муниципальных районов | B20: 0
A21: Прочие доходы от компенсации затрат бюджетов поселений | B21: 100
A22: В части административных платежей и сборов
A23: Платежи, взимаемые органами местного самоуправления (организациями) муниципальных районов за выполнение определенных функций | B23: 0
A24: Платежи, взимаемые органами местного самоуправления (организациями) поселений за выполнение определенных функций | B24: 100
A25: В части штрафов, санкций, возмещение ущерба
A26: Доходы от возмещения ущерба при возникновении страховых случаев, когда выгодоприобретателями выступают получатели средств бюджетов муниципальных районов | B26: 0
A27: Доходы от возмещения ущерба при возникновении страховых случаев, когда выгодоприобретателями выступают получатели средств бюджетов поселений | B27: 100
A28: Денежные взыскания (штрафы) и иные суммы, взыскиваемые с лиц, виновных в совершении преступлений, и в возмещение ущерба имуществу, зачисляемые в бюджеты муниципальных районов | B28: 0
A29: Денежные взыскания (штрафы) и иные суммы, взыскиваемые с лиц, виновных в совершении преступлений, и в возмещение ущерба имуществу, зачисляемые в бюджеты поселений | B29: 100
A30: Денежные взыскания, налагаемые в возмещение ущерба, причиненного в результате незаконного или нецелевого использования бюджетных средств (в части бюджетов муниципальных районов) | B30: 0
A31: Денежные взыскания, налагаемые в возмещение ущерба, причиненного в результате незаконного или нецелевого использования бюджетных средств (в части бюджетов поселений) | B31: 100
A32: Прочие поступления от денежных взысканий (штрафов) и иных сумм в возмещение ущерба, зачисляемые в бюджеты муниципальных районов | B32: 0
A33: Прочие поступления от денежных взысканий (штрафов) и иных сумм в возмещение ущерба, зачисляемые в бюджеты поселений | B33: 100
A34: В части прочих неналоговых доходов
A35: Невыясненные поступления, зачисляемые в бюджеты муниципальных районов | B35: 0
A36: Невыясненные поступления, зачисляемые в бюджеты поселений | B36: 100
A37: Прочие неналоговые доходы бюджетов муниципальных районов | B37: 0
A38: Прочие неналоговые доходы бюджетов поселений | B38: 100

Sheet Приложение 2
C1: Приложение 2 к решению Совета депутатов Кочуновского сельского поселения Ромодановского муниципального района Республики Мордовия «О бюджете Кочуновского сельского поселения Ромодановского муниципального района Республики Мордовия на 2026 год и на плановый период 2027 и 2028 годов»
A6: ОБЪЕМ БЕЗВОЗМЕЗДНЫХ ПОСТУПЛЕНИЙ В БЮДЖЕТ КОЧУНОВСКОГО СЕЛЬСКОГО ПОСЕЛЕНИЯ РОМОДАНОВСКОГО МУНИЦИПАЛЬНОГО РАЙОНА РЕСПУБЛИКИ МОРДОВИЯ НА 2026 ГОД И НА ПЛАНОВЫЙ ПЕРИОД 2027 И 2028 ГОДОВ
E7: (тыс. рублей)
A8: Код | B8: Наименование | C8: Сумма
C9: 2026 год | D9: 2027 год | E9: 2028 год
A10: 1 | B10: 2 | C10: 3 | D10: 4 | E10: 5
A11: 2 00 00000 00 0000 000 | B11: БЕЗВОЗМЕЗДНЫЕ ПОСТУПЛЕНИЯ | C11: =C12 -> 2406 | D11: =D12 -> 1724.9 | E11: =E12 -> 1840.9
A12: 2 02 00000 00 0000 000 | B12: Безвозмездные поступления от других бюджетов бюджетной системы Российской Федерации | C12: =C13+C21+C26+C18 -> 2406 | D12: =D13+D21+D26 -> 1724.9 | E12: =E13+E21+E26 -> 1840.9
A13: 2 02 10000 00 0000 150 | B13: Дотации бюджетам бюджетной системы Российской Федерации | C13: =C14+C16 -> 1618.8 | D13: =D14 -> 983.2 | E13: =E14 -> 1011.8
A14: 2 02 15001 00 0000 150 | B14: Дотации на выравнивание бюджетной обеспеченности | C14: =C15 -> 1098.2 | D14: =D15 -> 983.2 | E14: =E15 -> 1011.8
A15: 2 02 15001 10 0000 150 | B15: Дотации бюджетам сельских поселений на выравнивание бюджетной обеспеченности из бюджета субъекта Российской Федерации | C15: 1098.2 | D15: 983.2 | E15: 1011.8
A16: 2 02 15002 00 0000 150 | B16: Дотация бюджетам на поддержку мер по обеспечению сбалансированности бюджетов | C16: =C17 -> 520.6
A17: 2 02 15002 10 0000 150 | B17: Дотации бюджетам сельских поселений на поддержку мер по обеспечению сбалансированности бюджетов | C17: 520.6
A18: 2 02 20000 00 0000 150 | B18: Субсидии бюджетам бюджетной системы Российской Федерации (межбюджетные субсидии) | C18: =C19 -> 100
A19: 2 02 29999 00 0000 150 | B19: Прочие субсидии | C19: =C20 -> 100
A20: 2 02 29999 10 0000 150 | B20: Прочие субсидии бюджетам сельских поселений | C20: 100
A21: 2 02 30000 00 0000 150 | B21: Субвенции бюджетам бюджетной системы Российской Федерации | C21: =C22+C24 -> 218.2 | D21: =D22+D24 -> 244.7 | E21: =E22+E24 -> 312.1
A22: 2 02 30024 00 0000 150 | B22: Субвенции местным бюджетам на выполнение передаваемых полномочий субъектов Российской Федерации | C22: =C23 -> 0.8 | D22: =D23 -> 0.9 | E22: =E23 -> 0.9
A23: 2 02 30024 10 0000 150 | B23: Субвенции бюджетам сельских поселений на выполнение передаваемых полномочий субъектов Российской Федерации | C23: 0.8 | D23: 0.9 | E23: 0.9
A24: 2 02 35118 00 0000 150 | B24: Субвенции бюджетам на осуществление первичного воинского учета органами местного самоуправления поселений,муниципальных и городских округов | C24: =C25 -> 217.4 | D24: =D25 -> 243.8 | E24: =E25 -> 311.2
A25: 2 02 35118 10 0000 150 | B25: Субвенции бюджетам сельских поселений на осуществление первичного воинского учета органами местного самоуправления поселений,муниципальных и городских округов | C25: 217.4 | D25: 243.8 | E25: 311.2
A26: 2 02 40000 00 0000 150 | B26: Иные межбюджетные трансферты | C26: =C27 -> 469 | D26: =D27 -> 497 | E26: =E27 -> 517
A27: 2 02 40014 00 0000 150 | B27: Межбюджетные трансферты, передаваемые бюджетам муниципальных образований на осуществление части полномочий по решению вопросов местного значения в соответствии с заключенными соглашениями | C27: =C28 -> 469 | D27: =D28 -> 497 | E27: =E28 -> 517
A28: 2 02 40014 10 0000 150 | B28: Межбюджетные трансферты, передаваемые бюджетам сельских поселений из бюджетов муниципальных районов на осуществление части полномочий по решению вопросов местного значения в соответствии с заключенными соглашениями | C28: 469 | D28: 497 | E28: 517

Sheet Приложение 3
I1: Приложение 3 к решению Совета депутатов Кочуновского сельского поселения Ромодановского муниципального района Республики Мордовия «О бюджете Кочуновского сельского поселения Ромодановского муниципального района Республики Мордовия на 2026 год и на плановый период 2027 и 2028 годов»
A2: ВЕДОМСТВЕННАЯ СТРУКТУРА РАСХОДОВ БЮДЖЕТА КОЧУНОВСКОГО СЕЛЬСКОГО ПОСЕЛЕНИЯ РОМОДАНОВСКОГО МУНИЦИПАЛЬНОГО РАЙОНА РЕСПУБЛИКИ МОРДОВИЯ НА 2026 ГОД И НА ПЛАНОВЫЙ ПЕРИОД 2027 И 2028 ГОДОВ
I3: (тыс. рублей)
A4: Наименование | B4: Адм | C4: Рз | D4: Прз | E4: Цср | I4: Вр | J4: Сумма
J5: 2026 год | K5: 2027 год | L5: 2028 год
A6: 1 | B6: 2 | C6: 3 | D6: 4 | E6: 5 | F6: 6 | G6: 7 | H6: 8 | I6: 9 | J6: 10 | K6: 11 | L6: 12
A7: Администрация Кочуновского сельского поселения Ромодановского муниципального района Республики Мордовия | B7: 913 | J7: =J8+J40+J49+J56+J67+J81+J74 -> 2980.1 | K7: =K8+K40+K49+K56+K67+K81+K74 -> 2306.3 | L7: =L8+L40+L49+L56+L67+L74+L81 -> 2430.2
A8: Общегосударственные вопросы | B8: 913 | C8: 01 | J8: =J9+J18+J34 -> 1901.7 | K8: =K9+K18+K34 -> 1240 | L8: =L9+L18+L34 -> 1242.7
A9: Функционирование высшего должностного лица субъекта Российской Федерации и муниципального образования | B9: 913 | C9: 01 | D9: 02 | J9: =J10 -> 848.5 | K9: =K10 -> 500.9 | L9: =L10 -> 458.8
A10: Обеспечение деятельности Администрации Кочуновского сельского поселения Ромодановского муниципального района Республики Мордовия | B10: 913 | C10: 01 | D10: 02 | E10: 65 | J10: =J11+J17 -> 848.5 | K10: =K11 -> 500.9 | L10: =L11 -> 458.8
A11: Высшее должностное лицо | B11: 913 | C11: 01 | D11: 02 | E11: 65 | F11: 1 | J11: =J12 -> 748.5 | K11: =K12 -> 500.9 | L11: =L12 -> 458.8
A12: Расходы на выплаты по оплате труда высшего должностного лица | B12: 913 | C12: 01 | D12: 02 | E12: 65 | F12: 1 | G12: 00 | H12: 41150 | J12: =J13 -> 748.5 | K12: =K13 -> 500.9 | L12: =L13 -> 458.8
A13: Расходы на выплаты персоналу в целях обеспечения выполнения функций государственными (муниципальными) органами, казенными учреждениями, органами управления государственными внебюджетными фондами | B13: 913 | C13: 01 | D13: 02 | E13: 65 | F13: 1 | G13: 00 | H13: 41150 | I13: 100 | J13: =J14 -> 748.5 | K13: =K14 -> 500.9 | L13: =L14 -> 458.8
A14: Расходы на выплаты персоналу государственных (муниципальных) органов | B14: 913 | C14: 01 | D14: 02 | E14: 65 | F14: 1 | G14: 00 | H14: 41150 | I14: 120 | J14: 748.5 | K14: 500.9 | L14: 458.8
A15: ='[1]Приложение 3'!$A$15 -> Субсидии на со финансирование расходных обязательств по финансовому обеспечению деятельности органов местного самоуправления и муниципальных учреждений | B15: 913 | C15: 01 | D15: 02 | E15: 65 | F15: 1 | G15: 00 | H15: 44205 | J15: =J16 -> 100
A16: =A13 -> Расходы на выплаты персоналу в целях обеспечения выполнения функций государственными (муниципальными) органами, казенными учреждениями, органами управления государственными внебюджетными фондами | B16: 913 | C16: 01 | D16: 02 | E16: 65 | F16: 1 | G16: 00 | H16: 44205 | I16: 100 | J16: =J17 -> 100
A17: =A14 -> Расходы на выплаты персоналу государственных (муниципальных) органов | B17: 913 | C17: 01 | D17: 02 | E17: 65 | F17: 1 | G17: 00 | H17: 44205 | I17: 120 | J17: 100
A18: Функционирование Правительства Российской Федерации, высших исполнительных органов государственной власти субъектов Российской Федерации, местных администраций | B18: 913 | C18: 01 | D18: 04 | J18: =J19+J29 -> 1048.2 | K18: =K19+K29 -> 734.1 | L18: =L19+L29 -> 778.9
A19: Обеспечение деятельности Администрации Кочуновского сельского поселения Ромодановского муниципального района Республики Мордовия | B19: 913 | C19: 01 | D19: 04 | E19: 65 | J19: =J20 -> 1047.4 | K19: =K20 -> 733.2 | L19: =L20 -> 778
A20: Расходы в рамках обеспечения деятельности Администрации Кочуновского сельского поселения | B20: 913 | C20: 01 | D20: 04 | E20: 65 | F20: 2 | J20: =J21+J24 -> 1047.4 | K20: =K21+K24 -> 733.2 | L20: =L21+L24 -> 778
A21: Расходы на выплаты по оплате труда работников органов местного самоуправления | B21: 913 | C21: 01 | D21: 04 | E21: 65 | F21: 2 | G21: 00 | H21: 41110 | J21: =J22 -> 782.2 | K21: =K22 -> 606.7 | L21: =L22 -> 650
A22: Расходы на выплаты персоналу в целях обеспечения выполнения функций государственными (муниципальными) органами, казенными учреждениями, органами управления государственными внебюджетными фондами | B22: 913 | C22: 01 | D22: 04 | E22: 65 | F22: 2 | G22: 00 | H22: 41110 | I22: 100 | J22: =J23 -> 782.2 | K22: =K23 -> 606.7 | L22: =L23 -> 650
A23: Расходы на выплаты персоналу государственных (муниципальных) органов | B23: 913 | C23: 01 | D23: 04 | E23: 65 | F23: 2 | G23: 00 | H23: 41110 | I23: 120 | J23: 782.2 | K23: 606.7 | L23: 650
A24: Расходы на обеспечение выполнения функций органов местного самоуправления | B24: 913 | C24: 01 | D24: 04 | E24: 65 | F24: 2 | G24: 00 | H24: 41120 | J24: =+J25+J27 -> 265.2 | K24: =+K25+K27 -> 126.5 | L24: =L25+L27 -> 128
A25: Закупка товаров, работ и услуг для обеспечения государственных (муниципальных) нужд | B25: 913 | C25: 01 | D25: 04 | E25: 65 | F25: 2 | G25: 00 | H25: 41120 | I25: 200 | J25: =J26 -> 263.2 | K25: =K26 -> 124.5 | L25: =L26 -> 126
A26: Иные закупки товаров, работ и услуг для обеспечения государственных (муниципальных) нужд | B26: 913 | C26: 01 | D26: 04 | E26: 65 | F26: 2 | G26: 00 | H26: 41120 | I26: 240 | J26: 263.2 | K26: 124.5 | L26: 126
A27: Иные бюджетные ассигнования | B27: 913 | C27: 01 | D27: 04 | E27: 65 | F27: 2 | G27: 00 | H27: 41120 | I27: 800 | J27: =J28 -> 2 | K27: =K28 -> 2 | L27: =L28 -> 2
A28: Уплата налогов, сборов и иных платежей | B28: 913 | C28: 01 | D28: 04 | E28: 65 | F28: 2 | G28: 00 | H28: 41120 | I28: 850 | J28: 2 | K28: 2 | L28: 2
A29: Непрограммные расходы главных распорядителей средств бюджета Кочуновского сельского поселения Ромодановского муниципального района Республики Мордовия | B29: 913 | C29: 01 | D29: 04 | E29: 89 | J29: =J30 -> 0.8 | K29: =K30 -> 0.9 | L29: =L30 -> 0.9
A30: Непрограммные расходы в рамках обеспечения деятельности главных распорядителей средств бюджета Кочуновского сельского поселения Ромодановского муниципального района Республики Мордовия | B30: 913 | C30: 01 | D30: 04 | E30: 89 | F30: 1 | J30: =J31 -> 0.8 | K30: =K31 -> 0.9 | L30: =L31 -> 0.9
A31: Осуществление государственных полномочий Республики Мордовия по определению перечня должностных лиц, уполномоченных составлять протоколы об административных правонарушениях, предусмотренных Законом Республики Мордовия от 15 июня 2015 года № 38-З "Об административной ответственности на территории Республики Мордовия" | B31: 913 | C31: 01 | D31: 04 | E31: 89 | F31: 1 | G31: 00 | H31: 77150 | J31: =J32 -> 0.8 | K31: =K32 -> 0.9 | L31: =L32 -> 0.9
A32: Закупка товаров, работ и услуг для обеспечения государственных (муниципальных) нужд | B32: 913 | C32: 01 | D32: 04 | E32: 89 | F32: 1 | G32: 00 | H32: 77150 | I32: 200 | J32: =J33 -> 0.8 | K32: =K33 -> 0.9 | L32: =L33 -> 0.9
A33: Иные закупки товаров, работ и услуг для обеспечения государственных (муниципальных) нужд | B33: 913 | C33: 01 | D33: 04 | E33: 89 | F33: 1 | G33: 00 | H33: 77150 | I33: 240 | J33: 0.8 | K33: 0.9 | L33: 0.9
A34: Резервные фонды | B34: 913 | C34: 01 | D34: 11 | J34: =J35 -> 5 | K34: =K35 -> 5 | L34: =L35 -> 5
A35: Непрограммные расходы главных распорядителей средств бюджета Кочуновского сельского поселения Ромодановского муниципального района Республики Мордовия | B35: 913 | C35: 01 | D35: 11 | E35: 89 | J35: =J36 -> 5 | K35: =K36 -> 5 | L35: =L36 -> 5
A36: Непрограммные расходы в рамках обеспечения деятельности главных распорядителей средств бюджета Кочуновского сельского поселения Ромодановского муниципального района Республики Мордовия | B36: 913 | C36: 01 | D36: 11 | E36: 89 | F36: 1 | J36: =J37 -> 5 | K36: =K37 -> 5 | L36: =L37 -> 5
A37: Резервный фонд администрации Кочуновского сельского поселения Ромодановского муниципального района Республики Мордовия | B37: 913 | C37: 01 | D37: 11 | E37: 89 | F37: 1 | G37: 00 | H37: 41180 | J37: =J39 -> 5 | K37: =K39 -> 5 | L37: =L38 -> 5
A38: Иные бюджетные ассигнования | B38: 913 | C38: 01 | D38: 11 | E38: 89 | F38: 1 | G38: 00 | H38: 41180 | I38: 800 | J38: =J39 -> 5 | K38: =K39 -> 5 | L38: =L39 -> 5
A39: Резервные средства | B39: 913 | C39: 01 | D39: 11 | E39: 89 | F39: 1 | G39: 00 | H39: 41180 | I39: 870 | J39: 5 | K39: 5 | L39: 5
A40: Национальная оборона | B40: 913 | C40: 02 | J40: =J41 -> 217.4 | K40: =K41 -> 243.8 | L40: =L41 -> 311.2
...

Sheet Приложение 4
H1: Приложение 4 к решению Совета депутатов Кочуновского сельского поселения Ромодановского муниципального района Республики Мордовия «О бюджете Кочуновского сельского поселения Ромодановского муниципального района Республики Мордовия на 2026 год и на плановый период 2027 и 2028 годов»
A2: РАСПРЕДЕЛЕНИЕ БЮДЖЕТНЫХ АССИГНОВАНИЙ БЮДЖЕТА КОЧУНОВСКОГО СЕЛЬСКОГО ПОСЕЛЕНИЯ РОМОДАНОВСКОГО МУНИЦИПАЛЬНОГО РАЙОНА РЕСПУБЛИКИ МОРДОВИЯ ПО РАЗДЕЛАМ, ПОДРАЗДЕЛАМ, ЦЕЛЕВЫМ СТАТЬЯМ (МУНИЦИПАЛЬНЫМ ПРОГРАММАМ И НЕПРОГРАММНЫМ НАПРАВЛЕНИЯМ ДЕЯТЕЛЬНОСТИ), ГРУППАМ И ПОДГРУППАМ ВИДОВ РАСХОДОВ КЛАССИФИКАЦИИ РАСХОДОВ БЮДЖЕТОВ НА 2026 ГОД И НА ПЛАНОВЫЙ ПЕРИОД 2027 И 2028 ГОДОВ
H3: (тыс. рублей)
A4: Наименование | B4: Рз | C4: Прз | D4: Цср | H4: Вр | I4: Сумма
I5: 2026 год | J5: 2027 год | K5: 2028 год
A6: ВСЕГО | B6: 2 | C6: 3 | D6: 4 | E6: 5 | F6: 6 | G6: 7 | H6: 8 | I6: 9 | J6: 10 | K6: 11
A7: Администрация Кочуновского сельского поселения Ромодановского муниципального района Республики Мордовия | I7: =I8+I40+I49+I56+I67+I74 -> 2980.1 | J7: =J8+J40+J49+J56+J67+J81+J74 -> 2306.3 | K7: =K8+K40+K49+K56+K67+K81+K74 -> 2430.2
A8: Общегосударственные вопросы | B8: 01 | I8: =I9+I18+I34 -> 1901.7 | J8: =J9+J18+J34 -> 1240 | K8: =K9+K18+K34 -> 1242.7
A9: Функционирование высшего должностного лица субъекта Российской Федерации и муниципального образования | B9: 01 | C9: 02 | I9: =I10 -> 848.5 | J9: =J10 -> 500.9 | K9: =K10 -> 458.8
A10: ='Приложение 3'!A10 -> Обеспечение деятельности Администрации Кочуновского сельского поселения Ромодановского муниципального района Республики Мордовия | B10: 01 | C10: 02 | D10: 65 | I10: =I11+I15 -> 848.5 | J10: =J11 -> 500.9 | K10: =K11 -> 458.8
A11: Высшее должностное лицо | B11: 01 | C11: 02 | D11: 65 | E11: 1 | I11: =I12 -> 748.5 | J11: =J12 -> 500.9 | K11: =K12 -> 458.8
A12: Расходы на выплаты по оплате труда высшего должностного лица | B12: 01 | C12: 02 | D12: 65 | E12: 1 | F12: 00 | G12: 41150 | I12: =I13 -> 748.5 | J12: =J13 -> 500.9 | K12: =K13 -> 458.8
A13: Расходы на выплаты персоналу в целях обеспечения выполнения функций государственными (муниципальными) органами, казенными учреждениями, органами управления государственными внебюджетными фондами | B13: 01 | C13: 02 | D13: 65 | E13: 1 | F13: 00 | G13: 41150 | H13: 100 | I13: =I14 -> 748.5 | J13: =J14 -> 500.9 | K13: =K14 -> 458.8
A14: Расходы на выплаты персоналу государственных (муниципальных) органов | B14: 01 | C14: 02 | D14: 65 | E14: 1 | F14: 00 | G14: 41150 | H14: 120 | I14: ='Приложение 3'!J14 -> 748.5 | J14: ='Приложение 3'!K14 -> 500.9 | K14: ='Приложение 3'!L14 -> 458.8
A15: ='Приложение 3'!A15 -> Субсидии на со финансирование расходных обязательств по финансовому обеспечению деятельности органов местного самоуправления и муниципальных учреждений | B15: 01 | C15: 02 | D15: 65 | E15: 1 | F15: 00 | G15: 44205 | I15: =I16 -> 100
A16: ='Приложение 3'!A16 -> Расходы на выплаты персоналу в целях обеспечения выполнения функций государственными (муниципальными) органами, казенными учреждениями, органами управления государственными внебюджетными фондами | B16: 01 | C16: 02 | D16: 65 | E16: 1 | F16: 00 | G16: 44205 | H16: 100 | I16: =I17 -> 100
A17: =A14 -> Расходы на выплаты персоналу государственных (муниципальных) органов | B17: 01 | C17: 02 | D17: 65 | E17: 1 | F17: 00 | G17: 44205 | H17: 120 | I17: ='Приложение 3'!J17 -> 100
A18: Функционирование Правительства Российской Федерации, высших исполнительных органов государственной власти субъектов Российской Федерации, местных администраций | B18: 01 | C18: 04 | I18: =I19+I29 -> 1048.2 | J18: =J19+J29 -> 734.1 | K18: =K19+K29 -> 778.9
A19: =A10 -> Обеспечение деятельности Администрации Кочуновского сельского поселения Ромодановского муниципального района Республики Мордовия | B19: 01 | C19: 04 | D19: 65 | I19: =I20 -> 1047.4 | J19: =J20 -> 733.2 | K19: =K20 -> 778
A20: ='Приложение 3'!A20 -> Расходы в рамках обеспечения деятельности Администрации Кочуновского сельского поселения | B20: 01 | C20: 04 | D20: 65 | E20: 2 | I20: =I21+I24 -> 1047.4 | J20: =J21+J24 -> 733.2 | K20: =K21+K24 -> 778
A21: Расходы на выплаты по оплате труда работников органов местного самоуправления | B21: 01 | C21: 04 | D21: 65 | E21: 2 | F21: 00 | G21: 41110 | I21: =I22 -> 782.2 | J21: =J22 -> 606.7 | K21: =K22 -> 650
A22: Расходы на выплаты персоналу в целях обеспечения выполнения функций государственными (муниципальными) органами, казенными учреждениями, органами управления государственными внебюджетными фондами | B22: 01 | C22: 04 | D22: 65 | E22: 2 | F22: 00 | G22: 41110 | H22: 100 | I22: =I23 -> 782.2 | J22: =J23 -> 606.7 | K22: =K23 -> 650
A23: Расходы на выплаты персоналу государственных (муниципальных) органов | B23: 01 | C23: 04 | D23: 65 | E23: 2 | F23: 00 | G23: 41110 | H23: 120 | I23: ='Приложение 3'!J23 -> 782.2 | J23: ='Приложение 3'!K23 -> 606.7 | K23: ='Приложение 3'!L23 -> 650
A24: ='Приложение 3'!A24 -> Расходы на обеспечение выполнения функций органов местного самоуправления | B24: 01 | C24: 04 | D24: 65 | E24: 2 | F24: 00 | G24: 41120 | I24: =+I25+I27 -> 265.2 | J24: =+J25+J27 -> 126.5 | K24: =+K25+K27 -> 128
A25: Закупка товаров, работ и услуг для обеспечения государственных (муниципальных) нужд | B25: 01 | C25: 04 | D25: 65 | E25: 2 | F25: 00 | G25: 41120 | H25: 200 | I25: =I26 -> 263.2 | J25: =J26 -> 124.5 | K25: =K26 -> 126
A26: Иные закупки товаров, работ и услуг для обеспечения государственных (муниципальных) нужд | B26: 01 | C26: 04 | D26: 65 | E26: 2 | F26: 00 | G26: 41120 | H26: 240 | I26: ='Приложение 3'!J26 -> 263.2 | J26: ='Приложение 3'!K26 -> 124.5 | K26: ='Приложение 3'!L26 -> 126
A27: Иные бюджетные ассигнования | B27: 01 | C27: 04 | D27: 65 | E27: 2 | F27: 00 | G27: 41120 | H27: 800 | I27: =I28 -> 2 | J27: =J28 -> 2 | K27: =K28 -> 2
A28: Уплата налогов, сборов и иных платежей | B28: 01 | C28: 04 | D28: 65 | E28: 2 | F28: 00 | G28: 41120 | H28: 850 | I28: ='Приложение 3'!J28 -> 2 | J28: ='Приложение 3'!K28 -> 2 | K28: ='Приложение 3'!L28 -> 2
A29: Непрограммные расходы главных распорядителей средств бюджета Кочуновского сельского поселения Ромодановского муниципального района Республики Мордовия | B29: 01 | C29: 04 | D29: 89 | I29: =I30 -> 0.8 | J29: =J30 -> 0.9 | K29: =K30 -> 0.9
A30: Непрограммные расходы в рамках обеспечения деятельности главных распорядителей средств бюджета Кочуновского сельского поселения Ромодановского муниципального района Республики Мордовия | B30: 01 | C30: 04 | D30: 89 | E30: 1 | I30: =I31 -> 0.8 | J30: =J31 -> 0.9 | K30: =K31 -> 0.9
A31: Осуществление государственных полномочий Республики Мордовия по определению перечня должностных лиц, уполномоченных составлять протоколы об административных правонарушениях, предусмотренных Законом Республики Мордовия от 15 июня 2015 года № 38-З "Об административной ответственности на территории Республики Мордовия" | B31: 01 | C31: 04 | D31: 89 | E31: 1 | F31: 00 | G31: 77150 | I31: =I32 -> 0.8 | J31: =J32 -> 0.9 | K31: =K32 -> 0.9
A32: Закупка товаров, работ и услуг для обеспечения государственных (муниципальных) нужд | B32: 01 | C32: 04 | D32: 89 | E32: 1 | F32: 00 | G32: 77150 | H32: 200 | I32: =I33 -> 0.8 | J32: =J33 -> 0.9 | K32: =K33 -> 0.9
A33: Иные закупки товаров, работ и услуг для обеспечения государственных (муниципальных) нужд | B33: 01 | C33: 04 | D33: 89 | E33: 1 | F33: 00 | G33: 77150 | H33: 240 | I33: ='Приложение 3'!J33 -> 0.8 | J33: ='Приложение 3'!K33 -> 0.9 | K33: ='Приложение 3'!L33 -> 0.9
A34: Резервные фонды | B34: 01 | C34: 11 | I34: =I35 -> 5 | J34: =J35 -> 5 | K34: =K35 -> 5
A35: Непрограммные расходы главных распорядителей средств бюджета Кочуновского сельского поселения Ромодановского муниципального района Республики Мордовия | B35: 01 | C35: 11 | D35: 89 | I35: =I36 -> 5 | J35: =J36 -> 5 | K35: =K36 -> 5
A36: Непрограммные расходы в рамках обеспечения деятельности главных распорядителей средств бюджета Кочуновского сельского поселения Ромодановского муниципального района Республики Мордовия | B36: 01 | C36: 11 | D36: 89 | E36: 1 | I36: =I37 -> 5 | J36: =J37 -> 5 | K36: =K37 -> 5
A37: ='Приложение 3'!A37 -> Резервный фонд администрации Кочуновского сельского поселения Ромодановского муниципального района Республики Мордовия | B37: 01 | C37: 11 | D37: 89 | E37: 1 | F37: 00 | G37: 41180 | I37: =I39 -> 5 | J37: =J39 -> 5 | K37: =K39 -> 5
A38: Иные бюджетные ассигнования | B38: 01 | C38: 11 | D38: 89 | E38: 1 | F38: 00 | G38: 41180 | H38: 800 | I38: =I39 -> 5 | J38: =J39 -> 5 | K38: =K39 -> 5
A39: Резервные средства | B39: 01 | C39: 11 | D39: 89 | E39: 1 | F39: 00 | G39: 41180 | H39: 870 | I39: ='Приложение 3'!J39 -> 5 | J39: ='Приложение 3'!K39 -> 5 | K39: ='Приложение 3'!L39 -> 5
A40: Национальная оборона | B40: 02 | I40: =I41 -> 217.4 | J40: =J41 -> 243.8 | K40: =K41 -> 311.2
...

Sheet Приложение 5
I1: Приложение 5 к решению Совета депутатов Кочуновского сельского поселения Ромодановского муниципального района Республики Мордовия «О бюджете Кочуновского сельского поселения Ромодановского муниципального района Республики Мордовия на 2026 год и на плановый период 2027 и 2028 годов»
A2: РАСПРЕДЕЛЕНИЕ БЮДЖЕТНЫХ АССИГНОВАНИЙ БЮДЖЕТА КОЧУНОВСКОГО СЕЛЬСКОГО ПОСЕЛЕНИЯ РОМОДАНОВСКОГО МУНИЦИПАЛЬНОГО РАЙОНА РЕСПУБЛИКИ МОРДОВИЯ ПО ЦЕЛЕВЫМ СТАТЬЯМ (МУНИЦИПАЛЬНЫМ ПРОГРАММАМ И НЕПРОГРАММНЫМ НАПРАВЛЕНИЯМ ДЕЯТЕЛЬНОСТИ), ГРУППАМ И ПОДГРУППАМ ВИДОВ РАСХОДОВ, РАЗДЕЛАМ И ПОДРАЗДЕЛАМ КЛАССИФИКАЦИИ РАСХОДОВ БЮДЖЕТОВ НА 2026 ГОД И НА ПЛАНОВЫЙ ПЕРИОД 2027 И 2028 ГОДОВ
I3: (тыс. рублей)
A4: Наименование | B4: Цср | F4: ВР | G4: Рз | H4: Прз | I4: Адм | J4: Сумма
J5: 2026 год | K5: 2027 год | L5: 2028 год
A6: 1 | B6: 2 | C6: 3 | D6: 4 | E6: 5 | F6: 6 | G6: 7 | H6: 8 | I6: 9 | J6: 10 | K6: 11 | L6: 12
A7: ВСЕГО | J7: =J8+J23+J31+J69 -> 2980.1 | K7: =K8+K23+K31+K69 -> 2306.3 | L7: =L8+L23+L31+L69 -> 2430.2
A8: ='Приложение 3'!A58 -> Муниципальная программа "Комплексного развития социальной инфраструктуры Кочуновского сельского поселения Ромодановского муниципального района Республики Мордовия на 2018-2028 года"( с перспективой развития до 2030 года) | B8: 10 | J8: =J16+J9 -> 170 | K8: =K16+K9 -> 64.5 | L8: =L16+L9 -> 57.4
A9: ='Приложение 3'!A59 -> Основное мероприятия "Благоустройство территории" | B9: 10 | C9: 0 | D9: 07 | J9: =J10 -> 20 | K9: =K10 -> 20 | L9: =L10 -> 20
A10: ='Приложение 3'!A60 -> Прочие мероприятия по благоустройству | B10: 10 | C10: 0 | D10: 07 | E10: 43040 | J10: =J11 -> 20 | K10: =K11 -> 20 | L10: =L11 -> 20
A11: =A18 -> Закупка товаров, работ и услуг для обеспечения государственных (муниципальных) нужд | B11: 10 | C11: 0 | D11: 07 | E11: 43040 | F11: 200 | J11: =J12 -> 20 | K11: =K12 -> 20 | L11: =L12 -> 20
A12: =A19 -> Иные закупки товаров, работ и услуг для обеспечения государственных (муниципальных) нужд | B12: 10 | C12: 0 | D12: 07 | E12: 43040 | F12: 240 | J12: =J13 -> 20 | K12: =K13 -> 20 | L12: =L13 -> 20
A13: =A20 -> Жилищно-коммунальное хозяйство | B13: 10 | C13: 0 | D13: 07 | E13: 43040 | F13: 240 | G13: 05 | J13: =J14 -> 20 | K13: =K14 -> 20 | L13: =L14 -> 20
A14: =A21 -> Благоустройство | B14: 10 | C14: 0 | D14: 07 | E14: 43040 | F14: 240 | G14: 05 | H14: 03 | J14: =J15 -> 20 | K14: =K15 -> 20 | L14: =L15 -> 20
A15: =A22 -> Администрация Кочуновского сельского поселения Ромодановского муниципального района Республики Мордовия | B15: 10 | C15: 0 | D15: 07 | E15: 43040 | F15: 240 | G15: 05 | H15: 03 | I15: 913 | J15: ='Приложение 3'!J62 -> 20 | K15: ='Приложение 3'!K62 -> 20 | L15: ='Приложение 3'!L62 -> 20
A16: ='Приложение 3'!A63 -> Основное мероприятия "Освещение территории сельского поселения" | B16: 10 | C16: 0 | D16: 08 | J16: =J17 -> 150 | K16: =K17 -> 44.5 | L16: =L17 -> 37.4
A17: Уличное освещение | B17: 10 | C17: 0 | D17: 08 | E17: 43010 | J17: =J18 -> 150 | K17: =K18 -> 44.5 | L17: =L18 -> 37.4
A18: Закупка товаров, работ и услуг для обеспечения государственных (муниципальных) нужд | B18: 10 | C18: 0 | D18: 08 | E18: 43010 | F18: 200 | J18: =J19 -> 150 | K18: =K19 -> 44.5 | L18: =L19 -> 37.4
A19: Иные закупки товаров, работ и услуг для обеспечения государственных (муниципальных) нужд | B19: 10 | C19: 0 | D19: 08 | E19: 43010 | F19: 240 | J19: =J20 -> 150 | K19: =K20 -> 44.5 | L19: =L20 -> 37.4
A20: Жилищно-коммунальное хозяйство | B20: 10 | C20: 0 | D20: 08 | E20: 43010 | F20: 240 | G20: 05 | J20: =J21 -> 150 | K20: =K21 -> 44.5 | L20: =L21 -> 37.4
A21: Благоустройство | B21: 10 | C21: 0 | D21: 08 | E21: 43010 | F21: 240 | G21: 05 | H21: 03 | J21: =J22 -> 150 | K21: =K22 -> 44.5 | L21: =L22 -> 37.4
A22: Администрация Кочуновского сельского поселения Ромодановского муниципального района Республики Мордовия | B22: 10 | C22: 0 | D22: 08 | E22: 43010 | F22: 240 | G22: 05 | H22: 03 | I22: 913 | J22: ='Приложение 3'!J66 -> 150 | K22: ='Приложение 3'!K66 -> 44.5 | L22: ='Приложение 3'!L66 -> 37.4
A23: ='Приложение 3'!A51 -> Муниципальная программа "Комплексного развития транспортной инфраструктуры Кочуновского сельского поселения Ромодановского муниципального района Республики Мордовия на 2018- 2028 года"(с перспективой развития до 2030 года) | B23: 13 | J23: =J24 -> 469 | K23: =K24 -> 497 | L23: =L24 -> 517
A24: Основное мероприятие "Ремонт и содержание дорог в границах поселения,поддержание дорожного полотна в работоспособном состоянии" | B24: 13 | C24: 0 | D24: 01 | J24: =J25 -> 469 | K24: =K25 -> 497 | L24: =L25 -> 517
A25: ='Приложение 3'!A53 -> Иные межбюджетные трансферты на осуществление полномочий по дорожной деятельности в отношении автомобильных дорог местного значения в границах населенных пунктов поселения и обеспечению безопасности дорожного движения на них, включая создание и обеспечение функционирования парковок (парковочных мест), осуществлению муниципального контроля на автомобильном транспорте, городском наземном электрическом транспорте и в дорожном хозяйстве в границах населенных пунктов поселения, организации дорожного движения, а также осуществлению иных полномочий в области использования автомобильных дорог и осуществления дорожной деятельности в соответствии с законодательством Российской Федерации | B25: 13 | C25: 0 | D25: 01 | E25: 9Д184 | J25: =J26 -> 469 | K25: =K26 -> 497 | L25: =L26 -> 517
A26: Закупка товаров, работ и услуг для обеспечения государственных (муниципальных) нужд | B26: 13 | C26: 0 | D26: 01 | E26: 9Д184 | F26: 200 | J26: =J27 -> 469 | K26: =K27 -> 497 | L26: =L27 -> 517
A27: Иные закупки товаров, работ и услуг для обеспечения государственных (муниципальных) нужд | B27: 13 | C27: 0 | D27: 01 | E27: 9Д184 | F27: 240 | J27: =J28 -> 469 | K27: =K28 -> 497 | L27: =L28 -> 517
A28: Национальная экономика | B28: 13 | C28: 0 | D28: 01 | E28: 9Д184 | F28: 240 | G28: 04 | J28: =J29 -> 469 | K28: =K29 -> 497 | L28: =L29 -> 517
A29: ='Приложение 3'!A50 -> Дорожное хозяйство (дорожные фонды) | B29: 13 | C29: 0 | D29: 01 | E29: 9Д184 | F29: 240 | G29: 04 | H29: 09 | J29: =J30 -> 469 | K29: =K30 -> 497 | L29: =L30 -> 517
A30: Администрация Кочуновского сельского поселения Ромодановского муниципального района Республики Мордовия | B30: 13 | C30: 0 | D30: 01 | E30: 9Д184 | F30: 240 | G30: 04 | H30: 09 | I30: 913 | J30: ='Приложение 3'!J55 -> 469 | K30: ='Приложение 3'!K55 -> 497 | L30: ='Приложение 3'!L55 -> 517
A31: ='Приложение 3'!A10 -> Обеспечение деятельности Администрации Кочуновского сельского поселения Ромодановского муниципального района Республики Мордовия | B31: 65 | J31: =J32+J51 -> 1895.9 | K31: =K32+K51 -> 1273.2 | L31: =L32+L51 -> 1316.8
A32: Высшее должностное лицо | B32: 65 | C32: 1 | J32: =J33+J39+J45 -> 848.5 | K32: =K33+K39 -> 540 | L32: =L33+L39 -> 538.8
A33: Расходы на выплаты по оплате труда высшего должностного лица | B33: 65 | C33: 1 | D33: 00 | E33: 41150 | J33: =J34 -> 748.5 | K33: =K34 -> 500.9 | L33: =L34 -> 458.8
A34: Расходы на выплаты персоналу в целях обеспечения выполнения функций государственными (муниципальными) органами, казенными учреждениями, органами управления государственными внебюджетными фондами | B34: 65 | C34: 1 | D34: 00 | E34: 41150 | F34: 100 | J34: =J35 -> 748.5 | K34: =K35 -> 500.9 | L34: =L35 -> 458.8
A35: Расходы на выплаты персоналу государственных (муниципальных) органов | B35: 65 | C35: 1 | D35: 00 | E35: 41150 | F35: 120 | J35: =J36 -> 748.5 | K35: =K36 -> 500.9 | L35: =L36 -> 458.8
A36: Общегосударственные вопросы | B36: 65 | C36: 1 | D36: 00 | E36: 41150 | F36: 120 | G36: 01 | J36: =J37 -> 748.5 | K36: =K37 -> 500.9 | L36: =L37 -> 458.8
A37: Функционирование высшего должностного лица субъекта Российской Федерации и муниципального образования | B37: 65 | C37: 1 | D37: 00 | E37: 41150 | F37: 120 | G37: 01 | H37: 02 | J37: =J38 -> 748.5 | K37: =K38 -> 500.9 | L37: =L38 -> 458.8
A38: Администрация Кочуновского сельского поселения Ромодановского муниципального района Республики Мордовия | B38: 65 | C38: 1 | D38: 00 | E38: 41150 | F38: 120 | G38: 01 | H38: 02 | I38: 913 | J38: ='Приложение 3'!J14 -> 748.5 | K38: ='Приложение 3'!K14 -> 500.9 | L38: ='Приложение 3'!L14 -> 458.8
A39: ='Приложение 4'!A85 -> Условно утвержденные расходы | B39: 65 | C39: 1 | D39: 00 | E39: 41990 | K39: =K40 -> 39.1 | L39: =L40 -> 80
A40: ='Приложение 4'!A86 -> Иные бюджетные ассигнования | B40: 65 | C40: 1 | D40: 00 | E40: 41990 | F40: 800 | K40: =K41 -> 39.1 | L40: =L41 -> 80
...

Sheet прил 6
C1: Приложение 6
C2: к решению Совета депутатов Кочуновского сельского поселения Ромодановского муниципального района Республики Мордовия "О бюджете Кочуновского сельского поселения Ромодановского муниципального района Республики Мордовия на 2026 год и на плановый период 2027 и 2028 годов"
A3: ИСТОЧНИКИ ВНУТРЕННЕГО ФИНАНСИРОВАНИЯ ДЕФИЦИТА БЮДЖЕТА КОЧУНОВСКОГО СЕЛЬСКОГО ПОСЕЛЕНИЯ РОМОДАНОВСКОГО МУНИЦИПАЛЬНОГО РАЙОНА РЕСПУБЛИКИ МОРДОВИЯ НА 2026 ГОД И НА ПЛАНОВЫЙ ПЕРИОД 2027 и 2028 ГОДОВ
A7: Код | B7: Наименование кода группы, подгруппы, статьи, вида источника финансирования дефицитов бюджетов, кода классификации операций сектора государственного управления, относящихся к источникам финансирования дефицитов бюджетов Российской Федерации | C7: Сумма (тыс. руб.)
C8: 2026 год | D8: 2027 год | E8: 2028 год
A9: 1 | B9: 2 | C9: 3 | D9: 4 | E9: 5
A10: 000 01 00 00 00 00 0000 000 | B10: ИСТОЧНИКИ ВНУТРЕННЕГО ФИНАНСИРОВАНИЯ ДЕФИЦИТОВ БЮДЖЕТОВ | C10: =C14 -> -28.4 | D10: =D14 -> -35.5 | E10: =E14 -> 42.6
A11: 000 01 02 00 00 00 0000 000 | B11: Кредиты кредитных организаций в валюте Российской Федерации | C11: =SUM(C12) -> 0 | D11: =SUM(D12) -> 0 | E11: =SUM(E12) -> 0
A12: 000 01 02 00 00 00 0000 700 | B12: Привлечение кредитов от кредитных организаций в валюте Российской Федерации | C12: =SUM(C13) -> 0 | D12: =SUM(D13) -> 0 | E12: =SUM(E13) -> 0
A13: 000 01 02 00 00 05 0000 710 | B13: Привлечение кредитов от кредитных организаций бюджетами муниципальных районов в валюте Российской Федерации
A14: 000 01 03 00 00 00 0000 000 | B14: Бюджетные кредиты из других бюджетов бюджетной системы Российской Федерации | C14: =C15 -> -28.4 | D14: =D15 -> -35.5 | E14: =E15 -> 42.6
A15: 000 01 03 01 00 00 0000 000 | B15: Бюджетные кредиты из других бюджетов бюджетной системы Российской Федерации в валюте Российской Федерации | C15: =C16 -> -28.4 | D15: =D16 -> -35.5 | E15: =E16 -> 42.6
A16: 000 01 03 01 00 00 0000 800 | B16: Погашение бюджетных кредитов, полученных из других бюджетов бюджетной системы Российской Федерации в валюте Российской Федерации | C16: =SUM(C17) -> -28.4 | D16: =SUM(D17) -> -35.5 | E16: =SUM(E17) -> 42.6
A17: 000 01 03 01 00 10 0000 810 | B17: Погашение бюджетами сельских поселений кредитов из других бюджетов бюджетной системы Российской Федерации в валюте Российской Федерации | C17: -28.4 | D17: -35.5 | E17: 42.6
A18: 000 01 06 00 00 00 0000 000 | B18: Иные источники внутреннего финансирования дефицитов бюджетов | C18: =C19 -> 0 | D18: =D19 -> 0 | E18: =E19 -> 0
A19: 000 01 06 05 00 00 0000 000 | B19: Бюджетные кредиты, предоставленные внутри страны в валюте Российской Федерации | C19: =C20 -> 0 | D19: =D20 -> 0 | E19: =E20 -> 0
A20: 000 01 06 05 02 00 0000 600 | B20: Возврат бюджетных кредитов, предоставленных другим бюджетам бюджетной системы Российской Федерации в валюте Российской Федерации | C20: =C21 -> 0 | D20: =D21 -> 0 | E20: =E21 -> 0
A21: 000 01 06 05 02 05 0000 640 | B21: Возврат бюджетных кредитов, предоставленных другим бюджетам бюджетной системы Российской Федерации из бюджетов муниципальных районов в валюте Российской Федерации | C21: 0 | D21: 0 | E21: 0
A22: 000 01 05 00 00 00 0000 000 | B22: Изменения остатков средств на счетах по учету средств бюджета | C22: 0 | D22: 0 | E22: 0
A23: 000 01 05 02 00 00 0000 500 | B23: Увеличение прочих остатков средств бюджетов | C23: =SUM(C24) -> -3008.5 | D23: =SUM(D24) -> -2341.8 | E23: =SUM(E24) -> -2472.8
A24: 000 01 05 02 01 00 0000 510 | B24: Увеличение прочих остатков денежных средств бюджетов | C24: =SUM(C25) -> -3008.5 | D24: =SUM(D25) -> -2341.8 | E24: =SUM(E25) -> -2472.8
A25: 000 01 05 02 01 10 0000 510 | B25: Увеличение прочих остатков денежных средств бюджетов сельских поселений | C25: -3008.5 | D25: -2341.8 | E25: -2472.8
A26: 000 01 05 02 00 00 0000 600 | B26: Уменьшение прочих остатков средств бюджетов | C26: =SUM(C27) -> 3008.5 | D26: =SUM(D27) -> 2341.8 | E26: =SUM(E27) -> 2472.8
A27: 000 01 05 02 01 00 0000 610 | B27: Уменьшение прочих остатков денежных средств бюджетов | C27: =SUM(C28) -> 3008.5 | D27: =SUM(D28) -> 2341.8 | E27: =SUM(E28) -> 2472.8
A28: 000 01 05 02 01 05 0000 610 | B28: Уменьшение прочих остатков денежных средств бюджетов муниципальных районов | C28: 3008.5 | D28: 2341.8 | E28: 2472.8
A29: 000 01 00 00 00 00 0000 000 | B29: Итого источников внутреннего финансирования дефицита бюджета Кочуновского сельского поселения Ромодановского муниципального района Республики Мордовия | C29: 0 | D29: 0 | E29: 0
B30: собственные доходы | C30: 602.5 | D30: 616.9 | E30: 631.9

Sheet прил7
D2: Приложение 7
D3: к решению Совета депутатов Кочуновского сельского поселения Ромодановского муниципального района Республики Мордовия "О бюджете Кочуновского сельского поселения Ромодановского муниципального района Республики Мордовия на 2026 год и на плановый период 2027 и 2028 годов"
A4: ПРОГРАММА МУНИЦИПАЛЬНЫХ ВНУТРЕННИХ ЗАИМСТВОВАНИЙ КОЧУНОВСКОГО СЕЛЬСКОГО ПОСЕЛЕНИЯ РОМОДАНОВСКОГО МУНИЦИПАЛЬНОГО РАЙОНА РЕСПУБЛИКИ МОРДОВИЯ НА 2026 ГОД И НА ПЛАНОВЫЙ ПЕРИОД 2027 И 2028 ГОДОВ
A8: № п/п | B8: ВИДЫ ЗАИМСТВОВАНИЙ | C8: Сумма (тыс. рублей)
C9: 2026 год | D9: 2027 год | E9: 2028 год
A10: 1 | B10: 2 | C10: 3 | D10: 4 | E10: 5
A11: ВСЕГО
A12: I | B12: Кредиты кредитных организаций в валюте Российской Федерации | C12: =C14 -> 0 | D12: =D14 -> 0 | E12: =E14 -> 0
B13: в том числе
A14: 1 | B14: Объем привлечения
A15: 2 | B15: Объем средств, направляемых на погашение основной суммы долга
A16: 11 | B16: Бюджетные кредиты от других бюджетов бюджетной системы Российской Федерации | C16: =C19 -> -28.4 | D16: =D19 -> -35.5 | E16: =E19 -> 42.6
B17: в том числе
A18: 1 | B18: Объем привлечения
A19: 2 | B19: Объем средств, направляемых на погашение основной суммы долга | C19: ='прил 6'!C17 -> -28.4 | D19: ='прил 6'!D17 -> -35.5 | E19: ='прил 6'!E17 -> 42.6
B20: ВСЕГО | C20: =C14+C19 -> -28.4 | D20: =D14+D19 -> -35.5 | E20: =E14+E19 -> 42.6
