Workbook

Sheet Приложение 1
C1: Приложение 1 к решению Совета депутатов Константиновского сельского поселения Ромодановского муниципального района Республики Мордовия «О внесении изменений в решение Совета депутатов Константиновского сельского поселения Ромодановского муниципальногорайона Республики Мордовия от 25 декабря 2025 г № 2 «О бюджете Константиновского сельского поселения Ромодановского муниципального района Республики Мордовия на 2026 год и на плановый период 2027 и 2028 годов» Приложение 2 к решению Совета депутатов Константиновского сельского поселения Ромодановского муниципального района Республики Мордовия «О бюджете Константиновского сельского поселения Ромодановского муниципального района Республики Мордовия на 2026 год и на плановый период 2027 и 2028 годов»
A6: ОБЪЕМ БЕЗВОЗМЕЗДНЫХ ПОСТУПЛЕНИЙ В БЮДЖЕТ КОНСТАНТИНОВСКОГО СЕЛЬСКОГО ПОСЕЛЕНИЯ РОМОДАНОВСКОГО МУНИЦИПАЛЬНОГО РАЙОНА РЕСПУБЛИКИ МОРДОВИЯ НА 2026 ГОД И НА ПЛАНОВЫЙ ПЕРИОД 2027 И 2028 ГОДОВ
E7: (тыс. рублей)
A8: Код | B8: Наименование | C8: Сумма
C9: 2026 год | D9: 2027 год | E9: 2028 год
A10: 1 | B10: 2 | C10: 3 | D10: 4 | E10: 5
A11: 2 00 00000 00 0000 000 | B11: БЕЗВОЗМЕЗДНЫЕ ПОСТУПЛЕНИЯ | C11: =C12 -> 3592.5 | D11: =D12 -> 1161.9 | E11: =E12 -> 1257.8
A12: 2 02 00000 00 0000 000 | B12: Безвозмездные поступления от других бюджетов бюджетной системы Российской Федерации | C12: =C13+C21+C26+C18 -> 3592.5 | D12: =D13+D21+D26 -> 1161.9 | E12: =E13+E21+E26 -> 1257.8
A13: 2 02 10000 00 0000 150 | B13: Дотации бюджетам бюджетной системы Российской Федерации | C13: =C14+C16 -> 944.1 | D13: =D14 -> 622.6 | E13: =E14 -> 640
A14: 2 02 15001 00 0000 150 | B14: Дотации на выравнивание бюджетной обеспеченности | C14: =C15 -> 760.1 | D14: =D15 -> 622.6 | E14: =E15 -> 640
A15: 2 02 15001 10 0000 150 | B15: Дотации бюджетам сельских поселений на выравнивание бюджетной обеспеченности из бюджета субъекта Российской Федерации | C15: 760.1 | D15: 622.6 | E15: 640
A16: 2 02 15002 00 0000 150 | B16: Датация бюджетам на поддержку мер по обеспечению сбалансированности бюджетов | C16: =C17 -> 184
A17: 2 02 15002 10 0000 150 | B17: Дотации бюджетамсельских поселений на поддержку мер по обеспечению сбалансированности бюджетов | C17: 184
A18: 2 02 20000 00 0000 150 | B18: Субсидии бюджетам бюджетной системы Российской Федерации (межбюджетные субсидии) | C18: =C19 -> 664.4
A19: 2 02 29999 00 0000 150 | B19: Прочие субсидии | C19: =C20 -> 664.4
A20: 2 02 29999 10 0000 150 | B20: Прочие субсидии бюджетам сельских поселений | C20: 664.4
A21: 2 02 30000 00 0000 150 | B21: Субвенции бюджетам бюджетной системы Российской Федерации | C21: =C22+C24 -> 217.9 | D21: =D22+D24 -> 244.3 | E21: =E22+E24 -> 311.8
A22: 2 02 30024 00 0000 150 | B22: Субвенции местным бюджетам на выполнение передаваемых полномочий субъектов Российской Федерации | C22: =C23 -> 0.5 | D22: =D23 -> 0.5 | E22: =E23 -> 0.6
A23: 2 02 30024 10 0000 150 | B23: Субвенции бюджетам сельских поселений на выполнение передаваемых полномочий субъектов Российской Федерации | C23: 0.5 | D23: 0.5 | E23: 0.6
A24: 2 02 35118 00 0000 150 | B24: Субвенции бюджетам на осуществление первичного воинского учета органами местного самоуправления поселений,муниципальных и городских округов | C24: =C25 -> 217.4 | D24: =D25 -> 243.8 | E24: =E25 -> 311.2
A25: 2 02 35118 10 0000 150 | B25: Субвенции бюджетам сельских поселений на осуществление первичного воинского учета органами местного самоуправления поселений,муниципальных и городских округов | C25: 217.4 | D25: 243.8 | E25: 311.2
A26: 2 02 40000 00 0000 150 | B26: Иные межбюджетные трансферты | C26: =C27+C29 -> 1766.1 | D26: =D27 -> 295 | E26: =E27 -> 306
A27: 2 02 40014 00 0000 150 | B27: Межбюджетные трансферты, передаваемые бюджетам муниципальных образований на осуществление части полномочий по решению вопросов местного значения в соответствии с заключенными соглашениями | C27: =C28 -> 642.1 | D27: =D28 -> 295 | E27: =E28 -> 306
A28: 2 02 40014 10 0000 150 | B28: Межбюджетные трансферты, передаваемые бюджетам сельских поселений из бюджетов муниципальных районов на осуществление части полномочий по решению вопросов местного значения в соответствии с заключенными соглашениями | C28: 642.1 | D28: 295 | E28: 306
A29: 2 02 49999 00 0000 150 | B29: Прочие межбюджетные трансферты, передаваемые бюджетам | C29: =C30 -> 1124
A30: 2 02 49999 10 0000 150 | B30: Прочие межбюджетные трансферты, передаваемые бюджетам сельских поселений | C30: 1124

Sheet Приложение2
I1: Приложение 2 к решению Совета депутатов Константиновского сельского поселения Ромодановского муниципального района Республики Мордовия «О внесении изменений в решение Совета депутатов Константиновского сельского поселения Ромодановского муниципального района Республики Мордовия от 25 декабря 2025 г № 2 «О бюджете Константиновского сельского поселения Ромодановского муниципального района Республики Мордовия на 2026 год и на плановый период 2027 и 2028 годов» Приложение 3 к решению Совета депутатов Константиновского сельского поселения Ромодановского муниципального района Республики Мордовия «О бюджете Константиновского сельского поселения Ромодановского муниципального района Республики Мордовия на 2026 год и на плановый период 2027 и 2028 годов»
A2: ВЕДОМСТВЕННАЯ СТРУКТУРА РАСХОДОВ БЮДЖЕТА КОНСТАНТИНОВСКОГО СЕЛЬСКОГО ПОСЕЛЕНИЯ РОМОДАНОВСКОГО МУНИЦИПАЛЬНОГО РАЙОНА РЕСПУБЛИКИ МОРДОВИЯ НА 2026 ГОД И НА ПЛАНОВЫЙ ПЕРИОД 2027 И 2028 ГОДОВ
I3: (тыс. рублей)
A4: Наименование | B4: Адм | C4: Рз | D4: Прз | E4: Цср | I4: Вр | J4: Сумма
J5: 2026 год | K5: 2027 год | L5: 2028 год
A6: 1 | B6: 2 | C6: 3 | D6: 4 | E6: 5 | F6: 6 | G6: 7 | H6: 8 | I6: 9 | J6: 10 | K6: 11 | L6: 12
A7: Администрация Константиновского сельского поселения Ромодановского муниципального района Республики Мордовия | B7: 914 | J7: =J8+J43+J52+J59+J86+J100+J93 -> 4588.8 | K7: =K8+K43+K52+K59+K86+K100+K93 -> 1806.1 | L7: =L8+L43+L52+L59+L86+L93+L100 -> 1914.8
A8: Общегосударственные вопросы | B8: 914 | C8: 01 | J8: =J9+J18+J37 -> 1784 | K8: =K9+K18+K37 -> 1090 | L8: =L9+L18+L37 -> 1140.8
A9: Функционирование высшего должностного лица субъекта Российской Федерации и муниципального образования | B9: 914 | C9: 01 | D9: 02 | J9: =J10 -> 722.5 | K9: =K10 -> 538.9 | L9: =L10 -> 549.9
A10: Обеспечение деятельности Администрации Константиновского сельского поселения Ромодановского муниципального района Республики Мордовия | B10: 914 | C10: 01 | D10: 02 | E10: 65 | J10: =J11 -> 722.5 | K10: =K11 -> 538.9 | L10: =L11 -> 549.9
A11: Высшее должностное лицо | B11: 914 | C11: 01 | D11: 02 | E11: 65 | F11: 1 | J11: =J12+J15 -> 722.5 | K11: =K12 -> 538.9 | L11: =L12 -> 549.9
A12: Расходы на выплаты по оплате труда высшего должностного лица | B12: 914 | C12: 01 | D12: 02 | E12: 65 | F12: 1 | G12: 00 | H12: 41150 | J12: =J13 -> 620.5 | K12: =K13 -> 538.9 | L12: =L13 -> 549.9
A13: Расходы на выплаты персоналу в целях обеспечения выполнения функций государственными (муниципальными) органами, казенными учреждениями, органами управления государственными внебюджетными фондами | B13: 914 | C13: 01 | D13: 02 | E13: 65 | F13: 1 | G13: 00 | H13: 41150 | I13: 100 | J13: =J14 -> 620.5 | K13: =K14 -> 538.9 | L13: =L14 -> 549.9
A14: Расходы на выплаты персоналу государственных (муниципальных) органов | B14: 914 | C14: 01 | D14: 02 | E14: 65 | F14: 1 | G14: 00 | H14: 41150 | I14: 120 | J14: 620.5 | K14: 538.9 | L14: 549.9
A15: ='[1]Приложение 3'!$A$15 -> Субсидии на со финансирование расходных обязательств по финансовому обеспечению деятельности органов местного самоуправления и муниципальных учреждений | B15: 914 | C15: 01 | D15: 2 | E15: 65 | F15: 1 | G15: 00 | H15: 44205 | J15: =J16 -> 102
A16: =A13 -> Расходы на выплаты персоналу в целях обеспечения выполнения функций государственными (муниципальными) органами, казенными учреждениями, органами управления государственными внебюджетными фондами | B16: 914 | C16: 01 | D16: 2 | E16: 65 | F16: 1 | G16: 00 | H16: 44205 | I16: 100 | J16: =J17 -> 102
A17: =A14 -> Расходы на выплаты персоналу государственных (муниципальных) органов | B17: 914 | C17: 01 | D17: 2 | E17: 65 | F17: 1 | G17: 00 | H17: 44205 | I17: 120 | J17: 102
A18: Функционирование Правительства Российской Федерации, высших исполнительных органов государственной власти субъектов Российской Федерации, местных администраций | B18: 914 | C18: 01 | D18: 04 | J18: =J19+J32 -> 1056.5 | K18: =K19+K32 -> 546.1 | L18: =L19+L32 -> 585.9
A19: =A10 -> Обеспечение деятельности Администрации Константиновского сельского поселения Ромодановского муниципального района Республики Мордовия | B19: 914 | C19: 01 | D19: 04 | E19: 65 | J19: =J20 -> 1056 | K19: =K20 -> 545.6 | L19: =L20 -> 585.3
A20: Расходы в рамках обеспечения деятельности Администрации Константиновского сельского поселения | B20: 914 | C20: 01 | D20: 04 | E20: 65 | F20: 2 | J20: =J21+J24+J29 -> 1056 | K20: =K24+K21 -> 545.6 | L20: =L21+L24 -> 585.3
A21: Расходы на выплаты по оплате труда работников органов местного самоуправления | B21: 914 | C21: 01 | D21: 04 | E21: 65 | F21: 2 | G21: 00 | H21: 41110 | J21: =J22 -> 434 | K21: =K22 -> 406.7 | L21: =L22 -> 450
A22: Расходы на выплаты персоналу в целях обеспечения выполнения функций государственными (муниципальными) органами, казенными учреждениями, органами управления государственными внебюджетными фондами | B22: 914 | C22: 01 | D22: 04 | E22: 65 | F22: 2 | G22: 00 | H22: 41110 | I22: 100 | J22: =J23 -> 434 | K22: =K23 -> 406.7 | L22: =L23 -> 450
A23: Расходы на выплаты персоналу государственных (муниципальных) органов | B23: 914 | C23: 01 | D23: 04 | E23: 65 | F23: 2 | G23: 00 | H23: 41110 | I23: 120 | J23: 434 | K23: 406.7 | L23: 450
A24: Расходы на обеспечение выполнения функций органов местного самоуправления | B24: 914 | C24: 01 | D24: 04 | E24: 65 | F24: 2 | G24: 00 | H24: 41120 | J24: =+J25+J27 -> 522 | K24: =+K25+K27 -> 138.9 | L24: =L25+L27 -> 135.3
A25: Закупка товаров, работ и услуг для обеспечения государственных (муниципальных) нужд | B25: 914 | C25: 01 | D25: 04 | E25: 65 | F25: 2 | G25: 00 | H25: 41120 | I25: 200 | J25: =J26 -> 520 | K25: =K26 -> 136.9 | L25: =L26 -> 133.3
A26: Иные закупки товаров, работ и услуг для обеспечения государственных (муниципальных) нужд | B26: 914 | C26: 01 | D26: 04 | E26: 65 | F26: 2 | G26: 00 | H26: 41120 | I26: 240 | J26: 520 | K26: 136.9 | L26: 133.3
A27: Иные бюджетные ассигнования | B27: 914 | C27: 01 | D27: 04 | E27: 65 | F27: 2 | G27: 00 | H27: 41120 | I27: 800 | J27: =J28 -> 2 | K27: =K28 -> 2 | L27: =L28 -> 2
A28: Уплата налогов, сборов и иных платежей | B28: 914 | C28: 01 | D28: 04 | E28: 65 | F28: 2 | G28: 00 | H28: 41120 | I28: 850 | J28: 2 | K28: 2 | L28: 2
A29: =A15 -> Субсидии на со финансирование расходных обязательств по финансовому обеспечению деятельности органов местного самоуправления и муниципальных учреждений | B29: 914 | C29: 01 | D29: 04 | E29: 65 | F29: 2 | G29: 00 | H29: 44205 | J29: =J30 -> 100
A30: =A16 -> Расходы на выплаты персоналу в целях обеспечения выполнения функций государственными (муниципальными) органами, казенными учреждениями, органами управления государственными внебюджетными фондами | B30: 914 | C30: 01 | D30: 04 | E30: 65 | F30: 2 | G30: 00 | H30: 44205 | I30: 100 | J30: =J31 -> 100
A31: =A17 -> Расходы на выплаты персоналу государственных (муниципальных) органов | B31: 914 | C31: 01 | D31: 04 | E31: 65 | F31: 2 | G31: 00 | H31: 44205 | I31: 120 | J31: 100
A32: Непрограммные расходы главных распорядителей средств бюджетаКонстантиновского сельского поселения Ромодановского муниципального района Республики Мордовия | B32: 914 | C32: 01 | D32: 04 | E32: 89 | J32: =J33 -> 0.5 | K32: =K33 -> 0.5 | L32: =L33 -> 0.6
A33: Непрограммные расходы в рамках обеспечения деятельности главных распорядителей средств бюджетаКонстантиновского сельского поселения Ромодановского муниципального района Республики Мордовия | B33: 914 | C33: 01 | D33: 04 | E33: 89 | F33: 1 | J33: =J34 -> 0.5 | K33: =K34 -> 0.5 | L33: =L34 -> 0.6
A34: Осуществление государственных полномочий Республики Мордовия по определению перечня должностных лиц, уполномоченных составлять протоколы об административных правонарушениях, предусмотренных Законом Республики Мордовия от 15 июня 2015 года № 38-З "Об административной ответственности на территории Республики Мордовия" | B34: 914 | C34: 01 | D34: 04 | E34: 89 | F34: 1 | G34: 00 | H34: 77150 | J34: =J35 -> 0.5 | K34: =K35 -> 0.5 | L34: =L35 -> 0.6
A35: Закупка товаров, работ и услуг для обеспечения государственных (муниципальных) нужд | B35: 914 | C35: 01 | D35: 04 | E35: 89 | F35: 1 | G35: 00 | H35: 77150 | I35: 200 | J35: =J36 -> 0.5 | K35: =K36 -> 0.5 | L35: =L36 -> 0.6
A36: Иные закупки товаров, работ и услуг для обеспечения государственных (муниципальных) нужд | B36: 914 | C36: 01 | D36: 04 | E36: 89 | F36: 1 | G36: 00 | H36: 77150 | I36: 240 | J36: 0.5 | K36: 0.5 | L36: 0.6
A37: Резервные фонды | B37: 914 | C37: 01 | D37: 11 | J37: =J38 -> 5 | K37: =K38 -> 5 | L37: =L38 -> 5
A38: Непрограммные расходы главных распорядителей средств бюджета Константиновского сельского поселения Ромодановского муниципального района Республики Мордовия | B38: 914 | C38: 01 | D38: 11 | E38: 89 | J38: =J39 -> 5 | K38: =K39 -> 5 | L38: =L39 -> 5
A39: Непрограммные расходы в рамках обеспечения деятельности главных распорядителей средств бюджета Константиновского сельского поселения Ромодановского муниципального района Республики Мордовия | B39: 914 | C39: 01 | D39: 11 | E39: 89 | F39: 1 | J39: =J40 -> 5 | K39: =K40 -> 5 | L39: =L40 -> 5
A40: Резервный фонд администрации Константиновского сельского поселения Ромодановского муниципального района Республики Мордовия | B40: 914 | C40: 01 | D40: 11 | E40: 89 | F40: 1 | G40: 00 | H40: 41180 | J40: =J42 -> 5 | K40: =K42 -> 5 | L40: =L41 -> 5
...

Sheet Приложение 3
H1: Приложение 3 к решению Совета депутатов Константиновского сельского поселения Ромодановского муниципального района Республики Мордовия «О внесении изменений в решение Совета депутатов Константиновского сельского поселения Ромодановского муниципального района Республики Мордовия от 25 декабря 2025 г № 2 «О бюджете Константиновского сельского поселения Ромодановского муниципального района Республики Мордовия на 2026 год и на плановый период 2027 и 2028 годов» Приложение 4 к решению Совета депутатов Константиновского сельского поселения Ромодановского муниципального района Республики Мордовия «О бюджете Константиновского сельского поселения Ромодановского муниципального района Республики Мордовия на 2026 год и на плановый период 2027 и 2028 годов»
A2: РАСПРЕДЕЛЕНИЕ БЮДЖЕТНЫХ АССИГНОВАНИЙ БЮДЖЕТА КОНСТАНТИНОВСКОГО СЕЛЬСКОГО ПОСЕЛЕНИЯ РОМОДАНОВСКОГО МУНИЦИПАЛЬНОГО РАЙОНА РЕСПУБЛИКИ МОРДОВИЯ ПО РАЗДЕЛАМ, ПОДРАЗДЕЛАМ, ЦЕЛЕВЫМ СТАТЬЯМ (МУНИЦИПАЛЬНЫМ ПРОГРАММАМ И НЕПРОГРАММНЫМ НАПРАВЛЕНИЯМ ДЕЯТЕЛЬНОСТИ), ГРУППАМ И ПОДГРУППАМ ВИДОВ РАСХОДОВ КЛАССИФИКАЦИИ РАСХОДОВ БЮДЖЕТОВ НА 2026 ГОД И НА ПЛАНОВЫЙ ПЕРИОД 2027 И 2028 ГОДОВ
H3: (тыс. рублей)
A4: Наименование | B4: Рз | C4: Прз | D4: Цср | H4: Вр | I4: Сумма
I5: 2026 год | J5: 2027 год | K5: 2028 год
A6: ВСЕГО | B6: 2 | C6: 3 | D6: 4 | E6: 5 | F6: 6 | G6: 7 | H6: 8 | I6: 9 | J6: 10 | K6: 11
A7: Администрация Константиновского сельского поселения Ромодановского муниципального района Республики Мордовия | I7: =I8+I43+I52+I59+I86+I93 -> 4588.8 | J7: =J8+J43+J52+J59+J86+J100+J93 -> 1806.1 | K7: =K8+K43+K52+K59+K86+K100+K93 -> 1914.8
A8: Общегосударственные вопросы | B8: 01 | I8: =I9+I18+I37 -> 1784 | J8: =J9+J18+J37 -> 1090 | K8: =K9+K18+K37 -> 1140.8
A9: Функционирование высшего должностного лица субъекта Российской Федерации и муниципального образования | B9: 01 | C9: 02 | I9: =I10 -> 722.5 | J9: =J10 -> 538.9 | K9: =K10 -> 549.9
A10: =Приложение2!A10 -> Обеспечение деятельности Администрации Константиновского сельского поселения Ромодановского муниципального района Республики Мордовия | B10: 01 | C10: 02 | D10: 65 | I10: =I11 -> 722.5 | J10: =J11 -> 538.9 | K10: =K11 -> 549.9
A11: Высшее должностное лицо | B11: 01 | C11: 02 | D11: 65 | E11: 1 | I11: =I12+I15 -> 722.5 | J11: =J12 -> 538.9 | K11: =K12 -> 549.9
A12: Расходы на выплаты по оплате труда высшего должностного лица | B12: 01 | C12: 02 | D12: 65 | E12: 1 | F12: 00 | G12: 41150 | I12: =I13 -> 620.5 | J12: =J13 -> 538.9 | K12: =K13 -> 549.9
A13: Расходы на выплаты персоналу в целях обеспечения выполнения функций государственными (муниципальными) органами, казенными учреждениями, органами управления государственными внебюджетными фондами | B13: 01 | C13: 02 | D13: 65 | E13: 1 | F13: 00 | G13: 41150 | H13: 100 | I13: =I14 -> 620.5 | J13: =J14 -> 538.9 | K13: =K14 -> 549.9
A14: Расходы на выплаты персоналу государственных (муниципальных) органов | B14: 01 | C14: 02 | D14: 65 | E14: 1 | F14: 00 | G14: 41150 | H14: 120 | I14: =Приложение2!J14 -> 620.5 | J14: =Приложение2!K14 -> 538.9 | K14: =Приложение2!L12 -> 549.9
A15: =Приложение2!A15 -> Субсидии на со финансирование расходных обязательств по финансовому обеспечению деятельности органов местного самоуправления и муниципальных учреждений | B15: 01 | C15: 02 | D15: 65 | E15: 1 | F15: 00 | G15: 44205 | I15: =I16 -> 102
A16: =Приложение2!A13 -> Расходы на выплаты персоналу в целях обеспечения выполнения функций государственными (муниципальными) органами, казенными учреждениями, органами управления государственными внебюджетными фондами | B16: 01 | C16: 02 | D16: 65 | E16: 1 | F16: 00 | G16: 44205 | H16: 100 | I16: =I17 -> 102
A17: =Приложение2!A17 -> Расходы на выплаты персоналу государственных (муниципальных) органов | B17: 01 | C17: 02 | D17: 65 | E17: 1 | F17: 00 | G17: 44205 | H17: 120 | I17: =Приложение2!J17 -> 102
A18: =Приложение2!A18 -> Функционирование Правительства Российской Федерации, высших исполнительных органов государственной власти субъектов Российской Федерации, местных администраций | B18: 01 | C18: 04 | I18: =I19+I32 -> 1056.5 | J18: =J19+J32 -> 546.1 | K18: =K19+K32 -> 585.9
A19: =Приложение2!A19 -> Обеспечение деятельности Администрации Константиновского сельского поселения Ромодановского муниципального района Республики Мордовия | B19: 01 | C19: 04 | D19: 65 | I19: =I20 -> 1056 | J19: =J20 -> 545.6 | K19: =K20 -> 585.3
A20: =Приложение2!A20 -> Расходы в рамках обеспечения деятельности Администрации Константиновского сельского поселения | B20: 01 | C20: 04 | D20: 65 | E20: 2 | I20: =I21+I24+I29 -> 1056 | J20: =J24+J21 -> 545.6 | K20: =K24+K21 -> 585.3
A21: =Приложение2!A21 -> Расходы на выплаты по оплате труда работников органов местного самоуправления | B21: 01 | C21: 04 | D21: 65 | E21: 2 | F21: 00 | G21: 41100 | I21: =I22 -> 434 | J21: =J22 -> 406.7 | K21: =K22 -> 450
A22: =Приложение2!A22 -> Расходы на выплаты персоналу в целях обеспечения выполнения функций государственными (муниципальными) органами, казенными учреждениями, органами управления государственными внебюджетными фондами | B22: 01 | C22: 04 | D22: 65 | E22: 2 | F22: 00 | G22: 41100 | H22: 100 | I22: =I23 -> 434 | J22: =J23 -> 406.7 | K22: =K23 -> 450
A23: =Приложение2!A23 -> Расходы на выплаты персоналу государственных (муниципальных) органов | B23: 01 | C23: 04 | D23: 65 | E23: 2 | F23: 00 | G23: 41100 | H23: 120 | I23: =Приложение2!J23 -> 434 | J23: =Приложение2!K23 -> 406.7 | K23: =Приложение2!L23 -> 450
A24: =Приложение2!A24 -> Расходы на обеспечение выполнения функций органов местного самоуправления | B24: 01 | C24: 04 | D24: 65 | E24: 2 | F24: 00 | G24: 41120 | I24: =+I25+I27 -> 522 | J24: =J25+J27 -> 138.9 | K24: =+K25+K27 -> 135.3
A25: Закупка товаров, работ и услуг для обеспечения государственных (муниципальных) нужд | B25: 01 | C25: 04 | D25: 65 | E25: 2 | F25: 00 | G25: 41120 | H25: 200 | I25: =I26 -> 520 | J25: =J26 -> 136.9 | K25: =K26 -> 133.3
A26: Иные закупки товаров, работ и услуг для обеспечения государственных (муниципальных) нужд | B26: 01 | C26: 04 | D26: 65 | E26: 2 | F26: 00 | G26: 41120 | H26: 240 | I26: =Приложение2!J26 -> 520 | J26: =Приложение2!K26 -> 136.9 | K26: =Приложение2!L26 -> 133.3
A27: Иные бюджетные ассигнования | B27: 01 | C27: 04 | D27: 65 | E27: 2 | F27: 00 | G27: 41120 | H27: 800 | I27: =I28 -> 2 | J27: =J28 -> 2 | K27: =K28 -> 2
A28: Уплата налогов, сборов и иных платежей | B28: 01 | C28: 04 | D28: 65 | E28: 2 | F28: 00 | G28: 41120 | H28: 850 | I28: =Приложение2!J28 -> 2 | J28: =Приложение2!K28 -> 2 | K28: =Приложение2!L28 -> 2
A29: =Приложение2!A15 -> Субсидии на со финансирование расходных обязательств по финансовому обеспечению деятельности органов местного самоуправления и муниципальных учреждений | B29: 01 | C29: 04 | D29: 65 | E29: 2 | F29: 00 | G29: 44205 | I29: =I30 -> 100
A30: =Приложение2!A16 -> Расходы на выплаты персоналу в целях обеспечения выполнения функций государственными (муниципальными) органами, казенными учреждениями, органами управления государственными внебюджетными фондами | B30: 01 | C30: 04 | D30: 65 | E30: 2 | F30: 00 | G30: 44205 | H30: 100 | I30: =I31 -> 100
A31: =Приложение2!A17 -> Расходы на выплаты персоналу государственных (муниципальных) органов | B31: 01 | C31: 04 | D31: 65 | E31: 2 | F31: 00 | G31: 44205 | H31: 120 | I31: =Приложение2!J31 -> 100
A32: Непрограммные расходы главных распорядителей средств бюджета Константиновского сельского поселения Ромодановского муниципального района Республики Мордовия | B32: 01 | C32: 04 | D32: 89 | I32: =I33 -> 0.5 | J32: =J33 -> 0.5 | K32: =K33 -> 0.6
A33: Непрограммные расходы в рамках обеспечения деятельности главных распорядителей средств бюджета Константиновского сельского поселения Ромодановского муниципального района Республики Мордовия | B33: 01 | C33: 04 | D33: 89 | E33: 1 | I33: =I34 -> 0.5 | J33: =J34 -> 0.5 | K33: =K34 -> 0.6
A34: Осуществление государственных полномочий Республики Мордовия по определению перечня должностных лиц, уполномоченных составлять протоколы об административных правонарушениях, предусмотренных Законом Республики Мордовия от 15 июня 2015 года № 38-З "Об административной ответственности на территории Республики Мордовия" | B34: 01 | C34: 04 | D34: 89 | E34: 1 | F34: 00 | G34: 77150 | I34: =I35 -> 0.5 | J34: =J35 -> 0.5 | K34: =K35 -> 0.6
A35: Закупка товаров, работ и услуг для обеспечения государственных (муниципальных) нужд | B35: 01 | C35: 04 | D35: 89 | E35: 1 | F35: 00 | G35: 77150 | H35: 200 | I35: =I36 -> 0.5 | J35: =J36 -> 0.5 | K35: =K36 -> 0.6
A36: Иные закупки товаров, работ и услуг для обеспечения государственных (муниципальных) нужд | B36: 01 | C36: 04 | D36: 89 | E36: 1 | F36: 00 | G36: 77150 | H36: 240 | I36: =Приложение2!J36 -> 0.5 | J36: =Приложение2!K36 -> 0.5 | K36: =Приложение2!L36 -> 0.6
A37: Резервные фонды | B37: 01 | C37: 11 | I37: =I38 -> 5 | J37: =J38 -> 5 | K37: =K38 -> 5
A38: Непрограммные расходы главных распорядителей средств бюджета Константиновского сельского поселения Ромодановского муниципального района Республики Мордовия | B38: 01 | C38: 11 | D38: 89 | I38: =I39 -> 5 | J38: =J39 -> 5 | K38: =K39 -> 5
A39: Непрограммные расходы в рамках обеспечения деятельности главных распорядителей средств бюджета Константиновского сельского поселения Ромодановского муниципального района Республики Мордовия | B39: 01 | C39: 11 | D39: 89 | E39: 1 | I39: =I40 -> 5 | J39: =J40 -> 5 | K39: =K40 -> 5
A40: =Приложение2!A40 -> Резервный фонд администрации Константиновского сельского поселения Ромодановского муниципального района Республики Мордовия | B40: 01 | C40: 11 | D40: 89 | E40: 1 | F40: 00 | G40: 41180 | I40: =I42 -> 5 | J40: =J42 -> 5 | K40: =K42 -> 5
...

Sheet Приложение 4
I1: Приложение 4 к решению Совета депутатов Константиновского сельского поселения Ромодановского муниципального района Республики Мордовия «О внесении изменений в решение Совета депутатов Константиновского сельского поселения Ромодановского муниципальногорайона Республики Мордовияот 25декабря 2025 г № 2 «О бюджете Константиновского сельского поселения Ромодановского муниципального района Республике Мордовия на 2026 год и на плановый период 2027 и 2028 годов» Приложение 5 к решению Совета депутатов Константиновского сельского поселения Ромодановского муниципального района Республики Мордовия «О бюджете Константиновского сельского поселения Ромодановского муниципального района Республики Мордовия на 2026 год и на плановый период 2027 и 2028 годов»
A2: РАСПРЕДЕЛЕНИЕ БЮДЖЕТНЫХ АССИГНОВАНИЙ БЮДЖЕТА КОНСТАНТИНОВСКОГО СЕЛЬСКОГО ПОСЕЛЕНИЯ РОМОДАНОВСКОГО МУНИЦИПАЛЬНОГО РАЙОНА РЕСПУБЛИКИ МОРДОВИЯ ПО ЦЕЛЕВЫМ СТАТЬЯМ (МУНИЦИПАЛЬНЫМ ПРОГРАММАМ И НЕПРОГРАММНЫМ НАПРАВЛЕНИЯМ ДЕЯТЕЛЬНОСТИ), ГРУППАМ И ПОДГРУППАМ ВИДОВ РАСХОДОВ, РАЗДЕЛАМ И ПОДРАЗДЕЛАМ КЛАССИФИКАЦИИ РАСХОДОВ БЮДЖЕТОВ НА 2026 ГОД И НА ПЛАНОВЫЙ ПЕРИОД 2027 И 2028 ГОДОВ
I3: (тыс. рублей)
A4: Наименование | B4: Цср | F4: ВР | G4: Рз | H4: Прз | I4: Адм | J4: Сумма
J5: 2026 год | K5: 2027 год | L5: 2028 год
A6: 1 | B6: 2 | C6: 3 | D6: 4 | E6: 5 | F6: 6 | G6: 7 | H6: 8 | I6: 9 | J6: 10 | K6: 11 | L6: 12
A7: ВСЕГО | J7: =J8+J16+J33+J77+J24 -> 4588.8 | K7: =K8+K16+K33+K77 -> 1806.1 | L7: =L8+L16+L33+L77 -> 1914.8
A8: ='Приложение 3'!A67 -> Муниципальная программа "Комплексного развития социальной инфраструктуры Константиновского сельского поселения Ромодановского муниципального района Республики Мордовия на 2018-2030 года" | B8: 10 | J8: =J9 -> 0 | K8: =K9 -> 89.2 | L8: =L9 -> 35.7
A9: Основное мероприятия "Благоустройство территории"" | B9: 10 | C9: 0 | D9: 07 | J9: =J10 -> 0 | K9: =K10 -> 89.2 | L9: =L10 -> 35.7
A10: =Приложение2!A73 -> Подпрограмма "Благоустпройство сельских территорий" | B10: 10 | C10: 0 | D10: 07 | E10: 43040 | J10: =J11 -> 0 | K10: =K11 -> 89.2 | L10: =L11 -> 35.7
A11: Закупка товаров, работ и услуг для обеспечения государственных (муниципальных) нужд | B11: 10 | C11: 0 | D11: 07 | E11: 43040 | F11: 200 | J11: =J12 -> 0 | K11: =K12 -> 89.2 | L11: =L12 -> 35.7
A12: Иные закупки товаров, работ и услуг для обеспечения государственных (муниципальных) нужд | B12: 10 | C12: 0 | D12: 07 | E12: 43040 | F12: 240 | J12: =J13 -> 0 | K12: =K13 -> 89.2 | L12: =L13 -> 35.7
A13: Жилищно-коммунальное хозяйство | B13: 10 | C13: 0 | D13: 07 | E13: 43040 | F13: 240 | G13: 05 | J13: =J14 -> 0 | K13: =K14 -> 89.2 | L13: =L14 -> 35.7
A14: Благоустройство | B14: 10 | C14: 0 | D14: 07 | E14: 43040 | F14: 240 | G14: 05 | H14: 03 | J14: =J15 -> 0 | K14: =K15 -> 89.2 | L14: =L15 -> 35.7
A15: Администрация Константиновского сельского поселения Ромодановского муниципального района Республики Мордовия | B15: 10 | C15: 0 | D15: 07 | E15: 43040 | F15: 240 | G15: 05 | H15: 03 | I15: 914 | J15: 0 | K15: 89.2 | L15: 35.7
A16: =Приложение2!A54 -> Муниципальная программа «Комплексного развития транспортной инфраструктуры Константиновского сельского поселения Ромодановского муниципального района Республики Мордовия на 2017- 2027 года" | B16: 13 | J16: =J17 -> 528 | K16: =K17 -> 295 | L16: =L17 -> 306
A17: Основное мероприятие "Ремонт и содержание дорог в границах поселения, поддержание дорожного полотна в работоспособном состоянии" | B17: 13 | C17: 0 | D17: 01 | J17: =J18 -> 528 | K17: =K18 -> 295 | L17: =L18 -> 306
A18: =Приложение2!A56 -> Иные межбюджетные трансферты на осуществление полномочий по дорожной деятельности в отношении автомобильных дорог местного значения в границах населенных пунктов поселения и обеспечению безопасности дорожного движения на них, включая создание и обеспечение функционирования парковок (парковочных мест), осуществлению муниципального контроля на автомобильном транспорте, городском наземном электрическом транспорте и в дорожном хозяйстве в границах населенных пунктов поселения, организации дорожного движения, а также осуществлению иных полномочий в области использования автомобильных дорог и осуществления дорожной деятельности в соответствии с законодательством Российской Федерации | B18: 13 | C18: 0 | D18: 01 | E18: 9Д184 | J18: =J19 -> 528 | K18: =K19 -> 295 | L18: =L19 -> 306
A19: Закупка товаров, работ и услуг для обеспечения государственных (муниципальных) нужд | B19: 13 | C19: 0 | D19: 01 | E19: 9Д184 | F19: 200 | J19: =J20 -> 528 | K19: =K20 -> 295 | L19: =L20 -> 306
A20: Иные закупки товаров, работ и услуг для обеспечения государственных (муниципальных) нужд | B20: 13 | C20: 0 | D20: 01 | E20: 9Д184 | F20: 240 | J20: =J21 -> 528 | K20: =K21 -> 295 | L20: =L21 -> 306
A21: Национальная экономика | B21: 13 | C21: 0 | D21: 01 | E21: 9Д184 | F21: 240 | G21: 04 | J21: =J22 -> 528 | K21: =K22 -> 295 | L21: =L22 -> 306
A22: =Приложение2!A53 -> Дорожное хозяйство (дорожные фонды) | B22: 13 | C22: 0 | D22: 01 | E22: 9Д184 | F22: 240 | G22: 04 | H22: 09 | J22: =J23 -> 528 | K22: =K23 -> 295 | L22: =L23 -> 306
A23: Администрация Константиновского сельского поселения Ромодановского муниципального района Республики Мордовия | B23: 13 | C23: 0 | D23: 01 | E23: 9Д184 | F23: 240 | G23: 04 | H23: 09 | I23: 914 | J23: =Приложение2!J58 -> 528 | K23: =Приложение2!K58 -> 295 | L23: =Приложение2!L58 -> 306
A24: =Приложение2!A72 -> Муниципальная программа Константиновского сельского поселения Ромодановского муниципального района Республики Мордовия"Комплексное развитие сельских территорий" | B24: 22 | J24: =J25 -> 483.8
A25: =Приложение2!A73 -> Подпрограмма "Благоустпройство сельских территорий" | B25: 22 | C25: 1 | J25: =J26 -> 483.8
A26: =Приложение2!A74 -> Программа создание комфортной среды для проживания граждан,а также развитие эффективной транспортой инфраструкуры. | B26: 22 | C26: 1 | D26: 01 | J26: =J27 -> 483.8
A27: =Приложение2!A75 -> Благоустройство территорий муниципального образрвания (в части изготовления,установки,капитального ремонта и ремонта памятников воинам,погибшим в годы великой Отечественной войны 1941-1945 годов) | B27: 22 | C27: 1 | D27: 01 | E27: S6270 | J27: =J28 -> 483.8
A28: =Приложение2!A76 -> Закупка товаров, работ и услуг для обеспечения государственных (муниципальных) нужд | B28: 22 | C28: 1 | D28: 01 | E28: S6270 | F28: 200 | J28: =J29 -> 483.8
A29: =Приложение2!A77 -> Иные закупки товаров, работ и услуг для обеспечения государственных (муниципальных) нужд | B29: 22 | C29: 1 | D29: 01 | E29: S6270 | F29: 240 | J29: =J30 -> 483.8
A30: =Приложение2!A59 -> Жилищно-коммунальное хозяйство | B30: 22 | C30: 1 | D30: 01 | E30: S6270 | F30: 240 | G30: 05 | J30: =J31 -> 483.8
A31: =Приложение2!A66 -> Благоустройство | B31: 22 | C31: 1 | D31: 01 | E31: S6270 | F31: 240 | G31: 05 | H31: 03 | J31: =J32 -> 483.8
A32: =A23 -> Администрация Константиновского сельского поселения Ромодановского муниципального района Республики Мордовия | B32: 22 | C32: 1 | D32: 01 | E32: S6270 | F32: 240 | G32: 05 | H32: 03 | I32: 914 | J32: =Приложение2!J77 -> 483.8
A33: =Приложение2!A10 -> Обеспечение деятельности Администрации Константиновского сельского поселения Ромодановского муниципального района Республики Мордовия | B33: 65 | J33: =J34+J53+J47 -> 1778.5 | K33: =K34+K53 -> 1116.2 | L33: =L34+L53 -> 1200
A34: Высшее должностное лицо | B34: 65 | C34: 1 | J34: =J35 -> 620.5 | K34: =K35+K41 -> 570.6 | L34: =L35 -> 614.7
A35: Расходы на выплаты по оплате труда высшего должностного лица | B35: 65 | C35: 1 | D35: 00 | E35: 41150 | J35: =J36 -> 620.5 | K35: =K36 -> 538.9 | L35: =L36+L41 -> 614.7
A36: Расходы на выплаты персоналу в целях обеспечения выполнения функций государственными (муниципальными) органами, казенными учреждениями, органами управления государственными внебюджетными фондами | B36: 65 | C36: 1 | D36: 00 | E36: 41150 | F36: 100 | J36: =J37 -> 620.5 | K36: =K37 -> 538.9 | L36: =L37 -> 549.9
A37: Расходы на выплаты персоналу государственных (муниципальных) органов | B37: 65 | C37: 1 | D37: 00 | E37: 41150 | F37: 120 | J37: =J38 -> 620.5 | K37: =K38 -> 538.9 | L37: =L38 -> 549.9
A38: Общегосударственные вопросы | B38: 65 | C38: 1 | D38: 00 | E38: 41150 | F38: 120 | G38: 01 | J38: =J39 -> 620.5 | K38: =K39 -> 538.9 | L38: =L39 -> 549.9
A39: Функционирование высшего должностного лица субъекта Российской Федерации и муниципального образования | B39: 65 | C39: 1 | D39: 00 | E39: 41150 | F39: 120 | G39: 01 | H39: 02 | J39: =J40 -> 620.5 | K39: =K40 -> 538.9 | L39: =L40 -> 549.9
A40: Администрация Константиновского сельского поселения Ромодановского муниципального района Республики Мордовия | B40: 65 | C40: 1 | D40: 00 | E40: 41150 | F40: 120 | G40: 01 | H40: 02 | I40: 914 | J40: =Приложение2!J14 -> 620.5 | K40: =Приложение2!K14 -> 538.9 | L40: =Приложение2!L14 -> 549.9
...

Sheet прил 5
C2: Приложение 5 к решению Совета депутатов Константиновского сельского поселения Ромодановского муниципального района Республики Мордовия «О внесении изменений в решение Совета депутатов Константиновского сельского поселения Ромодановского муниципального района Республики Мордовия от 25 декабря 2025 г № 2 «О бюджете Константиновского сельского поселения Ромодановского муниципального района Республики Мордовия на 2026 год и на плановый период 2027 и 2028 годов» Приложение 6 к решению Совета депутатов Константиновского сельского поселенияРомодановского муниципального района Республики Мордовия «О бюджете Константиновского сельского поселения Ромодановского муниципального района Республики Мордовия на 2026 год и на плановый период 2027 и 2028 годов»
A3: ИСТОЧНИКИ ВНУТРЕННЕГО ФИНАНСИРОВАНИЯ ДЕФИЦИТА БЮДЖЕТА КОНСТАНТИНОВСКОГО СЕЛЬСКОГО ПОСЕЛЕНИЯ РОМОДАНОВСКОГО МУНИЦИПАЛЬНОГО РАЙОНА РЕСПУБЛИКИ МОРДОВИЯ НА 2026 ГОД И НА ПЛАНОВЫЙ ПЕРИОД 2027 и 2028 ГОДОВ
A7: Код | B7: Наименование кода группы, подгруппы, статьи, вида источника финансирования дефицитов бюджетов, кода классификации операций сектора государственного управления, относящихся к источникам финансирования дефицитов бюджетов Российской Федерации | C7: Сумма (тыс. руб.)
C8: 2026 год | D8: 2027 год | E8: 2028 год
A9: 1 | B9: 2 | C9: 3 | D9: 4 | E9: 5
A10: 000 01 00 00 00 00 0000 000 | B10: ИСТОЧНИКИ ВНУТРЕННЕГО ФИНАНСИРОВАНИЯ ДЕФИЦИТОВ БЮДЖЕТОВ | C10: =C11+C22+C14+C18 -> 30.8 | D10: =D11+D22+D14+D18 -> -60.8 | E10: =E11+E22+E14+E18 -> -72.9
A11: 000 01 02 00 00 00 0000 000 | B11: Кредиты кредитных организаций в валюте Российской Федерации | C11: =SUM(C12) -> 0 | D11: =SUM(D12) -> 0 | E11: =SUM(E12) -> 0
A12: 000 01 02 00 00 00 0000 700 | B12: Привлечение кредитов от кредитных организаций в валюте Российской Федерации | C12: =SUM(C13) -> 0 | D12: =SUM(D13) -> 0 | E12: =SUM(E13) -> 0
A13: 000 01 02 00 00 05 0000 710 | B13: Привлечение кредитов от кредитных организаций бюджетами муниципальных районов в валюте Российской Федерации | C13: 0 | D13: 0 | E13: 0
A14: 000 01 03 00 00 00 0000 000 | B14: Бюджетные кредиты из других бюджетов бюджетной системы Российской Федерации | C14: =C15 -> -48.6 | D14: =D15 -> -60.8 | E14: =E15 -> -72.9
A15: 000 01 03 01 00 00 0000 000 | B15: Бюджетные кредиты из других бюджетов бюджетной системы Российской Федерации в валюте Российской Федерации | C15: =C16 -> -48.6 | D15: =D16 -> -60.8 | E15: =E16 -> -72.9
A16: 000 01 03 01 00 00 0000 800 | B16: Погашение бюджетных кредитов, полученных из других бюджетов бюджетной системы Российской Федерации в валюте Российской Федерации | C16: =SUM(C17) -> -48.6 | D16: =SUM(D17) -> -60.8 | E16: =SUM(E17) -> -72.9
A17: 000 01 03 01 00 10 0000 810 | B17: Погашение бюджетами сельских поселений кредитов из других бюджетов бюджетной системы Российской Федерации в валюте Российской Федерации | C17: -48.6 | D17: -60.8 | E17: -72.9
A18: 000 01 06 00 00 00 0000 000 | B18: Иные источники внутреннего финансирования дефицитов бюджетов | C18: =C19 -> 0 | D18: =D19 -> 0 | E18: =E19 -> 0
A19: 000 01 06 05 00 00 0000 000 | B19: Бюджетные кредиты, предоставленные внутри страны в валюте Российской Федерации | C19: =C20 -> 0 | D19: =D20 -> 0 | E19: =E20 -> 0
A20: 000 01 06 05 02 00 0000 600 | B20: Возврат бюджетных кредитов, предоставленных другим бюджетам бюджетной системы Российской Федерации в валюте Российской Федерации | C20: =C21 -> 0 | D20: =D21 -> 0 | E20: =E21 -> 0
A21: 000 01 06 05 02 05 0000 640 | B21: Возврат бюджетных кредитов, предоставленных другим бюджетам бюджетной системы Российской Федерации из бюджетов муниципальных районов в валюте Российской Федерации | C21: 0 | D21: 0 | E21: 0
A22: 000 01 05 00 00 00 0000 000 | B22: Изменения остатков средств на счетах по учету средств бюджета | C22: =C23+C26 -> 79.4 | D22: =D23+D26 -> 0 | E22: =E23+E26 -> 0
A23: 000 01 05 02 00 00 0000 500 | B23: Увеличение прочих остатков средств бюджетов | C23: =SUM(C24) -> -4558 | D23: =D24 -> -1866.9 | E23: =SUM(E24) -> -1987.7
A24: 000 01 05 02 01 00 0000 510 | B24: Увеличение прочих остатков денежных средств бюджетов | C24: =SUM(C25) -> -4558 | D24: =SUM(D25) -> -1866.9 | E24: =SUM(E25) -> -1987.7
A25: 000 01 05 02 01 10 0000 510 | B25: Увеличение прочих остатков денежных средств бюджетов сельских поселений | C25: -4558 | D25: -1866.9 | E25: -1987.7
A26: 000 01 05 02 00 00 0000 600 | B26: Уменьшение прочих остатков средств бюджетов | C26: =SUM(C27) -> 4637.4 | D26: =SUM(D27) -> 1866.9 | E26: =SUM(E27) -> 1987.7
A27: 000 01 05 02 01 00 0000 610 | B27: Уменьшение прочих остатков денежных средств бюджетов | C27: =SUM(C28) -> 4637.4 | D27: =SUM(D28) -> 1866.9 | E27: =SUM(E28) -> 1987.7
A28: 000 01 05 02 01 05 0000 610 | B28: Уменьшение прочих остатков денежных средств бюджетов муниципальных районов | C28: 4637.4 | D28: 1866.9 | E28: 1987.7
A29: 000 01 00 00 00 00 0000 000 | B29: Итого источников внутреннего финансирования дефицита бюджета Константиновского сельского поселения Ромодановского муниципального района Республики Мордовия | C29: 0 | D29: 0 | E29: 0
B30: собственные доходы | C30: 965.5 | D30: 705 | E30: 729.9

Sheet прил6
D3: Приложение 6 к решению Совета депутатов Константиновского сельского поселения Ромодановского муниципального района Республики Мордовия «О внесении изменений в решение Совета депутатов Константиновского сельского поселения Ромодановского муниципального района Республики Мордовия от 25 декабря 2025 г № 2 «О бюджете Константиновского сельского поселения Ромодановского муниципального района Республики Мордовия на 2026 год и на плановый период 2027 и 2028 годов» Приложение 7 к решению Совета депутатов Константиновского сельского поселения Ромодановского муниципального района Республики Мордовия «О бюджете Константиновского сельского поселения Ромодановского муниципального района Республики Мордовия на 2026 год и на плановый период 2027 и 2028 годов»
A4: ПРОГРАММА МУНИЦИПАЛЬНЫХ ВНУТРЕННИХ ЗАИМСТВОВАНИЙ КОНСТАНТИНОВСКОГО СЕЛЬСКОГО ПОСЕЛЕНИЯ РОМОДАНОВСКОГО МУНИЦИПАЛЬНОГО РАЙОНА РЕСПУБЛИКИ МОРДОВИЯ НА 2026 ГОД И НА ПЛАНОВЫЙ ПЕРИОД 2027 И 2028 ГОДОВ
A8: № п/п | B8: ВИДЫ ЗАИМСТВОВАНИЙ | C8: Сумма (тыс. рублей)
C9: 2026 год | D9: 2027 год | E9: 2028 год
A10: 1 | B10: 2 | C10: 3 | D10: 4 | E10: 5
A11: ВСЕГО
A12: I | B12: Кредиты кредитных организаций в валюте Российской Федерации | C12: =C14 -> 0 | D12: =D14 -> 0 | E12: =E14 -> 0
B13: в том числе
A14: 1 | B14: Объем привлечения
A15: 2 | B15: Объем средств, направляемых на погашение основной суммы долга
A16: 11 | B16: Бюджетные кредиты от других бюджетов бюджетной системы Российской Федерации | C16: =C19 -> -48.6 | D16: =D19 -> -60.8 | E16: =E19 -> -72.9
B17: в том числе
A18: 1 | B18: Объем привлечения
A19: 2 | B19: Объем средств, направляемых на погашение основной суммы долга | C19: ='прил 5'!C17 -> -48.6 | D19: ='прил 5'!D17 -> -60.8 | E19: ='прил 5'!E17 -> -72.9
B20: ВСЕГО | C20: =C14+C19 -> -48.6 | D20: =D14+D19 -> -60.8 | E20: =E14+E19 -> -72.9
